BEGIN:VCALENDAR
VERSION:2.0
PRODID:-//Archaeological Institute of America - ECPv6.15.20//NONSGML v1.0//EN
CALSCALE:GREGORIAN
METHOD:PUBLISH
X-ORIGINAL-URL:https://www.archaeological.org
X-WR-CALDESC:Events for Archaeological Institute of America
REFRESH-INTERVAL;VALUE=DURATION:PT1H
X-Robots-Tag:noindex
X-PUBLISHED-TTL:PT1H
BEGIN:VTIMEZONE
TZID:America/New_York
BEGIN:DAYLIGHT
TZOFFSETFROM:-0500
TZOFFSETTO:-0400
TZNAME:EDT
DTSTART:20230312T070000
END:DAYLIGHT
BEGIN:STANDARD
TZOFFSETFROM:-0400
TZOFFSETTO:-0500
TZNAME:EST
DTSTART:20231105T060000
END:STANDARD
BEGIN:DAYLIGHT
TZOFFSETFROM:-0500
TZOFFSETTO:-0400
TZNAME:EDT
DTSTART:20240310T070000
END:DAYLIGHT
BEGIN:STANDARD
TZOFFSETFROM:-0400
TZOFFSETTO:-0500
TZNAME:EST
DTSTART:20241103T060000
END:STANDARD
BEGIN:DAYLIGHT
TZOFFSETFROM:-0500
TZOFFSETTO:-0400
TZNAME:EDT
DTSTART:20250309T070000
END:DAYLIGHT
BEGIN:STANDARD
TZOFFSETFROM:-0400
TZOFFSETTO:-0500
TZNAME:EST
DTSTART:20251102T060000
END:STANDARD
END:VTIMEZONE
BEGIN:VEVENT
DTSTART;VALUE=DATE:20240909
DTEND;VALUE=DATE:20240925
DTSTAMP:20260422T133818
CREATED:20231025T135937Z
LAST-MODIFIED:20231025T135937Z
UID:10006591-1725840000-1727222399@www.archaeological.org
SUMMARY:Peru: Ancient Cultures of the Coast & Andes
DESCRIPTION:Travel and learn with anthropological archaeologist Dr. Gabriela Cervantes- Quequezana. She has done extensive field research through survey and excavations in several regions of Peru\, including the north\, south\, coast\, and highlands. Through illustrated lectures and informal discussions\, she will provide an understanding of the numerous ancient Peruvian societies whose sites we visit\, and the complex processes of adaption they each made in the many different ecological regions of Peru. This custom-designed\, 15-night itinerary is carefully paced with three nights each in Cuzco\, Chiclayo\, and Urubamba’s Sacred Valley; plus two nights each in Machu Picchu Pueblo\, Lima\, and Trujillo. \nHighlights include: \n– Gabriela Cervantes-Quequezana plus a professional tour manager and local guides will provide insights to spectacular archaeological sites from Peru’s many layers of ancient civilizations\, plus anthropological insights to the\ncountry’s diverse cultural traditions and ecosystems.\n– Four of your six hotels are luxurious and the other two offer generous comfort.\n– Enjoy in-depth explorations of many of the greatest archaeological sites in Peru: pyramids\, temples\, royal tombs\, and colonial churches; plus splendid museum collections.\n– Peruvian cuisine is world renowned\, and you will enjoy many special meals. \nTHIS TOUR IS ACTIVE and requires an elevated level of fitness: Must be able to walk three or more miles per day on mostly uneven terrain\, and up and down inclines and steps. Please see the “What to Expect” section of the brochure for more details.
URL:https://www.archaeological.org/event/peru-ancient-cultures-of-the-coast-andes-2/
CATEGORIES:AIA Tours / Travel Program
ATTACH;FMTTYPE=image/png:https://www.archaeological.org/wp-content/uploads/2023/10/Peru9-24coverflow-1.png
END:VEVENT
END:VCALENDAR