BEGIN:VCALENDAR
VERSION:2.0
PRODID:-//Archaeological Institute of America - ECPv6.15.20//NONSGML v1.0//EN
CALSCALE:GREGORIAN
METHOD:PUBLISH
X-ORIGINAL-URL:https://www.archaeological.org
X-WR-CALDESC:Events for Archaeological Institute of America
REFRESH-INTERVAL;VALUE=DURATION:PT1H
X-Robots-Tag:noindex
X-PUBLISHED-TTL:PT1H
BEGIN:VTIMEZONE
TZID:America/New_York
BEGIN:DAYLIGHT
TZOFFSETFROM:-0500
TZOFFSETTO:-0400
TZNAME:EDT
DTSTART:20220313T070000
END:DAYLIGHT
BEGIN:STANDARD
TZOFFSETFROM:-0400
TZOFFSETTO:-0500
TZNAME:EST
DTSTART:20221106T060000
END:STANDARD
BEGIN:DAYLIGHT
TZOFFSETFROM:-0500
TZOFFSETTO:-0400
TZNAME:EDT
DTSTART:20230312T070000
END:DAYLIGHT
BEGIN:STANDARD
TZOFFSETFROM:-0400
TZOFFSETTO:-0500
TZNAME:EST
DTSTART:20231105T060000
END:STANDARD
BEGIN:DAYLIGHT
TZOFFSETFROM:-0500
TZOFFSETTO:-0400
TZNAME:EDT
DTSTART:20240310T070000
END:DAYLIGHT
BEGIN:STANDARD
TZOFFSETFROM:-0400
TZOFFSETTO:-0500
TZNAME:EST
DTSTART:20241103T060000
END:STANDARD
END:VTIMEZONE
BEGIN:VEVENT
DTSTART;VALUE=DATE:20231021
DTEND;VALUE=DATE:20231022
DTSTAMP:20260421T055352
CREATED:20231004T144539Z
LAST-MODIFIED:20231023T132232Z
UID:10007018-1697846400-1697932799@www.archaeological.org
SUMMARY:International Archaeology Day
DESCRIPTION:Join us in a thrilling celebration of International Day of Archaeology 21 October 2023\, where we embark on an intriguing journey beneath the earth’s surface to unravel the mysteries hidden beneath an unmarked grave. This unique event combines the spirit of discovery with cutting-edge archaeological geophysical techniques\, offering a fascinating glimpse into the past. \nAs we gather on this auspicious day\, our expert Archaeologists and Geophysical Scientists will lead the way\, utilizing state-of-the-art technology to explore what lies beneath the enigmatic grave. Ground-penetrating radar\, magnetometry\, and resistivity surveys will be employed to create intricate maps of the subterranean landscape\, revealing long-forgotten secrets. \nParticipants will have the rare opportunity to witness the excavation process\, providing a firsthand look at the delicate art of uncovering history. Archaeological geophysical experts will explain the significance of each discovery and its potential historical context\, bringing the past to life before our very eyes. \nThis event is not only a celebration of our shared human heritage but also an educational experience that showcases the importance of preserving and understanding our history. Join us in honoring the International Day of Archaeology and delve into the mysteries that lie beneath\, connecting us to our ancestors and the stories they left behind. It’s a day of discovery\, learning\, and awe-inspiring revelations. Don’t miss this chance to be a part of history in the making.
URL:https://www.archaeological.org/event/international-archaeology-day-26/
LOCATION:Webbs Institute\, Nairobi\, 3rd Floor\,Coffee Plaza\,Exchange Lane\,Haille Selassie Avenue\, Nairobi\, -\, -\, Kenya
CATEGORIES:Conference,International Archaeology Day
ATTACH;FMTTYPE=image/jpeg:https://www.archaeological.org/wp-content/uploads/2023/09/Publication1.jpg
ORGANIZER;CN="Kenya Society of Geophysical Professionals":MAILTO:kesocgeoph@gmail.com
GEO:46.227638;2.213749
X-APPLE-STRUCTURED-LOCATION;VALUE=URI;X-ADDRESS=Webbs Institute Nairobi 3rd FloorCoffee PlazaExchange LaneHaille Selassie Avenue Nairobi - - Kenya;X-APPLE-RADIUS=500;X-TITLE=3rd Floor\,Coffee Plaza\,Exchange Lane\,Haille Selassie Avenue:geo:2.213749,46.227638
END:VEVENT
BEGIN:VEVENT
DTSTART;TZID=America/New_York:20231026T090000
DTEND;TZID=America/New_York:20231029T170000
DTSTAMP:20260421T055352
CREATED:20230830T134220Z
LAST-MODIFIED:20230919T191420Z
UID:10006955-1698310800-1698598800@www.archaeological.org
SUMMARY:90th Annual Eastern States Archaeology Federation Conference (ESAF)
DESCRIPTION:90th Annual Meeting\, October 26-29\, 2023\, Ocean City\, Maryland.\nConference Fees:\nRegistration: $45/US Dollars\nStudent Registration: $20\nSaturday Banquet (Italian Buffet w/ vegetarian options):\n$55 per person\nBanquet Speaker: Dr. Julia King\nFormat\nThe Annual Meeting will be a hybrid format allowing both in-person and remote presentation and attendance over Zoom. Remote presentations will be pre-recorded. See the ESAF website for format and submission. In-person papers will be presented live
URL:https://www.archaeological.org/event/90th-annual-eastern-states-archaeology-federation-conference-esaf/
LOCATION:Holiday Inn Oceanfront\, 6600 Coastal Highway\, Ocean City\, 21842\, United States
CATEGORIES:Conference,International Archaeology Day
ORGANIZER;CN="Zac Singer":MAILTO:Zachary.Singer@Maryland.Gov
GEO:38.388602;-75.0641262
X-APPLE-STRUCTURED-LOCATION;VALUE=URI;X-ADDRESS=Holiday Inn Oceanfront 6600 Coastal Highway Ocean City 21842 United States;X-APPLE-RADIUS=500;X-TITLE=6600 Coastal Highway:geo:-75.0641262,38.388602
END:VEVENT
END:VCALENDAR