BEGIN:VCALENDAR
VERSION:2.0
PRODID:-//Archaeological Institute of America - ECPv6.15.20//NONSGML v1.0//EN
CALSCALE:GREGORIAN
METHOD:PUBLISH
X-ORIGINAL-URL:https://www.archaeological.org
X-WR-CALDESC:Events for Archaeological Institute of America
REFRESH-INTERVAL;VALUE=DURATION:PT1H
X-Robots-Tag:noindex
X-PUBLISHED-TTL:PT1H
BEGIN:VTIMEZONE
TZID:Europe/Istanbul
BEGIN:STANDARD
TZOFFSETFROM:+0300
TZOFFSETTO:+0300
TZNAME:+03
DTSTART:20230101T000000
END:STANDARD
END:VTIMEZONE
BEGIN:VTIMEZONE
TZID:America/New_York
BEGIN:DAYLIGHT
TZOFFSETFROM:-0500
TZOFFSETTO:-0400
TZNAME:EDT
DTSTART:20230312T070000
END:DAYLIGHT
BEGIN:STANDARD
TZOFFSETFROM:-0400
TZOFFSETTO:-0500
TZNAME:EST
DTSTART:20231105T060000
END:STANDARD
BEGIN:DAYLIGHT
TZOFFSETFROM:-0500
TZOFFSETTO:-0400
TZNAME:EDT
DTSTART:20240310T070000
END:DAYLIGHT
BEGIN:STANDARD
TZOFFSETFROM:-0400
TZOFFSETTO:-0500
TZNAME:EST
DTSTART:20241103T060000
END:STANDARD
BEGIN:DAYLIGHT
TZOFFSETFROM:-0500
TZOFFSETTO:-0400
TZNAME:EDT
DTSTART:20250309T070000
END:DAYLIGHT
BEGIN:STANDARD
TZOFFSETFROM:-0400
TZOFFSETTO:-0500
TZNAME:EST
DTSTART:20251102T060000
END:STANDARD
END:VTIMEZONE
BEGIN:VTIMEZONE
TZID:Africa/Cairo
BEGIN:DAYLIGHT
TZOFFSETFROM:+0200
TZOFFSETTO:+0300
TZNAME:EEST
DTSTART:20230427T220000
END:DAYLIGHT
BEGIN:STANDARD
TZOFFSETFROM:+0300
TZOFFSETTO:+0200
TZNAME:EET
DTSTART:20231026T210000
END:STANDARD
BEGIN:DAYLIGHT
TZOFFSETFROM:+0200
TZOFFSETTO:+0300
TZNAME:EEST
DTSTART:20240425T220000
END:DAYLIGHT
BEGIN:STANDARD
TZOFFSETFROM:+0300
TZOFFSETTO:+0200
TZNAME:EET
DTSTART:20241031T210000
END:STANDARD
BEGIN:DAYLIGHT
TZOFFSETFROM:+0200
TZOFFSETTO:+0300
TZNAME:EEST
DTSTART:20250424T220000
END:DAYLIGHT
BEGIN:STANDARD
TZOFFSETFROM:+0300
TZOFFSETTO:+0200
TZNAME:EET
DTSTART:20251030T210000
END:STANDARD
END:VTIMEZONE
BEGIN:VEVENT
DTSTART;TZID=Europe/Istanbul:20240508T100000
DTEND;TZID=Europe/Istanbul:20240508T160000
DTSTAMP:20260421T225521
CREATED:20240508T160345Z
LAST-MODIFIED:20240508T160345Z
UID:10007103-1715162400-1715184000@www.archaeological.org
SUMMARY:Pithoi in the Archaeology of the Eastern Mediterranean
DESCRIPTION:STUDIES ON PITHOS AS A STORAGE AND BURIAL VESSEL IN THE ANCIENT CLASSICAL AND BYZANTINE WORLD \nZoom details \nhttps://us02web.zoom.us/meeting/register/tZYscO2tqDwrGNRlFl9z_wCGf1LI5IJAJZxJ\nMeeting ID: 821 7456 7120.\nPassword: 118192.
URL:https://www.archaeological.org/event/pithoi-in-the-archaeology-of-the-eastern-mediterranean/
CATEGORIES:Conference
ATTACH;FMTTYPE=image/png:https://www.archaeological.org/wp-content/uploads/2024/05/Pithoi-Poster.png
ORGANIZER;CN="Ergun Lafli":MAILTO:elafli@yahoo.com
END:VEVENT
BEGIN:VEVENT
DTSTART;VALUE=DATE:20240517
DTEND;VALUE=DATE:20240520
DTSTAMP:20260421T225521
CREATED:20240508T160543Z
LAST-MODIFIED:20240508T160543Z
UID:10007104-1715904000-1716163199@www.archaeological.org
SUMMARY:2024 Virtual Annual Meeting - American Research Center in Egypt
DESCRIPTION:2024 ARCE Annual meeting\nVirtual Annual Meeting \nIf you couldn’t join us at the ARCE Annual Meeting in Pittsburgh\, we hope you will join us for the ARCE Virtual Annual Meeting. The virtual meeting will be held on May 17-19\, 2024\, via Zoom. You’ll have the opportunity to view live presentations from leading scholars on topics related to Egyptian history\, recent fieldwork\, technological advances\, and much more.\nRegister today for just $125: https://secure.everyaction.com/aWdvBVdR_E2GKc1ymV3TxA2 \nVirtual registrants will have access to our live virtual tour of Journey Through Time: Exploring the Coptic Museum’s Rich Legacy with Mary Missak on May 18th at 12 PM EST. \nView the *Virtual Schedule:\nhttps://click.everyaction.com/k/84125485/470542812/-93060125?nvep=ew0KICAiVGVuYW50VXJpIjogIm5ncHZhbjovL3Zhbi9FQS9FQTAwMi8xLzYyNjQ1IiwNCiAgIkRpc3RyaWJ1dGlvblVuaXF1ZUlkIjogIjgxY2I1ZDdhLWUwMDctZWYxMS05NmYzLTdjMWU1MjFiMDdmOSIsDQogICJFbWFpbEFkZHJlc3MiOiAiZ2xlbm5ybWV5ZXJAZ21haWwuY29tIg0KfQ%3D%3D&hmac=_zIkYa9Eu79YnV8V6VyqqUvBy1U9CToZmvXLG24s_vY=&emci=6a563f29-6a02-ef11-96f3-7c1e521b07f9&emdi=81cb5d7a-e007-ef11-96f3-7c1e521b07f9&ceid=1666070\nMore information will be sent to speakers and registrants soon. \nFor assistance and inquiries\, please email AMHelp@arce.org. Fee waivers are available for student members and early career scholars in financial need. \n*Schedule Subject to change \nAmerican Research Center in Egypt\n909 N Washington Street\, Suite 320 | Alexandria\, VA 22314\nwww.arce.org
URL:https://www.archaeological.org/event/2024-virtual-annual-meeting-american-research-center-in-egypt/
CATEGORIES:Conference
ATTACH;FMTTYPE=image/jpeg:https://www.archaeological.org/wp-content/uploads/2024/05/PNxG0CsO_400x400.jpg
ORGANIZER;CN="Glenn Meyer":MAILTO:arcencZoom@gmail.com
END:VEVENT
BEGIN:VEVENT
DTSTART;TZID=Africa/Cairo:20240528T090000
DTEND;TZID=Africa/Cairo:20240530T140000
DTSTAMP:20260421T225521
CREATED:20231004T144623Z
LAST-MODIFIED:20231004T144623Z
UID:10007019-1716886800-1717077600@www.archaeological.org
SUMMARY:Cultural Sustainable Tourism (CST) - 6th Edition
DESCRIPTION:The conference focuses on sustainability in cultural tourism\, addressing heritage preservation\, environmental impact\, economic impacts\, digital integration\, social development\, green space\, health promotion\, and responsible waste management.\nhttps://bit.ly/44RomQW
URL:https://www.archaeological.org/event/cultural-sustainable-tourism-cst-6th-edition/
LOCATION:online\, Portugal\, Maia\, AK\, 0000\, Egypt
CATEGORIES:Conference
ATTACH;FMTTYPE=image/jpeg:https://www.archaeological.org/wp-content/uploads/2023/10/Post-CST.jpg
ORGANIZER;CN="Nermin Kamel":MAILTO:nerminkamel27@gmail.com
GEO:51.5073509;-0.1277583
X-APPLE-STRUCTURED-LOCATION;VALUE=URI;X-ADDRESS=online Portugal Maia AK 0000 Egypt;X-APPLE-RADIUS=500;X-TITLE=Portugal:geo:-0.1277583,51.5073509
END:VEVENT
END:VCALENDAR