BEGIN:VCALENDAR
VERSION:2.0
PRODID:-//Archaeological Institute of America - ECPv6.15.20//NONSGML v1.0//EN
CALSCALE:GREGORIAN
METHOD:PUBLISH
X-WR-CALNAME:Archaeological Institute of America
X-ORIGINAL-URL:https://www.archaeological.org
X-WR-CALDESC:Events for Archaeological Institute of America
REFRESH-INTERVAL;VALUE=DURATION:PT1H
X-Robots-Tag:noindex
X-PUBLISHED-TTL:PT1H
BEGIN:VTIMEZONE
TZID:America/New_York
BEGIN:DAYLIGHT
TZOFFSETFROM:-0500
TZOFFSETTO:-0400
TZNAME:EDT
DTSTART:20230312T070000
END:DAYLIGHT
BEGIN:STANDARD
TZOFFSETFROM:-0400
TZOFFSETTO:-0500
TZNAME:EST
DTSTART:20231105T060000
END:STANDARD
BEGIN:DAYLIGHT
TZOFFSETFROM:-0500
TZOFFSETTO:-0400
TZNAME:EDT
DTSTART:20240310T070000
END:DAYLIGHT
BEGIN:STANDARD
TZOFFSETFROM:-0400
TZOFFSETTO:-0500
TZNAME:EST
DTSTART:20241103T060000
END:STANDARD
BEGIN:DAYLIGHT
TZOFFSETFROM:-0500
TZOFFSETTO:-0400
TZNAME:EDT
DTSTART:20250309T070000
END:DAYLIGHT
BEGIN:STANDARD
TZOFFSETFROM:-0400
TZOFFSETTO:-0500
TZNAME:EST
DTSTART:20251102T060000
END:STANDARD
END:VTIMEZONE
BEGIN:VTIMEZONE
TZID:America/Chicago
BEGIN:DAYLIGHT
TZOFFSETFROM:-0600
TZOFFSETTO:-0500
TZNAME:CDT
DTSTART:20230312T080000
END:DAYLIGHT
BEGIN:STANDARD
TZOFFSETFROM:-0500
TZOFFSETTO:-0600
TZNAME:CST
DTSTART:20231105T070000
END:STANDARD
BEGIN:DAYLIGHT
TZOFFSETFROM:-0600
TZOFFSETTO:-0500
TZNAME:CDT
DTSTART:20240310T080000
END:DAYLIGHT
BEGIN:STANDARD
TZOFFSETFROM:-0500
TZOFFSETTO:-0600
TZNAME:CST
DTSTART:20241103T070000
END:STANDARD
BEGIN:DAYLIGHT
TZOFFSETFROM:-0600
TZOFFSETTO:-0500
TZNAME:CDT
DTSTART:20250309T080000
END:DAYLIGHT
BEGIN:STANDARD
TZOFFSETFROM:-0500
TZOFFSETTO:-0600
TZNAME:CST
DTSTART:20251102T070000
END:STANDARD
END:VTIMEZONE
BEGIN:VTIMEZONE
TZID:America/Sao_Paulo
BEGIN:STANDARD
TZOFFSETFROM:-0300
TZOFFSETTO:-0300
TZNAME:-03
DTSTART:20230101T000000
END:STANDARD
END:VTIMEZONE
BEGIN:VEVENT
DTSTART;TZID=America/New_York:20241016T080000
DTEND;TZID=America/New_York:20241019T170000
DTSTAMP:20260423T185644
CREATED:20240528T155055Z
LAST-MODIFIED:20240710T194210Z
UID:10007114-1729065600-1729357200@www.archaeological.org
SUMMARY:Midwest Archaeological Conference
DESCRIPTION:The 2024 Midwest Archaeological Conference (MAC) will be held in Milwaukee\, Wisconsin! This year’s theme for the conference is Inspiring Students. A series of programs\, workshops\, and tours are being designed to engage the next generation of archaeologists. The Wisconsin Underwater Archaeology Association will hold their annual Symposium at the MAC conference on Saturday Oct. 19 – International Archaeology Day!
URL:https://www.archaeological.org/event/midwest-archaeological-conference/
LOCATION:Hyatt Hotel & Conference Center\, West Kilbourn Avenue\, Milwaukee\, Wisconsin\, 53203\, United States
CATEGORIES:Conference,International Archaeology Day
ATTACH;FMTTYPE=image/jpeg:https://www.archaeological.org/wp-content/uploads/2024/05/MAClogo_2023.jpg
ORGANIZER;CN="Brian Nicholls":MAILTO:nicholls@uwm.edu
GEO:43.0407021;-87.9150164
X-APPLE-STRUCTURED-LOCATION;VALUE=URI;X-ADDRESS=Hyatt Hotel & Conference Center West Kilbourn Avenue Milwaukee Wisconsin 53203 United States;X-APPLE-RADIUS=500;X-TITLE=West Kilbourn Avenue:geo:-87.9150164,43.0407021
END:VEVENT
BEGIN:VEVENT
DTSTART;VALUE=DATE:20241019
DTEND;VALUE=DATE:20241020
DTSTAMP:20260423T185644
CREATED:20240528T155324Z
LAST-MODIFIED:20240528T155324Z
UID:10007116-1729296000-1729382399@www.archaeological.org
SUMMARY:Wisconsin Underwater Archeology Association Fall Symposium
DESCRIPTION:The 18th Annual Wisconsin Underwater Archeology Association Fall Symposium is being held in conjunction with the Midwest Archeology Conference at the University of Wisconsin at Milwaukee on October 19th\, 2024. The Symposium featured a review of the Association’s 2024 fieldwork and will include details of new historic shipwreck discoveries in the Great Lakes. Additionally\, presentations about the Wisconsin Historical Society Maritime Archeology program’s 2024 season fieldwork and the new Wisconsin Shipwreck Coast National Marine Sanctuary’s 2024 season fieldwork will be given. \nFounded in 1990\, WUAA is a 501c3 citizen science and community history organization devoted to preserving Wisconsin’s submerged history.
URL:https://www.archaeological.org/event/wisconsin-underwater-archeology-association-fall-symposium/
LOCATION:University of Wisconsin-Milwaukee\, Milwaukee\, Wisconsin\, United States
CATEGORIES:Conference
ATTACH;FMTTYPE=image/jpeg:https://www.archaeological.org/wp-content/uploads/2024/05/wuaa.jpg
ORGANIZER;CN="Brendon Baillod":MAILTO:baillod@shipwreck.info
GEO:43.0389025;-87.9064736
END:VEVENT
BEGIN:VEVENT
DTSTART;VALUE=DATE:20241019
DTEND;VALUE=DATE:20241021
DTSTAMP:20260423T185644
CREATED:20240815T205028Z
LAST-MODIFIED:20240815T205028Z
UID:10007132-1729296000-1729468799@www.archaeological.org
SUMMARY:La Arquelogía y la evolución de los Mitos en Las Américas.
DESCRIPTION:Se describirá en una Conferencia como aportó la Arqueología a comprender en parte la evolución de los Mitos en las Américas. Posteriormente se desarrollará un “Taller del Fuego” en Parque de Estudio y Reflexión Punta de Vacas.
URL:https://www.archaeological.org/event/la-arquelogia-y-la-evolucion-de-los-mitos-en-las-americas/
LOCATION:Parque Punta de Vacas Study Center\, Las Heras\, Mendoza\, Argentina
CATEGORIES:Conference,International Archaeology Day,Workshop
GEO:-32.8518022;-68.8412763
END:VEVENT
END:VCALENDAR