BEGIN:VCALENDAR
VERSION:2.0
PRODID:-//Archaeological Institute of America - ECPv6.15.20//NONSGML v1.0//EN
CALSCALE:GREGORIAN
METHOD:PUBLISH
X-ORIGINAL-URL:https://www.archaeological.org
X-WR-CALDESC:Events for Archaeological Institute of America
REFRESH-INTERVAL;VALUE=DURATION:PT1H
X-Robots-Tag:noindex
X-PUBLISHED-TTL:PT1H
BEGIN:VTIMEZONE
TZID:America/New_York
BEGIN:DAYLIGHT
TZOFFSETFROM:-0500
TZOFFSETTO:-0400
TZNAME:EDT
DTSTART:20230312T070000
END:DAYLIGHT
BEGIN:STANDARD
TZOFFSETFROM:-0400
TZOFFSETTO:-0500
TZNAME:EST
DTSTART:20231105T060000
END:STANDARD
BEGIN:DAYLIGHT
TZOFFSETFROM:-0500
TZOFFSETTO:-0400
TZNAME:EDT
DTSTART:20240310T070000
END:DAYLIGHT
BEGIN:STANDARD
TZOFFSETFROM:-0400
TZOFFSETTO:-0500
TZNAME:EST
DTSTART:20241103T060000
END:STANDARD
BEGIN:DAYLIGHT
TZOFFSETFROM:-0500
TZOFFSETTO:-0400
TZNAME:EDT
DTSTART:20250309T070000
END:DAYLIGHT
BEGIN:STANDARD
TZOFFSETFROM:-0400
TZOFFSETTO:-0500
TZNAME:EST
DTSTART:20251102T060000
END:STANDARD
END:VTIMEZONE
BEGIN:VEVENT
DTSTART;TZID=America/New_York:20240229T080000
DTEND;TZID=America/New_York:20240229T170000
DTSTAMP:20260421T164649
CREATED:20240207T151347Z
LAST-MODIFIED:20240227T195910Z
UID:10007071-1709193600-1709226000@www.archaeological.org
SUMMARY:Unmarked Grave Search of Dedan Kimathi Utilizing Archaeological Geophysical Techniques
DESCRIPTION:The “Unmarked Grave Search of Dedan Kimathi Utilizing Archaeological Geophysical Techniques” workshop\, set to take place at the prestigious Louise Leakey Auditorium on February 29th\, 2024\, is a groundbreaking event aimed at leveraging advanced geophysical methods to uncover the final resting place of one of Kenya’s most revered freedom fighters\, Field Marshal Dedan Kimathi. \nThis workshop represents a collaborative effort between leading experts in the fields of geophysics and archaeology\, united in their quest to shed light on this historical mystery. Through a combination of theoretical discussions\, practical demonstrations\, and hands-on exercises\, participants will delve into the intricacies of archaeological geophysical techniques and their application in locating unmarked graves. \nThe significance of this endeavor cannot be overstated. Field Marshal Dedan Kimathi played a pivotal role in Kenya’s struggle for independence\, symbolizing the resilience and determination of the Kenyan people in the face of oppression. Yet\, the exact whereabouts of his grave remain unknown\, leaving an important chapter of Kenya’s history shrouded in uncertainty. \nBy harnessing the power of cutting-edge geophysical technologies such as ground-penetrating radar\, electromagnetic surveys\, and resistivity imaging\, participants will embark on a journey to unravel this mystery and honor the legacy of Dedan Kimathi. Under the guidance of seasoned experts\, attendees will learn how these techniques can penetrate beneath the earth’s surface\, revealing hidden structures and anomalies that may indicate the presence of a gravesite. \nMoreover\, this workshop serves as a testament to the enduring spirit of collaboration and innovation within the scientific community. By bringing together professionals from diverse backgrounds\, it fosters an environment of interdisciplinary exchange and collective problem-solving. Through shared knowledge and expertise\, participants will explore new avenues for advancing the field of archaeological geophysics while paying homage to Kenya’s rich cultural heritage. \nAs participants engage in lively discussions and hands-on activities\, they will gain valuable insights into the challenges and opportunities inherent in the search for unmarked graves. Ultimately\, the “Unmarked Grave Search of Dedan Kimathi Utilizing Archaeological Geophysical Techniques” workshop represents a significant step forward in the quest to uncover the truth behind this historical enigma and ensure that the legacy of Field Marshal Dedan Kimathi endures for generations to come.
URL:https://www.archaeological.org/event/unmarked-grave-search-of-dedan-kimathi-utilizing-archaeological-geophysical-techniques-to-be-at-venue-louice-leakey-auditorium-on-29th-february-2024/
LOCATION:LOUICE LEAKEY AUDITORIUM\, Address: Kipande Rd\, Nairobi\, Nairobi\, county of nairobi\, 40658- 00100. Nairobi\,Kenya.\, Kenya
CATEGORIES:Conference
ATTACH;FMTTYPE=image/jpeg:https://www.archaeological.org/wp-content/uploads/2024/02/poster.jpg
ORGANIZER;CN="kenya societ of geophysical professionals":MAILTO:kesocgeoph@gmail.com
GEO:-1.3106691;36.8250274
X-APPLE-STRUCTURED-LOCATION;VALUE=URI;X-ADDRESS=LOUICE LEAKEY AUDITORIUM Address: Kipande Rd Nairobi Nairobi county of nairobi 40658- 00100. NairobiKenya. Kenya;X-APPLE-RADIUS=500;X-TITLE=Address: Kipande Rd\, Nairobi:geo:36.8250274,-1.3106691
END:VEVENT
BEGIN:VEVENT
DTSTART;TZID=America/New_York:20240229T080000
DTEND;TZID=America/New_York:20240229T170000
DTSTAMP:20260421T164649
CREATED:20240216T161659Z
LAST-MODIFIED:20240216T161659Z
UID:10007075-1709193600-1709226000@www.archaeological.org
SUMMARY:Unmarked Grave Search of Dedan Kimathi Utilizing Archeological Geophysical Techniques
DESCRIPTION:The “Unmarked Grave Search of Dedan Kimathi Utilizing Archaeological Geophysical Techniques” workshop\, set to take place at the prestigious Louise Leakey Auditorium on February 29th\, 2024\, is a groundbreaking event aimed at leveraging advanced geophysical methods to uncover the final resting place of one of Kenya’s most revered freedom fighters\, Field Marshal Dedan Kimathi. \nThis workshop represents a collaborative effort between leading experts in the fields of geophysics and archaeology\, united in their quest to shed light on this historical mystery. Through a combination of theoretical discussions\, practical demonstrations\, and hands-on exercises\, participants will delve into the intricacies of archaeological geophysical techniques and their application in locating unmarked graves. \nThe significance of this endeavor cannot be overstated. Field Marshal Dedan Kimathi played a pivotal role in Kenya’s struggle for independence\, symbolizing the resilience and determination of the Kenyan people in the face of oppression. Yet\, the exact whereabouts of his grave remain unknown\, leaving an important chapter of Kenya’s history shrouded in uncertainty. \nBy harnessing the power of cutting-edge geophysical technologies such as ground-penetrating radar\, electromagnetic surveys\, and resistivity imaging\, participants will embark on a journey to unravel this mystery and honor the legacy of Dedan Kimathi. Under the guidance of seasoned experts\, attendees will learn how these techniques can penetrate beneath the earth’s surface\, revealing hidden structures and anomalies that may indicate the presence of a gravesite. \nMoreover\, this workshop serves as a testament to the enduring spirit of collaboration and innovation within the scientific community. By bringing together professionals from diverse backgrounds\, it fosters an environment of interdisciplinary exchange and collective problem-solving. Through shared knowledge and expertise\, participants will explore new avenues for advancing the field of archaeological geophysics while paying homage to Kenya’s rich cultural heritage. \nAs participants engage in lively discussions and hands-on activities\, they will gain valuable insights into the challenges and opportunities inherent in the search for unmarked graves. Ultimately\, the “Unmarked Grave Search of Dedan Kimathi Utilizing Archaeological Geophysical Techniques” workshop represents a significant step forward in the quest to uncover the truth behind this historical enigma and ensure that the legacy of Field Marshal Dedan Kimathi endures for generations to come.
URL:https://www.archaeological.org/event/unmarked-grave-search-of-dedan-kimathi-utilizing-archeological-geophysical-techniques/
LOCATION:LOUICE LEAKEY AUDITORIUM\, Address: Kipande Rd\, Nairobi\, Nairobi\, county of nairobi\, 40658- 00100. Nairobi\,Kenya.\, Kenya
CATEGORIES:Conference
ORGANIZER;CN="kenya societ of geophysical professionals":MAILTO:kesocgeoph@gmail.com
GEO:-1.3106691;36.8250274
X-APPLE-STRUCTURED-LOCATION;VALUE=URI;X-ADDRESS=LOUICE LEAKEY AUDITORIUM Address: Kipande Rd Nairobi Nairobi county of nairobi 40658- 00100. NairobiKenya. Kenya;X-APPLE-RADIUS=500;X-TITLE=Address: Kipande Rd\, Nairobi:geo:36.8250274,-1.3106691
END:VEVENT
END:VCALENDAR