BEGIN:VCALENDAR
VERSION:2.0
PRODID:-//Archaeological Institute of America - ECPv6.15.20//NONSGML v1.0//EN
CALSCALE:GREGORIAN
METHOD:PUBLISH
X-ORIGINAL-URL:https://www.archaeological.org
X-WR-CALDESC:Events for Archaeological Institute of America
REFRESH-INTERVAL;VALUE=DURATION:PT1H
X-Robots-Tag:noindex
X-PUBLISHED-TTL:PT1H
BEGIN:VTIMEZONE
TZID:Europe/Istanbul
BEGIN:STANDARD
TZOFFSETFROM:+0300
TZOFFSETTO:+0300
TZNAME:+03
DTSTART:20230101T000000
END:STANDARD
END:VTIMEZONE
BEGIN:VEVENT
DTSTART;TZID=Europe/Istanbul:20240508T100000
DTEND;TZID=Europe/Istanbul:20240508T160000
DTSTAMP:20260421T182228
CREATED:20240508T160345Z
LAST-MODIFIED:20240508T160345Z
UID:10007103-1715162400-1715184000@www.archaeological.org
SUMMARY:Pithoi in the Archaeology of the Eastern Mediterranean
DESCRIPTION:STUDIES ON PITHOS AS A STORAGE AND BURIAL VESSEL IN THE ANCIENT CLASSICAL AND BYZANTINE WORLD \nZoom details \nhttps://us02web.zoom.us/meeting/register/tZYscO2tqDwrGNRlFl9z_wCGf1LI5IJAJZxJ\nMeeting ID: 821 7456 7120.\nPassword: 118192.
URL:https://www.archaeological.org/event/pithoi-in-the-archaeology-of-the-eastern-mediterranean/
CATEGORIES:Conference
ATTACH;FMTTYPE=image/png:https://www.archaeological.org/wp-content/uploads/2024/05/Pithoi-Poster.png
ORGANIZER;CN="Ergun Lafli":MAILTO:elafli@yahoo.com
END:VEVENT
END:VCALENDAR