BEGIN:VCALENDAR
VERSION:2.0
PRODID:-//Archaeological Institute of America - ECPv6.15.20//NONSGML v1.0//EN
CALSCALE:GREGORIAN
METHOD:PUBLISH
X-ORIGINAL-URL:https://www.archaeological.org
X-WR-CALDESC:Events for Archaeological Institute of America
REFRESH-INTERVAL;VALUE=DURATION:PT1H
X-Robots-Tag:noindex
X-PUBLISHED-TTL:PT1H
BEGIN:VTIMEZONE
TZID:America/New_York
BEGIN:DAYLIGHT
TZOFFSETFROM:-0500
TZOFFSETTO:-0400
TZNAME:EDT
DTSTART:20230312T070000
END:DAYLIGHT
BEGIN:STANDARD
TZOFFSETFROM:-0400
TZOFFSETTO:-0500
TZNAME:EST
DTSTART:20231105T060000
END:STANDARD
BEGIN:DAYLIGHT
TZOFFSETFROM:-0500
TZOFFSETTO:-0400
TZNAME:EDT
DTSTART:20240310T070000
END:DAYLIGHT
BEGIN:STANDARD
TZOFFSETFROM:-0400
TZOFFSETTO:-0500
TZNAME:EST
DTSTART:20241103T060000
END:STANDARD
BEGIN:DAYLIGHT
TZOFFSETFROM:-0500
TZOFFSETTO:-0400
TZNAME:EDT
DTSTART:20250309T070000
END:DAYLIGHT
BEGIN:STANDARD
TZOFFSETFROM:-0400
TZOFFSETTO:-0500
TZNAME:EST
DTSTART:20251102T060000
END:STANDARD
END:VTIMEZONE
BEGIN:VEVENT
DTSTART;TZID=America/New_York:20240920T140000
DTEND;TZID=America/New_York:20240921T160000
DTSTAMP:20260423T062557
CREATED:20240911T143919Z
LAST-MODIFIED:20240911T143919Z
UID:10007185-1726840800-1726934400@www.archaeological.org
SUMMARY:6th Annual Missouri Egyptological Symposium
DESCRIPTION:Come join us for the 6th Annual Missouri Egyptological Symposium\, co-hosted by the American Research Center in Egypt – Missouri Chapter (ARCE-MO) and the Archaeological Institute of America – Central Missouri Chapter. Eight presenters will discuss their latest research on aspects of ancient Egyptian Archaeology\, with a keynote address by Dr. Didi El-Behaedi (University of Missouri – Columbia).\nAll paper presentations will be held in person on Saturday\, September 21st in Swallow Hall 101\, at the University of Missouri – Columbia. The evening before\, on September 20th\, there will be a pre-conference social event at Hexagon Alley board game cafe in Columbia\, with appetizers provided. Here you’ll have the chance to play a variety of board games inspired by ancient Egypt!\nFree and open to the public!
URL:https://www.archaeological.org/event/6th-annual-missouri-egyptological-symposium/
CATEGORIES:Conference
ATTACH;FMTTYPE=image/png:https://www.archaeological.org/wp-content/uploads/2024/09/MOEgypt6-Flyer_Registration.png
ORGANIZER;CN="Emma Buckingham":MAILTO:ebuckin@gmail.com
END:VEVENT
END:VCALENDAR