BEGIN:VCALENDAR
VERSION:2.0
PRODID:-//Archaeological Institute of America - ECPv6.15.20//NONSGML v1.0//EN
CALSCALE:GREGORIAN
METHOD:PUBLISH
X-WR-CALNAME:Archaeological Institute of America
X-ORIGINAL-URL:https://www.archaeological.org
X-WR-CALDESC:Events for Archaeological Institute of America
REFRESH-INTERVAL;VALUE=DURATION:PT1H
X-Robots-Tag:noindex
X-PUBLISHED-TTL:PT1H
BEGIN:VTIMEZONE
TZID:America/Sao_Paulo
BEGIN:STANDARD
TZOFFSETFROM:-0300
TZOFFSETTO:-0300
TZNAME:-03
DTSTART:20230101T000000
END:STANDARD
END:VTIMEZONE
BEGIN:VEVENT
DTSTART;VALUE=DATE:20241019
DTEND;VALUE=DATE:20241021
DTSTAMP:20260424T022559
CREATED:20240815T205028Z
LAST-MODIFIED:20240815T205028Z
UID:10007132-1729296000-1729468799@www.archaeological.org
SUMMARY:La Arquelogía y la evolución de los Mitos en Las Américas.
DESCRIPTION:Se describirá en una Conferencia como aportó la Arqueología a comprender en parte la evolución de los Mitos en las Américas. Posteriormente se desarrollará un “Taller del Fuego” en Parque de Estudio y Reflexión Punta de Vacas.
URL:https://www.archaeological.org/event/la-arquelogia-y-la-evolucion-de-los-mitos-en-las-americas/
LOCATION:Parque Punta de Vacas Study Center\, Las Heras\, Mendoza\, Argentina
CATEGORIES:Conference,International Archaeology Day,Workshop
GEO:-32.8518022;-68.8412763
END:VEVENT
END:VCALENDAR