BEGIN:VCALENDAR
VERSION:2.0
PRODID:-//Archaeological Institute of America - ECPv6.15.20//NONSGML v1.0//EN
CALSCALE:GREGORIAN
METHOD:PUBLISH
X-ORIGINAL-URL:https://www.archaeological.org
X-WR-CALDESC:Events for Archaeological Institute of America
REFRESH-INTERVAL;VALUE=DURATION:PT1H
X-Robots-Tag:noindex
X-PUBLISHED-TTL:PT1H
BEGIN:VTIMEZONE
TZID:America/Los_Angeles
BEGIN:DAYLIGHT
TZOFFSETFROM:-0800
TZOFFSETTO:-0700
TZNAME:PDT
DTSTART:20240310T100000
END:DAYLIGHT
BEGIN:STANDARD
TZOFFSETFROM:-0700
TZOFFSETTO:-0800
TZNAME:PST
DTSTART:20241103T090000
END:STANDARD
BEGIN:DAYLIGHT
TZOFFSETFROM:-0800
TZOFFSETTO:-0700
TZNAME:PDT
DTSTART:20250309T100000
END:DAYLIGHT
BEGIN:STANDARD
TZOFFSETFROM:-0700
TZOFFSETTO:-0800
TZNAME:PST
DTSTART:20251102T090000
END:STANDARD
BEGIN:DAYLIGHT
TZOFFSETFROM:-0800
TZOFFSETTO:-0700
TZNAME:PDT
DTSTART:20260308T100000
END:DAYLIGHT
BEGIN:STANDARD
TZOFFSETFROM:-0700
TZOFFSETTO:-0800
TZNAME:PST
DTSTART:20261101T090000
END:STANDARD
END:VTIMEZONE
BEGIN:VEVENT
DTSTART;TZID=America/Los_Angeles:20250425T080000
DTEND;TZID=America/Los_Angeles:20250425T170000
DTSTAMP:20260424T104313
CREATED:20250203T163318Z
LAST-MODIFIED:20250203T163318Z
UID:10007531-1745568000-1745600400@www.archaeological.org
SUMMARY:2025 ARCE Annual meeting
DESCRIPTION:ARCE’s Annual Meeting will take place from April 25-27\, 2025\, at The Westin St. Francis San Francisco on Union Square. \nJoin us in San Francisco for an engaging blend of in-person presentations\, panels\, workshops\, and networking opportunities. Showcase your expertise and connect with a vibrant scholarly community as we delve into the wonders of Egyptian history\, heritage\, fieldwork\, and technological advancements! \nWith lectures\, panels\, and dynamic discussions\, the Annual Meeting offers an in-depth exploration of Egypt’s rich cultural heritage. \nDiscover a wide array of topics—from ancient Egypt to Islamic and Coptic studies\, and cutting-edge discoveries—while engaging with leading Egyptologists and researchers. \nVisit arce.org/annual-meeting to register and learn more. For assistance\, please email AMHelp@arce.org. \nAmerican Research Center in Egypt\n909 N Washington Street\, Suite 320 | Alexandria\, VA 22314\nwww.arce.org/
URL:https://www.archaeological.org/event/2025-arce-annual-meeting/
LOCATION:The Westin St. Francis San Francisco on Union Square\, 335 Powell St.\, San Francisco\, CA\, 94102\, United States
CATEGORIES:Conference
ATTACH;FMTTYPE=image/jpeg:https://www.archaeological.org/wp-content/uploads/2025/02/ARCE2025Banner.jpg
ORGANIZER;CN="ARCE U.S. Office":MAILTO:info@arce.org
GEO:37.7877854;-122.4087206
X-APPLE-STRUCTURED-LOCATION;VALUE=URI;X-ADDRESS=The Westin St. Francis San Francisco on Union Square 335 Powell St. San Francisco CA 94102 United States;X-APPLE-RADIUS=500;X-TITLE=335 Powell St.:geo:-122.4087206,37.7877854
END:VEVENT
END:VCALENDAR