BEGIN:VCALENDAR
VERSION:2.0
PRODID:-//Archaeological Institute of America - ECPv6.15.20//NONSGML v1.0//EN
CALSCALE:GREGORIAN
METHOD:PUBLISH
X-ORIGINAL-URL:https://www.archaeological.org
X-WR-CALDESC:Events for Archaeological Institute of America
REFRESH-INTERVAL;VALUE=DURATION:PT1H
X-Robots-Tag:noindex
X-PUBLISHED-TTL:PT1H
BEGIN:VTIMEZONE
TZID:America/New_York
BEGIN:DAYLIGHT
TZOFFSETFROM:-0500
TZOFFSETTO:-0400
TZNAME:EDT
DTSTART:20250309T070000
END:DAYLIGHT
BEGIN:STANDARD
TZOFFSETFROM:-0400
TZOFFSETTO:-0500
TZNAME:EST
DTSTART:20251102T060000
END:STANDARD
BEGIN:DAYLIGHT
TZOFFSETFROM:-0500
TZOFFSETTO:-0400
TZNAME:EDT
DTSTART:20260308T070000
END:DAYLIGHT
BEGIN:STANDARD
TZOFFSETFROM:-0400
TZOFFSETTO:-0500
TZNAME:EST
DTSTART:20261101T060000
END:STANDARD
BEGIN:DAYLIGHT
TZOFFSETFROM:-0500
TZOFFSETTO:-0400
TZNAME:EDT
DTSTART:20270314T070000
END:DAYLIGHT
BEGIN:STANDARD
TZOFFSETFROM:-0400
TZOFFSETTO:-0500
TZNAME:EST
DTSTART:20271107T060000
END:STANDARD
END:VTIMEZONE
BEGIN:VEVENT
DTSTART;TZID=America/New_York:20260523T120000
DTEND;TZID=America/New_York:20260523T133000
DTSTAMP:20260422T140110
CREATED:20260410T153339Z
LAST-MODIFIED:20260410T223003Z
UID:10009050-1779537600-1779543000@www.archaeological.org
SUMMARY:Why Has African Archeology Been Ignored
DESCRIPTION:Deepening our understanding of African heritage often starts in spaces that celebrate our history\, but while museums house these stories\, it is archaeology that unearths them. \nWhile the world is well-acquainted with the architectural wonders of the Mediterranean and the Near East\, the vast archaeological landscape of the African continent has often remained on the periphery of global conversation. This session is designed to explore the structural\, logistical\, and historical reasons behind this gap in our shared human story. \nFrom the complexities of preserving heritage in diverse climates to the economic challenges of long-term excavation\, we will look at the practical hurdles that have shaped the field of African archaeology\, highlight the groundbreaking work currently being done to bring these ignored narratives back into the global spotlight\, and explore opportunities for youth in Africa to participate in fieldwork across the continent and build careers in heritage preservation\, culture advocacy\, and archaeology. \nJoin us this May and connect with a continental and international community of storytellers\, historians\, archaeologists\, culture advocates and heritage enthusiasts working to ensure Archaeology in Africa takes center stage in global discourse. \nWhat to Expect: \n1. The Logistical Landscape: An overview of the unique challenges of archaeological research on the continent. \n2. Beyond the Surface: A look at sophisticated ancient African innovations in metallurgy\, urban planning\, and trade. \n3. The Tech Revolution: How new technologies like satellite imaging and 3D mapping are revealing sites that were previously inaccessible. \n4. Future Directions: A discussion on the importance of diversifying the global archaeological record for a more complete understanding of history.
URL:https://www.archaeological.org/event/why-has-african-archeology-been-ignored/
CATEGORIES:Conference,Lecture
ATTACH;FMTTYPE=image/jpeg:https://www.archaeological.org/wp-content/uploads/2026/04/ANN-MAY-EVENT-Why-has-african-archeology-been-ignored.jpg
ORGANIZER;CN="African Narrative Network":MAILTO:abraham@africannarrativenetwork.com
END:VEVENT
END:VCALENDAR