BEGIN:VCALENDAR
VERSION:2.0
PRODID:-//Archaeological Institute of America - ECPv6.15.20//NONSGML v1.0//EN
CALSCALE:GREGORIAN
METHOD:PUBLISH
X-ORIGINAL-URL:https://www.archaeological.org
X-WR-CALDESC:Events for Archaeological Institute of America
REFRESH-INTERVAL;VALUE=DURATION:PT1H
X-Robots-Tag:noindex
X-PUBLISHED-TTL:PT1H
BEGIN:VTIMEZONE
TZID:Asia/Jerusalem
BEGIN:DAYLIGHT
TZOFFSETFROM:+0200
TZOFFSETTO:+0300
TZNAME:IDT
DTSTART:20220325T000000
END:DAYLIGHT
BEGIN:STANDARD
TZOFFSETFROM:+0300
TZOFFSETTO:+0200
TZNAME:IST
DTSTART:20221029T230000
END:STANDARD
BEGIN:DAYLIGHT
TZOFFSETFROM:+0200
TZOFFSETTO:+0300
TZNAME:IDT
DTSTART:20230324T000000
END:DAYLIGHT
BEGIN:STANDARD
TZOFFSETFROM:+0300
TZOFFSETTO:+0200
TZNAME:IST
DTSTART:20231028T230000
END:STANDARD
BEGIN:DAYLIGHT
TZOFFSETFROM:+0200
TZOFFSETTO:+0300
TZNAME:IDT
DTSTART:20240329T000000
END:DAYLIGHT
BEGIN:STANDARD
TZOFFSETFROM:+0300
TZOFFSETTO:+0200
TZNAME:IST
DTSTART:20241026T230000
END:STANDARD
END:VTIMEZONE
BEGIN:VTIMEZONE
TZID:America/New_York
BEGIN:DAYLIGHT
TZOFFSETFROM:-0500
TZOFFSETTO:-0400
TZNAME:EDT
DTSTART:20220313T070000
END:DAYLIGHT
BEGIN:STANDARD
TZOFFSETFROM:-0400
TZOFFSETTO:-0500
TZNAME:EST
DTSTART:20221106T060000
END:STANDARD
BEGIN:DAYLIGHT
TZOFFSETFROM:-0500
TZOFFSETTO:-0400
TZNAME:EDT
DTSTART:20230312T070000
END:DAYLIGHT
BEGIN:STANDARD
TZOFFSETFROM:-0400
TZOFFSETTO:-0500
TZNAME:EST
DTSTART:20231105T060000
END:STANDARD
BEGIN:DAYLIGHT
TZOFFSETFROM:-0500
TZOFFSETTO:-0400
TZNAME:EDT
DTSTART:20240310T070000
END:DAYLIGHT
BEGIN:STANDARD
TZOFFSETFROM:-0400
TZOFFSETTO:-0500
TZNAME:EST
DTSTART:20241103T060000
END:STANDARD
END:VTIMEZONE
BEGIN:VEVENT
DTSTART;TZID=Asia/Jerusalem:20230320T180000
DTEND;TZID=Asia/Jerusalem:20230320T190000
DTSTAMP:20260421T104259
CREATED:20230206T143546Z
LAST-MODIFIED:20230206T143546Z
UID:10006213-1679335200-1679338800@www.archaeological.org
SUMMARY:Scholarships Available ! International MA\, Dept. of Archaeology at Tel Aviv University
DESCRIPTION:The Department of Archaeology at Tel Aviv University\, Lowy International School\, welcomes you to join our introductory webinar: March 20\, 2023.\nWe will present our outstanding program:\nThe International one year MA to study:\nHistory and Archaeology of the Bible\nIN the Land of the Bible.\nregister here!: https://SHORTURL.AT/sSZ12\nProgram Overview:\nThe International Graduate Program in Ancient Israel Studies at Tel Aviv University is an intensive one year MA\, taught entirely in English. The outstanding Program offers students a “hands-on” experience with the ancient past while learning about the region’s fascinating history\, back to biblical times and beyond. The unique program puts students at the forefront of archeological\, historical\, and biblical research. The combination of classroom\, fieldtrips and archeological excavation season in the summer provides an intellectual and social component like no other program.\nThe vibrant and nurturing environment of the program is unparalleled and prepares students for an academic or professional global career in Archaeology and related professions.
URL:https://www.archaeological.org/event/scholarships-available-international-ma-dept-of-archaeology-at-tel-aviv-university/
CATEGORIES:Education
ORGANIZER;CN="Stacey Wolf":MAILTO:staceywolf@tauex.tau.ac.il
END:VEVENT
BEGIN:VEVENT
DTSTART;TZID=America/New_York:20230329T110000
DTEND;TZID=America/New_York:20230329T140000
DTSTAMP:20260421T104259
CREATED:20230322T150456Z
LAST-MODIFIED:20230322T150456Z
UID:10006244-1680087600-1680098400@www.archaeological.org
SUMMARY:Sifting through Time
DESCRIPTION:Get ready for a great interactive experience related to the study of archeology and anthropology! \nThe Social Science program will host its second archeology/anthropology expo on Wednesday\, March 29th from 11am-2pm in the Student Center. Professors Kurt Springs and Kimberly Kulesza will be joined by members of the New Hampshire Archeological Society in presenting an interactive experience for participants. \nThe expo event is open to students\, faculty\, staff and the public. We hope to see you there!
URL:https://www.archaeological.org/event/sifting-through-time/
LOCATION:Manchester Community College  – Student Union\, 1066 Front St\, Manchester\, NH\, 03102\, United States
CATEGORIES:Education
ATTACH;FMTTYPE=image/jpeg:https://www.archaeological.org/wp-content/uploads/2023/03/20220610_154511.jpg
ORGANIZER;CN="NHAS WebMaster":MAILTO:webmaster@nhas.org
GEO:43.0190476;-71.4841072
X-APPLE-STRUCTURED-LOCATION;VALUE=URI;X-ADDRESS=Manchester Community College  – Student Union 1066 Front St Manchester NH 03102 United States;X-APPLE-RADIUS=500;X-TITLE=1066 Front St:geo:-71.4841072,43.0190476
END:VEVENT
END:VCALENDAR