BEGIN:VCALENDAR
VERSION:2.0
PRODID:-//Archaeological Institute of America - ECPv6.15.20//NONSGML v1.0//EN
CALSCALE:GREGORIAN
METHOD:PUBLISH
X-ORIGINAL-URL:https://www.archaeological.org
X-WR-CALDESC:Events for Archaeological Institute of America
REFRESH-INTERVAL;VALUE=DURATION:PT1H
X-Robots-Tag:noindex
X-PUBLISHED-TTL:PT1H
BEGIN:VTIMEZONE
TZID:America/Chicago
BEGIN:DAYLIGHT
TZOFFSETFROM:-0600
TZOFFSETTO:-0500
TZNAME:CDT
DTSTART:20220313T080000
END:DAYLIGHT
BEGIN:STANDARD
TZOFFSETFROM:-0500
TZOFFSETTO:-0600
TZNAME:CST
DTSTART:20221106T070000
END:STANDARD
BEGIN:DAYLIGHT
TZOFFSETFROM:-0600
TZOFFSETTO:-0500
TZNAME:CDT
DTSTART:20230312T080000
END:DAYLIGHT
BEGIN:STANDARD
TZOFFSETFROM:-0500
TZOFFSETTO:-0600
TZNAME:CST
DTSTART:20231105T070000
END:STANDARD
BEGIN:DAYLIGHT
TZOFFSETFROM:-0600
TZOFFSETTO:-0500
TZNAME:CDT
DTSTART:20240310T080000
END:DAYLIGHT
BEGIN:STANDARD
TZOFFSETFROM:-0500
TZOFFSETTO:-0600
TZNAME:CST
DTSTART:20241103T070000
END:STANDARD
END:VTIMEZONE
BEGIN:VEVENT
DTSTART;TZID=America/Chicago:20231104T110000
DTEND;TZID=America/Chicago:20231104T160000
DTSTAMP:20260421T133042
CREATED:20231018T134411Z
LAST-MODIFIED:20231018T134411Z
UID:10007041-1699095600-1699113600@www.archaeological.org
SUMMARY:Archaeology Day Fair
DESCRIPTION:Come learn about archaeology with faculty and graduate students in the Classics\, Archaeology and Religion and Anthropology Departments! Join us on Lowry Mall and Ellis Library at the University of Missouri for some fun all-ages educational activities and demonstrations\, fieldwork presentations by local archaeologists\, tours of the university collections\, and a bake sale!
URL:https://www.archaeological.org/event/archaeology-day-fair/
LOCATION:Lowry Mall\, University of Missouri\, 909 Lowry St\, Columbia\, Missouri\, 65203\, United States
CATEGORIES:Archaeology Fair,Education,International Archaeology Day
ATTACH;FMTTYPE=image/jpeg:https://www.archaeological.org/wp-content/uploads/2023/10/Arch-Day-Fair.jpg
ORGANIZER;CN="Emma Buckingham":MAILTO:ebuckin@gmail.com
GEO:38.9449289;-92.3265533
X-APPLE-STRUCTURED-LOCATION;VALUE=URI;X-ADDRESS=Lowry Mall University of Missouri 909 Lowry St Columbia Missouri 65203 United States;X-APPLE-RADIUS=500;X-TITLE=909 Lowry St:geo:-92.3265533,38.9449289
END:VEVENT
BEGIN:VEVENT
DTSTART;TZID=America/Chicago:20231113T180000
DTEND;TZID=America/Chicago:20231113T190000
DTSTAMP:20260421T133042
CREATED:20230807T153812Z
LAST-MODIFIED:20230807T153812Z
UID:10006293-1699898400-1699902000@www.archaeological.org
SUMMARY:AIA-Nashville Society Book Club
DESCRIPTION:AIA-Nashville Society Book Club\nJoin us for the fourth meeting of our free book club on Monday\, November 13\, at 6 PM. This event is free and open to the public\, with RSVP. Mention “Book Club” at the Ticket Counter\, receive free admission\, and proceed to the Treasury on Level 2 for the friendly\, informal discussion. \nRSVP required: https://www.signupgenius.com/go/805084aa8af2ea5f58-aianashville# \nTHIS QUARTER’S BOOK SELECTION:\nWe will be discussing The Penelopiad by Margaret Atwood. Reserve your spot with a free RSVP: https://www.signupgenius.com/go/805084aa8af2ea5f58-aianashville# \nLooking to purchase the book? It is now available in the Museum Store! Or\, head over to Parnassus Books and mention the Archaeological Institute of America-Nashville Society book club at the Parthenon for a 10% discount. \nABOUT THE BOOK: The Penelopiad by Margaret Atwood \nDescription from Nashville Public Library:\nMargaret Atwood returns with a shrewd\, funny\, and insightful retelling of the myth of Odysseus from the point of view of Penelope. Describing her own remarkable vision\, the author writes in the foreword\, “I’ve chosen to give the telling of the story to Penelope and to the twelve hanged maids. The maids form a chanting and singing Chorus\, which focuses on two questions that must pose themselves after any close reading of the Odyssey : What led to the hanging of the maids\, and what was Penelope really up to? The story as told in the Odyssey doesn’t hold water: there are too many inconsistencies. I’ve always been haunted by the hanged maids and\, in The Penelopiad \, so is Penelope herself.” One of the high points of literary fiction in 2005\, this critically acclaimed story found a vast audience and is finally available in paperback. \n2024 BOOK CLUB DATES:\nRSVP: https://www.signupgenius.com/go/805084aa8af2ea5f58-aianashville#\nMonday\, February 5\, 2024\nMonday\, May 6\, 2024\nMonday\, August 5\, 2024\nMonday\, November 4\, 2024\nStay tuned for details! \nBOOK CLUB SPONSOR: AIA-Nashville Society\nThe Archaeological Institute of America (AIA) promotes archaeological inquiry and public understanding of the material record of the human past to foster an appreciation of diverse cultures and our shared humanity. The AIA supports archaeologists\, their research and its dissemination\, and the ethical practice of archaeology. The AIA educates people of all ages about the significance of archaeological discovery and advocates for the preservation of the world’s archaeological heritage. Learn more. \nADDITIONAL BOOK CLUB SPONSORS: Centennial Park Conservancy\, Metro Nashville Parks and Recreation \nPREVIOUS AIA-NASHVILLE SOCIETY BOOK CLUB SELECTIONS:\nCirce by Madeline Miller discussed February 22\, 2023\nSilence of the Girls by Pat Barker discussed May 8\, 2023\nGods Behaving Badly by Marie Phillips discussed August 21\, 2023
URL:https://www.archaeological.org/event/aia-nashville-society-book-club-2/
LOCATION:The Parthenon\, 2500 West End Ave\, Nashville\, TN\, 37203\, United States
CATEGORIES:Education
ATTACH;FMTTYPE=image/jpeg:https://www.archaeological.org/wp-content/uploads/2023/08/Book-Club-black-text-1.jpg
ORGANIZER;CN="Katie Petrole":MAILTO:katherine.petrole@nashville.gov
GEO:36.1490255;-86.8119906
X-APPLE-STRUCTURED-LOCATION;VALUE=URI;X-ADDRESS=The Parthenon 2500 West End Ave Nashville TN 37203 United States;X-APPLE-RADIUS=500;X-TITLE=2500 West End Ave:geo:-86.8119906,36.1490255
END:VEVENT
BEGIN:VEVENT
DTSTART;TZID=America/Chicago:20231124T140000
DTEND;TZID=America/Chicago:20231124T160000
DTSTAMP:20260421T133042
CREATED:20230807T175546Z
LAST-MODIFIED:20230807T175546Z
UID:10006876-1700834400-1700841600@www.archaeological.org
SUMMARY:Sketching the Marbles
DESCRIPTION:Sketching the Marbles\nFor centuries\, artists have drawn the Parthenon’s pediment sculptures. Join us for special art sessions to create your own classical masterpiece. Sketching the Marbles is held on the final Friday afternoon of each month (except Metro Nashville holidays). \n–Recommended for ages 12 and older.\n–This program takes place in the Treasury.\n–All supplies are included— but you are welcome to bring your own.\n–Participation is free for Centennial Park Conservancy members\, or included with museum admission.\n–The most updated times and dates are listed on the Calendar. \nLove to draw\, but not able to make it to museum soon? Try your hand at creating Parthenon art— from home! Browse our Parthenon Create video playlist on our YouTube channel. \nTHANK YOU TO JERRY’S ARTARAMA FOR PROVIDING ART SUPPLIES!
URL:https://www.archaeological.org/event/sketching-the-marbles/2023-11-24/
LOCATION:The Parthenon\, 2500 West End Ave\, Nashville\, TN\, 37203\, United States
CATEGORIES:Education
ATTACH;FMTTYPE=image/jpeg:https://www.archaeological.org/wp-content/uploads/2023/08/2023.06.13-STEAM-Night-102-Copy.jpg
ORGANIZER;CN="Katie Petrole":MAILTO:katherine.petrole@nashville.gov
GEO:36.1490255;-86.8119906
X-APPLE-STRUCTURED-LOCATION;VALUE=URI;X-ADDRESS=The Parthenon 2500 West End Ave Nashville TN 37203 United States;X-APPLE-RADIUS=500;X-TITLE=2500 West End Ave:geo:-86.8119906,36.1490255
END:VEVENT
END:VCALENDAR