BEGIN:VCALENDAR
VERSION:2.0
PRODID:-//Archaeological Institute of America - ECPv6.15.20//NONSGML v1.0//EN
CALSCALE:GREGORIAN
METHOD:PUBLISH
X-ORIGINAL-URL:https://www.archaeological.org
X-WR-CALDESC:Events for Archaeological Institute of America
REFRESH-INTERVAL;VALUE=DURATION:PT1H
X-Robots-Tag:noindex
X-PUBLISHED-TTL:PT1H
BEGIN:VTIMEZONE
TZID:America/New_York
BEGIN:DAYLIGHT
TZOFFSETFROM:-0500
TZOFFSETTO:-0400
TZNAME:EDT
DTSTART:20220313T070000
END:DAYLIGHT
BEGIN:STANDARD
TZOFFSETFROM:-0400
TZOFFSETTO:-0500
TZNAME:EST
DTSTART:20221106T060000
END:STANDARD
BEGIN:DAYLIGHT
TZOFFSETFROM:-0500
TZOFFSETTO:-0400
TZNAME:EDT
DTSTART:20230312T070000
END:DAYLIGHT
BEGIN:STANDARD
TZOFFSETFROM:-0400
TZOFFSETTO:-0500
TZNAME:EST
DTSTART:20231105T060000
END:STANDARD
BEGIN:DAYLIGHT
TZOFFSETFROM:-0500
TZOFFSETTO:-0400
TZNAME:EDT
DTSTART:20240310T070000
END:DAYLIGHT
BEGIN:STANDARD
TZOFFSETFROM:-0400
TZOFFSETTO:-0500
TZNAME:EST
DTSTART:20241103T060000
END:STANDARD
END:VTIMEZONE
BEGIN:VEVENT
DTSTART;TZID=America/New_York:20230401T103000
DTEND;TZID=America/New_York:20230401T110000
DTSTAMP:20260421T104441
CREATED:20230320T140728Z
LAST-MODIFIED:20230320T140728Z
UID:10006235-1680345000-1680346800@www.archaeological.org
SUMMARY:High Above the River: Points\, Pottery and a Pithouse in Manchester
DESCRIPTION:High Above the River: Points\, Pottery and a Pithouse in Manchester\nJacob Tumelaire\, Shannon Mascarenhas\, and Roxanne Pendleton\, Independent Archaeological Consulting\, LLC\nIAC conducted Phase IB testing that identified previously undocumented components of the Amoskeag West Bank site (27-HB-079) in Manchester. A subsequent Targeted Data Recovery confirmed the presence of numerous Pre-Contact Native American cultural features\, including a pit house rare in the local archaeological record. Diagnostic artifacts and datable organic material indicate occupation during both the Archaic and Woodland periods\, along with a potential Paleoindian component. This presentation offers a summary of our preliminary results\, highlighting the most significant findings from the 2022 archaeological surveys.
URL:https://www.archaeological.org/event/high-above-the-river-points-pottery-and-a-pithouse-in-manchester/
LOCATION:Manchester Community College  – Student Union\, 1066 Front St\, Manchester\, NH\, 03102\, United States
CATEGORIES:Education
ATTACH;FMTTYPE=image/png:https://www.archaeological.org/wp-content/uploads/2023/03/2.png
ORGANIZER;CN="NHAS WebMaster":MAILTO:webmaster@nhas.org
GEO:43.0190476;-71.4841072
X-APPLE-STRUCTURED-LOCATION;VALUE=URI;X-ADDRESS=Manchester Community College  – Student Union 1066 Front St Manchester NH 03102 United States;X-APPLE-RADIUS=500;X-TITLE=1066 Front St:geo:-71.4841072,43.0190476
END:VEVENT
BEGIN:VEVENT
DTSTART;TZID=America/New_York:20230401T111500
DTEND;TZID=America/New_York:20230401T114500
DTSTAMP:20260421T104442
CREATED:20230320T140835Z
LAST-MODIFIED:20230320T140835Z
UID:10006236-1680347700-1680349500@www.archaeological.org
SUMMARY:Recent Research at Coastal Sites in Downeast Maine
DESCRIPTION:Recent Research at Coastal Sites in Downeast Maine\nDr. Gabe Hrynick\, University of New Brunswick\nIn the 1950s\, Ted Stoddard of the Robert S. Peabody Museum’s Northeastern Archaeology Survey identified dozens of archaeological sites in coastal Downeast Maine. Since 2013\, colleagues and I have revisited many of these sites\, examined the curated collections from them\, and conducted targeted excavations. Our goals are to better understand what has been lost to coastal erosion and use that information to get a better understanding of hunter-gatherer settlement and subsistence in Downeast Maine. In this talk\, I review recent field and museum research from the project.
URL:https://www.archaeological.org/event/recent-research-at-coastal-sites-in-downeast-maine/
LOCATION:Manchester Community College  – Student Union\, 1066 Front St\, Manchester\, NH\, 03102\, United States
CATEGORIES:Education
ATTACH;FMTTYPE=image/png:https://www.archaeological.org/wp-content/uploads/2023/03/4.png
ORGANIZER;CN="NHAS WebMaster":MAILTO:webmaster@nhas.org
GEO:43.0190476;-71.4841072
X-APPLE-STRUCTURED-LOCATION;VALUE=URI;X-ADDRESS=Manchester Community College  – Student Union 1066 Front St Manchester NH 03102 United States;X-APPLE-RADIUS=500;X-TITLE=1066 Front St:geo:-71.4841072,43.0190476
END:VEVENT
BEGIN:VEVENT
DTSTART;TZID=America/New_York:20230401T130000
DTEND;TZID=America/New_York:20230401T143000
DTSTAMP:20260421T104442
CREATED:20230322T145959Z
LAST-MODIFIED:20230322T145959Z
UID:10006240-1680354000-1680359400@www.archaeological.org
SUMMARY:‘Upside Down’ the Peopling of Latin America: a Summary and On-going Research Dr. Bruce Bradley
DESCRIPTION:‘Upside Down’ the Peopling of Latin America: a Summary and On-going Research\nDr. Bruce Bradley\, Emeritus Professor\, University of Exeter\, UK.\nZOOM presentation.\nThis presentation summarizes the current evidence of the early human presence in Latin America from northern Mexico (Chiquihuite Cave) to the southern tip of South America (Fell Cave). It will focus on recent and on-going archaeological research with an emphasis on my own collaborative work\, specifically in Brazil and Uruguay. Implications for the peopling of North America will also be briefly discussed. While genetic evidence is important\, it is beyond the scope of this presentation other than a cautionary comment.
URL:https://www.archaeological.org/event/upside-down-the-peopling-of-latin-america-a-summary-and-on-going-research-dr-bruce-bradley/
LOCATION:Manchester Community College  – Student Union\, 1066 Front St\, Manchester\, NH\, 03102\, United States
CATEGORIES:Education
ATTACH;FMTTYPE=image/png:https://www.archaeological.org/wp-content/uploads/2023/03/5.png
ORGANIZER;CN="NHAS WebMaster":MAILTO:webmaster@nhas.org
GEO:43.0190476;-71.4841072
X-APPLE-STRUCTURED-LOCATION;VALUE=URI;X-ADDRESS=Manchester Community College  – Student Union 1066 Front St Manchester NH 03102 United States;X-APPLE-RADIUS=500;X-TITLE=1066 Front St:geo:-71.4841072,43.0190476
END:VEVENT
END:VCALENDAR