BEGIN:VCALENDAR
VERSION:2.0
PRODID:-//Archaeological Institute of America - ECPv6.15.20//NONSGML v1.0//EN
CALSCALE:GREGORIAN
METHOD:PUBLISH
X-WR-CALNAME:Archaeological Institute of America
X-ORIGINAL-URL:https://www.archaeological.org
X-WR-CALDESC:Events for Archaeological Institute of America
REFRESH-INTERVAL;VALUE=DURATION:PT1H
X-Robots-Tag:noindex
X-PUBLISHED-TTL:PT1H
BEGIN:VTIMEZONE
TZID:America/New_York
BEGIN:DAYLIGHT
TZOFFSETFROM:-0500
TZOFFSETTO:-0400
TZNAME:EDT
DTSTART:20220313T070000
END:DAYLIGHT
BEGIN:STANDARD
TZOFFSETFROM:-0400
TZOFFSETTO:-0500
TZNAME:EST
DTSTART:20221106T060000
END:STANDARD
BEGIN:DAYLIGHT
TZOFFSETFROM:-0500
TZOFFSETTO:-0400
TZNAME:EDT
DTSTART:20230312T070000
END:DAYLIGHT
BEGIN:STANDARD
TZOFFSETFROM:-0400
TZOFFSETTO:-0500
TZNAME:EST
DTSTART:20231105T060000
END:STANDARD
BEGIN:DAYLIGHT
TZOFFSETFROM:-0500
TZOFFSETTO:-0400
TZNAME:EDT
DTSTART:20240310T070000
END:DAYLIGHT
BEGIN:STANDARD
TZOFFSETFROM:-0400
TZOFFSETTO:-0500
TZNAME:EST
DTSTART:20241103T060000
END:STANDARD
END:VTIMEZONE
BEGIN:VTIMEZONE
TZID:Asia/Kuala_Lumpur
BEGIN:STANDARD
TZOFFSETFROM:+0800
TZOFFSETTO:+0800
TZNAME:+08
DTSTART:20220101T000000
END:STANDARD
END:VTIMEZONE
BEGIN:VTIMEZONE
TZID:America/Chicago
BEGIN:DAYLIGHT
TZOFFSETFROM:-0600
TZOFFSETTO:-0500
TZNAME:CDT
DTSTART:20220313T080000
END:DAYLIGHT
BEGIN:STANDARD
TZOFFSETFROM:-0500
TZOFFSETTO:-0600
TZNAME:CST
DTSTART:20221106T070000
END:STANDARD
BEGIN:DAYLIGHT
TZOFFSETFROM:-0600
TZOFFSETTO:-0500
TZNAME:CDT
DTSTART:20230312T080000
END:DAYLIGHT
BEGIN:STANDARD
TZOFFSETFROM:-0500
TZOFFSETTO:-0600
TZNAME:CST
DTSTART:20231105T070000
END:STANDARD
BEGIN:DAYLIGHT
TZOFFSETFROM:-0600
TZOFFSETTO:-0500
TZNAME:CDT
DTSTART:20240310T080000
END:DAYLIGHT
BEGIN:STANDARD
TZOFFSETFROM:-0500
TZOFFSETTO:-0600
TZNAME:CST
DTSTART:20241103T070000
END:STANDARD
END:VTIMEZONE
BEGIN:VTIMEZONE
TZID:America/Los_Angeles
BEGIN:DAYLIGHT
TZOFFSETFROM:-0800
TZOFFSETTO:-0700
TZNAME:PDT
DTSTART:20220313T100000
END:DAYLIGHT
BEGIN:STANDARD
TZOFFSETFROM:-0700
TZOFFSETTO:-0800
TZNAME:PST
DTSTART:20221106T090000
END:STANDARD
BEGIN:DAYLIGHT
TZOFFSETFROM:-0800
TZOFFSETTO:-0700
TZNAME:PDT
DTSTART:20230312T100000
END:DAYLIGHT
BEGIN:STANDARD
TZOFFSETFROM:-0700
TZOFFSETTO:-0800
TZNAME:PST
DTSTART:20231105T090000
END:STANDARD
BEGIN:DAYLIGHT
TZOFFSETFROM:-0800
TZOFFSETTO:-0700
TZNAME:PDT
DTSTART:20240310T100000
END:DAYLIGHT
BEGIN:STANDARD
TZOFFSETFROM:-0700
TZOFFSETTO:-0800
TZNAME:PST
DTSTART:20241103T090000
END:STANDARD
END:VTIMEZONE
BEGIN:VEVENT
DTSTART;VALUE=DATE:20231021
DTEND;VALUE=DATE:20231022
DTSTAMP:20260421T121840
CREATED:20230906T204033Z
LAST-MODIFIED:20230906T204033Z
UID:10006969-1697846400-1697932799@www.archaeological.org
SUMMARY:Parkeology at Plum Bayou Mounds Archeological State Park
DESCRIPTION:Join us for this unique guided tour to celebrate International Archeology Day. Gain insight into the artifacts used to reveal the story of feasting at this ceremonial site. Park interpreters and archeologists will set up along the trail to walk you through the steps of preparing a prehistoric feast. Artifacts highlighted will include stone tools\, cooking and serving vessels\, as well as animal bone and plant samples used for food by the Plum Bayou people. Stop by the Arkansas Archeological Survey booth to visit with staff and learn more about what they do. We will offer three tours during the day; 9:45 – 11 a.m.\, 12:30 – 1:45 p.m.\, and 3 – 4:15 p.m. Each tour has a maximum of 20 people\, so reservations are required. Call the park at (501) 961 – 9442 to reserve your spot.
URL:https://www.archaeological.org/event/parkeology-at-plum-bayou-mounds-archeological-state-park/
LOCATION:Plum Bayou Mounds Archeological State Park\, 490 Toltec Mounds Road\, Scott\, AR\, 72142\, United States
CATEGORIES:Education,International Archaeology Day
ATTACH;FMTTYPE=image/jpeg:https://www.archaeological.org/wp-content/uploads/2023/09/Parkeology-Social-Media-flyer2.jpg
ORGANIZER;CN="Dr. Paige Ford":MAILTO:paigef@uark.edu
GEO:34.6458879;-92.0603882
X-APPLE-STRUCTURED-LOCATION;VALUE=URI;X-ADDRESS=Plum Bayou Mounds Archeological State Park 490 Toltec Mounds Road Scott AR 72142 United States;X-APPLE-RADIUS=500;X-TITLE=490 Toltec Mounds Road:geo:-92.0603882,34.6458879
END:VEVENT
BEGIN:VEVENT
DTSTART;VALUE=DATE:20231021
DTEND;VALUE=DATE:20231022
DTSTAMP:20260421T121840
CREATED:20231018T183922Z
LAST-MODIFIED:20231018T183922Z
UID:10007043-1697846400-1697932799@www.archaeological.org
SUMMARY:A Typical Day in Archaeology Video Series
DESCRIPTION:To celebrate International Archaeology Day 2023\, Archaeology in the Community (AITC) will release new videos in the series “A Typical Day in Archaeology.” In each short video\, an archaeologist shares where they work\, what they do\, and why it’s important. New videos will go live on YouTube and the AITC website on October 21.
URL:https://www.archaeological.org/event/a-typical-day-in-archaeology-video-series/
CATEGORIES:Education,International Archaeology Day
ATTACH;FMTTYPE=image/png:https://www.archaeological.org/wp-content/uploads/2023/10/iad2023.png
ORGANIZER;CN="Beth Pruitt":MAILTO:beth@archaeologyincommunity.com
END:VEVENT
BEGIN:VEVENT
DTSTART;TZID=America/New_York:20231021T083000
DTEND;TZID=America/New_York:20231021T123000
DTSTAMP:20260421T121840
CREATED:20230929T141447Z
LAST-MODIFIED:20231004T143607Z
UID:10006559-1697877000-1697891400@www.archaeological.org
SUMMARY:International Archaeology Day with Acadiana Chapter\, Louisiana Archaeological Society
DESCRIPTION:Saturday\, October 21\, 8:30am-12:30pm\n$ = Free\nFamily friendly \nMembers from the Acadiana Chapter of the Louisiana Archaeological Society and staff from the Division of Archaeology will share information about Louisiana archaeology for International Archaeology Day. The Lafayette Farmers & Artisans Market is a great place to go to learn about the community\, eat good food\, buy sweet stuff\, and listen to local music. \nFor more information\, visit: https://marketatmoncuspark.com/
URL:https://www.archaeological.org/event/international-archaeology-day-with-acadiana-chapter-louisiana-archaeological-society/
LOCATION:Lafayette Farmers & Artisans Market\, 2913 Johnston St.\, Lafayette\, LA\, 70506\, United States
CATEGORIES:Education,International Archaeology Day
ORGANIZER;CN="Maegan A Smith":MAILTO:msmith@crt.la.gov
GEO:30.2048324;-92.0412876
X-APPLE-STRUCTURED-LOCATION;VALUE=URI;X-ADDRESS=Lafayette Farmers & Artisans Market 2913 Johnston St. Lafayette LA 70506 United States;X-APPLE-RADIUS=500;X-TITLE=2913 Johnston St.:geo:-92.0412876,30.2048324
END:VEVENT
BEGIN:VEVENT
DTSTART;TZID=America/New_York:20231021T090000
DTEND;TZID=America/New_York:20231021T170000
DTSTAMP:20260421T121840
CREATED:20231009T160053Z
LAST-MODIFIED:20231010T154013Z
UID:10006578-1697878800-1697907600@www.archaeological.org
SUMMARY:Archaeology Day at the Frontier Culture Museum
DESCRIPTION:Saturday\, October 21st is International Archaeology Day\, and the Frontier Culture Museum is offering archaeological activities all day! \nBut just what is archaeology and why are we talking about it at a living history museum? Archaeology is the study of patterns of material culture\, the tangible things that people made and used. Things that are still around\, just in the ground beneath us. Archaeology gives us a snapshot of the past. Objects enter the ground\, a house decays leaving only the foundation. We only get to see the remnants\, not the activity. History\, on the other hand\, is the study of human behavior in the past\, based on the records people themselves have left behind. You can see where one might inform the other. Both involve asking questions\, forming hypotheses and doing research. \nWe look at all of these clues\, carefully piece the fragments of a moment in time together\, and create a picture of what life was like\, for example\, on the frontier. \nSo\, what does Archaeology Day at the Frontier Culture Museum mean? It means walking around our Old World loop\, the farms from places people left behind to come to the New World\, and learning about different types of artifacts\, like metal and ceramics\, and also a little bit about experimental archaeology. It also means heading over to the New World section and being able to try your hand at excavation in our dig boxes and learning a bit about what happens after the artifacts are excavated. Plus\, come see our experimental pottery firing on the Eastern Woodlands Indian site as we celebrate International Archaeology Day!
URL:https://www.archaeological.org/event/archaeology-day-at-the-frontier-culture-museum-2/
LOCATION:Frontier Culture Museum\, 1290 Richmond Ave\, Staunton\, VA\, 24401\, United States
CATEGORIES:Education,International Archaeology Day
ATTACH;FMTTYPE=image/jpeg:https://www.archaeological.org/wp-content/uploads/2023/10/IMG_0229-rotated.jpg
ORGANIZER;CN="Rachel Sites":MAILTO:rachel.sites@fcmv.virginia.gov
GEO:38.1310673;-79.0447455
X-APPLE-STRUCTURED-LOCATION;VALUE=URI;X-ADDRESS=Frontier Culture Museum 1290 Richmond Ave Staunton VA 24401 United States;X-APPLE-RADIUS=500;X-TITLE=1290 Richmond Ave:geo:-79.0447455,38.1310673
END:VEVENT
BEGIN:VEVENT
DTSTART;TZID=America/New_York:20231021T090000
DTEND;TZID=America/New_York:20231021T180000
DTSTAMP:20260421T121840
CREATED:20230926T203737Z
LAST-MODIFIED:20231019T135000Z
UID:10006418-1697878800-1697911200@www.archaeological.org
SUMMARY:Color the Past
DESCRIPTION:Members of the Visual Resources division of Princeton University’s Department of Art and Archaeology have partnered with The Princeton Public Library for this event. Participants can help themselves to free coloring supplies as well as some pen and ink drawings of monuments and artifacts drafted by Howard Crosby Butler during his campaigns to Sardis and Greece. Participants will be encouraged\, after they color the drawings\, to share their works of art on social media\, tagging both the department (@artandarchaeologyprinceton)\, the Princeton Public Library (@PrincetonPL)\, the AIA (#IAD2023)!
URL:https://www.archaeological.org/event/color-the-past/
LOCATION:Princeton Public Library\, 65 Witherspoon\, Princeton\, NJ\, 08542\, United States
CATEGORIES:Education,International Archaeology Day
ORGANIZER;CN="Leigh Anne Lieberman":MAILTO:lalieberman@princeton.edu
GEO:40.3516151;-74.6602621
X-APPLE-STRUCTURED-LOCATION;VALUE=URI;X-ADDRESS=Princeton Public Library 65 Witherspoon Princeton NJ 08542 United States;X-APPLE-RADIUS=500;X-TITLE=65 Witherspoon:geo:-74.6602621,40.3516151
END:VEVENT
BEGIN:VEVENT
DTSTART;TZID=Asia/Kuala_Lumpur:20231021T090000
DTEND;TZID=Asia/Kuala_Lumpur:20231021T190000
DTSTAMP:20260421T121840
CREATED:20231004T144738Z
LAST-MODIFIED:20231004T154349Z
UID:10007021-1697878800-1697914800@www.archaeological.org
SUMMARY:Time Traveller: Whatchu Digging?
DESCRIPTION:A series of public archaeology programmes specially prepared in celebration for International Archaeology Day 2023. Programme include a wide range of fun yet educational activities and sharing sessions\, including a documentary screening! \n📍 Date: 21st Oct 2023 (Saturday)\n📍 Venue: COEX Hin Bus Depot\, Penang\n📍 Registration link: 👉🏻 https://forms.gle/PMrxL84numbwfXW2A 👈🏻\n📍 Programme schedule:\n◾ 9am – 10:30am: Pottery Detectives | Kids Workshop\n◾11am – 12:30pm: Sunken treasures under the sea | Games + Talk Sharing\n◾ 2pm – 3:30pm: How We Became Us: A Journey through Time with the Early Humans | Talk Sharing\n◾ 4pm – 5:30pm: Stone Tool Making Workshop | Adult Workshop\n◾ 6pm-7pm: Screening +Director Talk | Documentary\n◾ ALL DAY | “Whatchu reading” Reading area + “Whatchu seeing” Exhibition area \nPartners:\nCOEX\n草稿 Draf\nRuang Kongsi\nKraak Creations
URL:https://www.archaeological.org/event/time-traveller-whatchu-digging/
LOCATION:COEX\, 123\, Jalan Timah\, Hinbus Depot\, George Town\, Penang\, 10150\, Malaysia
CATEGORIES:Education,International Archaeology Day
ATTACH;FMTTYPE=image/jpeg:https://www.archaeological.org/wp-content/uploads/2023/10/IADposter_100pp.jpg
ORGANIZER;CN="Saw Chaw Yeh":MAILTO:chawyeh92@gmail.com
GEO:5.411882;100.327271
X-APPLE-STRUCTURED-LOCATION;VALUE=URI;X-ADDRESS=COEX 123 Jalan Timah Hinbus Depot George Town Penang 10150 Malaysia;X-APPLE-RADIUS=500;X-TITLE=123\, Jalan Timah\, Hinbus Depot:geo:100.327271,5.411882
END:VEVENT
BEGIN:VEVENT
DTSTART;TZID=America/Chicago:20231021T100000
DTEND;TZID=America/Chicago:20231021T140000
DTSTAMP:20260421T121840
CREATED:20231009T160015Z
LAST-MODIFIED:20231020T140846Z
UID:10006577-1697882400-1697896800@www.archaeological.org
SUMMARY:Archeology Day Fair at Hot Springs National Park
DESCRIPTION:Join archeologists from Ouachita National Forest\, the Arkansas Archeological Society\, and Hot Springs National Park on Arlington Lawn as we celebrate International Archeology Day with demonstrations and activities for people of all ages.\nActivities will include “Show & Tell” with artifacts\, raw materials and replicas\, cordage bracelet making\, sandbox excavations\, an archeology obstacle course\, and more. As an added bonus\, kids can earn an Archeology Junior Ranger Badge by completing the activities!
URL:https://www.archaeological.org/event/archeology-day-fair-at-hot-springs-national-park/
LOCATION:Arlington Lawn\, 369 Central Ave\, Hot Springs\, AR\, 71901\, United States
CATEGORIES:Education,International Archaeology Day
ATTACH;FMTTYPE=image/jpeg:https://www.archaeological.org/wp-content/uploads/2023/10/158B4058.jpg
ORGANIZER;CN="Victoria Reichard":MAILTO:victoria_reichard@nps.gov
GEO:34.5118959;-93.0535937
X-APPLE-STRUCTURED-LOCATION;VALUE=URI;X-ADDRESS=Arlington Lawn 369 Central Ave Hot Springs AR 71901 United States;X-APPLE-RADIUS=500;X-TITLE=369 Central Ave:geo:-93.0535937,34.5118959
END:VEVENT
BEGIN:VEVENT
DTSTART;TZID=America/Los_Angeles:20231021T100000
DTEND;TZID=America/Los_Angeles:20231021T140000
DTSTAMP:20260421T121840
CREATED:20231010T154139Z
LAST-MODIFIED:20231010T154139Z
UID:10007029-1697882400-1697896800@www.archaeological.org
SUMMARY:Celebrate International Archaeology Day @ WSC
DESCRIPTION:Come and celebrate International Archaeology Day at the Western Science Center! October 21st\, 10am – 2pm.\nExplore the science of archaeology while discovering sites from around the world with hands-on fun and activities.\nAll activities are included in museum admission costs.\nActivities made possible by a partnership with Mount San Jacinto College Anthropology Department.
URL:https://www.archaeological.org/event/celebrate-international-archaeology-day-wsc/
LOCATION:Western Science Center\, 2345 Searl Parkway\, Hemet\, CA\, 92543-9706\, United States
CATEGORIES:Education,International Archaeology Day
ORGANIZER;CN="Margaret Ozolins":MAILTO:mozolins@westerncentermuseum.org
GEO:33.7059022;-116.9925457
X-APPLE-STRUCTURED-LOCATION;VALUE=URI;X-ADDRESS=Western Science Center 2345 Searl Parkway Hemet CA 92543-9706 United States;X-APPLE-RADIUS=500;X-TITLE=2345 Searl Parkway:geo:-116.9925457,33.7059022
END:VEVENT
END:VCALENDAR