BEGIN:VCALENDAR
VERSION:2.0
PRODID:-//Archaeological Institute of America - ECPv6.15.20//NONSGML v1.0//EN
CALSCALE:GREGORIAN
METHOD:PUBLISH
X-ORIGINAL-URL:https://www.archaeological.org
X-WR-CALDESC:Events for Archaeological Institute of America
REFRESH-INTERVAL;VALUE=DURATION:PT1H
X-Robots-Tag:noindex
X-PUBLISHED-TTL:PT1H
BEGIN:VTIMEZONE
TZID:America/New_York
BEGIN:DAYLIGHT
TZOFFSETFROM:-0500
TZOFFSETTO:-0400
TZNAME:EDT
DTSTART:20200308T070000
END:DAYLIGHT
BEGIN:STANDARD
TZOFFSETFROM:-0400
TZOFFSETTO:-0500
TZNAME:EST
DTSTART:20201101T060000
END:STANDARD
BEGIN:DAYLIGHT
TZOFFSETFROM:-0500
TZOFFSETTO:-0400
TZNAME:EDT
DTSTART:20210314T070000
END:DAYLIGHT
BEGIN:STANDARD
TZOFFSETFROM:-0400
TZOFFSETTO:-0500
TZNAME:EST
DTSTART:20211107T060000
END:STANDARD
BEGIN:DAYLIGHT
TZOFFSETFROM:-0500
TZOFFSETTO:-0400
TZNAME:EDT
DTSTART:20220313T070000
END:DAYLIGHT
BEGIN:STANDARD
TZOFFSETFROM:-0400
TZOFFSETTO:-0500
TZNAME:EST
DTSTART:20221106T060000
END:STANDARD
BEGIN:DAYLIGHT
TZOFFSETFROM:-0500
TZOFFSETTO:-0400
TZNAME:EDT
DTSTART:20230312T070000
END:DAYLIGHT
BEGIN:STANDARD
TZOFFSETFROM:-0400
TZOFFSETTO:-0500
TZNAME:EST
DTSTART:20231105T060000
END:STANDARD
END:VTIMEZONE
BEGIN:VTIMEZONE
TZID:America/Denver
BEGIN:DAYLIGHT
TZOFFSETFROM:-0700
TZOFFSETTO:-0600
TZNAME:MDT
DTSTART:20200308T090000
END:DAYLIGHT
BEGIN:STANDARD
TZOFFSETFROM:-0600
TZOFFSETTO:-0700
TZNAME:MST
DTSTART:20201101T080000
END:STANDARD
BEGIN:DAYLIGHT
TZOFFSETFROM:-0700
TZOFFSETTO:-0600
TZNAME:MDT
DTSTART:20210314T090000
END:DAYLIGHT
BEGIN:STANDARD
TZOFFSETFROM:-0600
TZOFFSETTO:-0700
TZNAME:MST
DTSTART:20211107T080000
END:STANDARD
BEGIN:DAYLIGHT
TZOFFSETFROM:-0700
TZOFFSETTO:-0600
TZNAME:MDT
DTSTART:20220313T090000
END:DAYLIGHT
BEGIN:STANDARD
TZOFFSETFROM:-0600
TZOFFSETTO:-0700
TZNAME:MST
DTSTART:20221106T080000
END:STANDARD
END:VTIMEZONE
BEGIN:VTIMEZONE
TZID:America/Chicago
BEGIN:DAYLIGHT
TZOFFSETFROM:-0600
TZOFFSETTO:-0500
TZNAME:CDT
DTSTART:20200308T080000
END:DAYLIGHT
BEGIN:STANDARD
TZOFFSETFROM:-0500
TZOFFSETTO:-0600
TZNAME:CST
DTSTART:20201101T070000
END:STANDARD
BEGIN:DAYLIGHT
TZOFFSETFROM:-0600
TZOFFSETTO:-0500
TZNAME:CDT
DTSTART:20210314T080000
END:DAYLIGHT
BEGIN:STANDARD
TZOFFSETFROM:-0500
TZOFFSETTO:-0600
TZNAME:CST
DTSTART:20211107T070000
END:STANDARD
BEGIN:DAYLIGHT
TZOFFSETFROM:-0600
TZOFFSETTO:-0500
TZNAME:CDT
DTSTART:20220313T080000
END:DAYLIGHT
BEGIN:STANDARD
TZOFFSETFROM:-0500
TZOFFSETTO:-0600
TZNAME:CST
DTSTART:20221106T070000
END:STANDARD
END:VTIMEZONE
BEGIN:VTIMEZONE
TZID:America/Boise
BEGIN:DAYLIGHT
TZOFFSETFROM:-0700
TZOFFSETTO:-0600
TZNAME:MDT
DTSTART:20200308T090000
END:DAYLIGHT
BEGIN:STANDARD
TZOFFSETFROM:-0600
TZOFFSETTO:-0700
TZNAME:MST
DTSTART:20201101T080000
END:STANDARD
BEGIN:DAYLIGHT
TZOFFSETFROM:-0700
TZOFFSETTO:-0600
TZNAME:MDT
DTSTART:20210314T090000
END:DAYLIGHT
BEGIN:STANDARD
TZOFFSETFROM:-0600
TZOFFSETTO:-0700
TZNAME:MST
DTSTART:20211107T080000
END:STANDARD
BEGIN:DAYLIGHT
TZOFFSETFROM:-0700
TZOFFSETTO:-0600
TZNAME:MDT
DTSTART:20220313T090000
END:DAYLIGHT
BEGIN:STANDARD
TZOFFSETFROM:-0600
TZOFFSETTO:-0700
TZNAME:MST
DTSTART:20221106T080000
END:STANDARD
END:VTIMEZONE
BEGIN:VEVENT
DTSTART;TZID=America/New_York:20220105T150000
DTEND;TZID=America/New_York:20220105T150000
DTSTAMP:20260422T130313
CREATED:20211231T193323Z
LAST-MODIFIED:20211231T193323Z
UID:10006232-1641394800-1641394800@www.archaeological.org
SUMMARY:SASA Mini Reading Group: A Brief Introduction to Maya Hieroglyphic Writing
DESCRIPTION:Previous participation and previous knowledge not required. \nAre you curious about how Maya hieroglyphs are read and what they say? Maya glyphs are one of the most visually interesting writing systems in the world\, and are still being deciphered today. In this reading group\, we will learn about the process of decipherment\, how to read Maya glyphs\, and where you can find more resources to continue learning! \nHere is what you will be able to do at the end of the reading group: \nOutline the decipherment of Maya hieroglyphic writing from the past through today\nDemonstrate basic competency in Maya calendrics and numeric functions\nIdentify the most common Maya syllabograms and logograms\nInterpret captions found in important Maya works of art\n3-Week Text-In-Translation Reading Group \nWednesdays @ 3pm EST \nJan. 5th \nJan. 12th \nJan. 19th \nParticipants only need to register for each Reading Group once\, you will receive links to our Live Syllabus where readings and discussions are posted in the confirmation email. \nBy RSVPing\, you are agreeing that a recording of the event can be shared with others who RSVPed.
URL:https://www.archaeological.org/event/sasa-mini-reading-group-a-brief-introduction-to-maya-hieroglyphic-writing/2022-01-05/
LOCATION:OH
CATEGORIES:Education
ATTACH;FMTTYPE=image/png:https://www.archaeological.org/wp-content/uploads/2021/12/SASA_New_Name_Logo_Transp_Black-1.png
ORGANIZER;CN="David Danzig":MAILTO:ddanzig@saveancientstudies.org
END:VEVENT
BEGIN:VEVENT
DTSTART;TZID=America/New_York:20220104T140000
DTEND;TZID=America/New_York:20220104T140000
DTSTAMP:20260422T130313
CREATED:20211231T193411Z
LAST-MODIFIED:20211231T193411Z
UID:10006237-1641304800-1641304800@www.archaeological.org
SUMMARY:SASA Mini Reading Group: The Search for the Golden Fleece: Jason and the Argonauts
DESCRIPTION:Previous participation and previous knowledge not required. \nIn Greek mythology\, the Golden Fleece is the fleece of the golden-woolled\, winged ram\, Chrysomallos\, that rescued Phrixus and brought him to Colchis\, where Phrixus then sacrificed it to Zeus. Phrixus gave the fleece to King Aeëtes who kept it in a sacred grove\, whence Jason and the Argonauts stole it with the help of Aeëtes’ daughter. which was held in Colchis. The fleece is a symbol of authority and kingship. Join us to learn more about how Jason stole the Golden Fleece. \nTuesdays @ 2pm EST \nJan. 4th \nJan. 11th \nJan. 18th \nParticipants only need to register for each Reading Group once\, you will receive links to our Live Syllabus where readings and discussions are posted in the confirmation email. \nBy RSVPing\, you are agreeing that a recording of the event can be shared with others who RSVPed.
URL:https://www.archaeological.org/event/sasa-mini-reading-group-the-search-for-the-golden-fleece-jason-and-the-argonauts/2022-01-04/
LOCATION:OH
CATEGORIES:Education
ORGANIZER;CN="David Danzig":MAILTO:ddanzig@saveancientstudies.org
END:VEVENT
BEGIN:VEVENT
DTSTART;TZID=America/New_York:20211016T100000
DTEND;TZID=America/New_York:20211016T160000
DTSTAMP:20260422T130313
CREATED:20210729T194259Z
LAST-MODIFIED:20210803T143254Z
UID:10005690-1634378400-1634400000@www.archaeological.org
SUMMARY:American Indian Festival
DESCRIPTION:Join state and local archaeologists at the 13th annual American Indian Festival at Patuxent River Park. Discover the rich and diverse culture of Native American Indians through dancing\, crafts\, storytelling\, and hands-on archaeological activities like flint knapping\, pinch pot making\, and artifact identification.
URL:https://www.archaeological.org/event/american-indian-festival/
LOCATION:Patuxent River Park\, 16000 Croom Airport Rd\, Upper Marlboro\, MD\, 20772\, United States
CATEGORIES:Archaeology Fair,Education,International Archaeology Day
ATTACH;FMTTYPE=image/png:https://www.archaeological.org/wp-content/uploads/2021/07/AmInd-Fest.png
ORGANIZER;CN="Stephanie Sperling":MAILTO:stephanie.sperling@pgparks.com
GEO:38.7736418;-76.7110819
X-APPLE-STRUCTURED-LOCATION;VALUE=URI;X-ADDRESS=Patuxent River Park 16000 Croom Airport Rd Upper Marlboro MD 20772 United States;X-APPLE-RADIUS=500;X-TITLE=16000 Croom Airport Rd:geo:-76.7110819,38.7736418
END:VEVENT
BEGIN:VEVENT
DTSTART;TZID=America/New_York:20211016T100000
DTEND;TZID=America/New_York:20211016T120000
DTSTAMP:20260422T130313
CREATED:20210824T201149Z
LAST-MODIFIED:20210824T201149Z
UID:10005958-1634378400-1634385600@www.archaeological.org
SUMMARY:Lamb Spring Tours & Atlatl Toss
DESCRIPTION:In conjunction with the Archaeology Expo being held nearby\, (historycolorado.org)\, the Lamb Spring Archaeological Preserve (LSAP) will host talks and tours with atlatl tossing starting at 10:00 and 11:00am. \nLSAP is an internationally significant archaeological site containing bone beds of extinct Ice Age animals and artifacts from later human occupation. Extinct Ice Age animals found at the site include over 30 Columbian Mammoths\, the largest number known from any site in Colorado. It also contains the remains of Ice Age camels\, horses\, sloths\, llamas\, and wolves. The site contains what may be some of the best-preserved evidence of the earliest humans to live in the North American Continent. The artifacts left by humans indicate people hunted and camped around the spring for the past 9\,000 years and possibly much longer. \nSign up for the 10:00 or 11:00 tour on eventbrite.com. You will be contacted with the location of the preserve which is on private property\,
URL:https://www.archaeological.org/event/lamb-spring-tours-atlatl-toss/
LOCATION:Lamb Spring Archaeological Preserve\, Littleton\, CO\, 80125\, United States
CATEGORIES:Education,International Archaeology Day
ATTACH;FMTTYPE=image/jpeg:https://www.archaeological.org/wp-content/uploads/2021/08/LSAP-Atlatl-Toss-2019-rotated.jpeg
ORGANIZER;CN="Cameron Randolph":MAILTO:crandolph54@gmail.com
GEO:39.5069625;-105.0557415
END:VEVENT
BEGIN:VEVENT
DTSTART;VALUE=DATE:20211016
DTEND;VALUE=DATE:20211017
DTSTAMP:20260422T130313
CREATED:20210825T153939Z
LAST-MODIFIED:20210825T190308Z
UID:10005976-1634342400-1634428799@www.archaeological.org
SUMMARY:Virtual IAD Celebration
DESCRIPTION:A virtual celebration of the Museum of Anthropology’s archaeological collections and the history of MU’s involvement in the archaeology of Missouri.
URL:https://www.archaeological.org/event/virtual-iad-celebration/
LOCATION:OH
CATEGORIES:Education,International Archaeology Day
ATTACH;FMTTYPE=image/jpeg:https://www.archaeological.org/wp-content/uploads/2021/08/RattleBU21a.jpeg
ORGANIZER;CN="Amanda Staley Harrison":MAILTO:anthromuseum@missouri.edu
END:VEVENT
BEGIN:VEVENT
DTSTART;TZID=America/Denver:20211015T120000
DTEND;TZID=America/Denver:20211015T133000
DTSTAMP:20260422T130313
CREATED:20210930T214902Z
LAST-MODIFIED:20210930T215202Z
UID:10006108-1634299200-1634304600@www.archaeological.org
SUMMARY:Terrace Utah\, Population 0
DESCRIPTION:Join us for this live\, interactive presentation on Zoom! \nHustling and bustling to starkly quiet\, the life of one of Utah’s largest railroad towns of the 1870s-1890s remains part of the historical and archaeological record. \nArchaeologists with the Utah State Historic Preservation Office and the Bureau of Land Management partnered with the Chinese Railroad Workers’ Descendants Association to complete two seasons of fieldwork at the town of Terrace\, home to Utah’s third largest Chinatown in 1870. Though ravaged by time and vandals\, the archaeological heritage of this site is rich and helping connect living peoples to this past experience. In honor of International Archaeology Day\, this presentation will honor of the voices of those past residents of Terrace through the Chinese descendant community\, archaeological discoveries\, and work of numerous volunteers.
URL:https://www.archaeological.org/event/terrace-utah-population-0/
LOCATION:online\, Portugal\, Maia\, AK\, 0000\, Egypt
CATEGORIES:Education,International Archaeology Day
ATTACH;FMTTYPE=image/jpeg:https://www.archaeological.org/wp-content/uploads/2021/09/Terrace-FB-Twitter-1-1.jpg
ORGANIZER;CN="Elizabeth Hora":MAILTO:ehora@utah.gov
GEO:51.5073509;-0.1277583
X-APPLE-STRUCTURED-LOCATION;VALUE=URI;X-ADDRESS=online Portugal Maia AK 0000 Egypt;X-APPLE-RADIUS=500;X-TITLE=Portugal:geo:-0.1277583,51.5073509
END:VEVENT
BEGIN:VEVENT
DTSTART;TZID=America/Chicago:20211015T090000
DTEND;TZID=America/Chicago:20211015T103000
DTSTAMP:20260422T130313
CREATED:20211004T194204Z
LAST-MODIFIED:20211004T194204Z
UID:10006133-1634288400-1634293800@www.archaeological.org
SUMMARY:Heritage Hikes: Oak Tree Nature Park
DESCRIPTION:Join the Florida Public Archaeology Network on this hour-long stroll down trails in Oak Tree Nature Park to celebrate International Archaeology Day! This tour will highlight local archaeological resources\, focusing on the area’s Native American heritage. Participants will learn about Native American history in Northwest Florida\, what archaeology can tell us about pre-contact Native American sites\, and how we can preserve and protect these non-renewable cultural resources. \nHikers will meet at the Oak Tree Nature Park pavilion (707 E Hollywood Blvd\, Mary Esther\, FL 32569) at 9:00am CT for a brief introductory presentation followed by a guided hike in the Park. This tour is offered for free and is limited to 30 participants; RSVP with mthomin@uwf.edu to join! Hikers should dress for the weather and wear close-toed shoes. Drinking water is recommended.
URL:https://www.archaeological.org/event/heritage-hikes-oak-tree-nature-park/
LOCATION:Oak Tree Nature Park\, 707 E Hollywood Blvd.\, Mary Esther\, FL\, 32569\, United States
CATEGORIES:Education,International Archaeology Day
ATTACH;FMTTYPE=image/jpeg:https://www.archaeological.org/wp-content/uploads/2021/10/244221011_4950679741626413_7333332690066096545_n.jpeg
ORGANIZER;CN="Mike Thomin":MAILTO:mthomin@uwf.edu
GEO:30.413263;-86.6481
X-APPLE-STRUCTURED-LOCATION;VALUE=URI;X-ADDRESS=Oak Tree Nature Park 707 E Hollywood Blvd. Mary Esther FL 32569 United States;X-APPLE-RADIUS=500;X-TITLE=707 E Hollywood Blvd.:geo:-86.6481,30.413263
END:VEVENT
BEGIN:VEVENT
DTSTART;TZID=America/New_York:20211013T080000
DTEND;TZID=America/New_York:20211015T180000
DTSTAMP:20260422T130313
CREATED:20210413T154441Z
LAST-MODIFIED:20210413T154441Z
UID:10005678-1634112000-1634320800@www.archaeological.org
SUMMARY:Cultural Sustainable Tourism (CST) - 3rd Edition
DESCRIPTION:Experiencing the stories\, culture and heritage of the past and present is the spirit of cultural tourism\, creating and providing a sustainable environment for both the locals and the visitors is what sustainable tourism attempts to achieve. Travelers who aim to recreate cultural experiences\, spend more time and money at their destinations more than other travelers. This form of tourism is also becoming generally more popular throughout the world.
URL:https://www.archaeological.org/event/cultural-sustainable-tourism-cst-3rd-edition/
LOCATION:online conference\, online conference\, online\, 000\, Indonesia
CATEGORIES:Education
ATTACH;FMTTYPE=image/png:https://www.archaeological.org/wp-content/uploads/2021/04/event.png
ORGANIZER;CN="Marwa Eid":MAILTO:cst@ierek-scholar.org
GEO:40.6331249;-89.3985283
X-APPLE-STRUCTURED-LOCATION;VALUE=URI;X-ADDRESS=online conference online conference online 000 Indonesia;X-APPLE-RADIUS=500;X-TITLE=online conference:geo:-89.3985283,40.6331249
END:VEVENT
BEGIN:VEVENT
DTSTART;VALUE=DATE:20211012
DTEND;VALUE=DATE:20211013
DTSTAMP:20260422T130313
CREATED:20211012T191125Z
LAST-MODIFIED:20211012T191125Z
UID:10005849-1633996800-1634083199@www.archaeological.org
SUMMARY:Excavate Virtual Egyptian Artifacts Online
DESCRIPTION:This activity is fun for all ages. Play the archaeology inspired Excavate! Egypt™ game online in celebration of International Archaeology Day. This is a virtual all-day event. \nExplore four culturally important “dig sites” including Alexandria\, Giza\, Valley of the Kings\, and Karnak. There are over 50 artifacts to uncover and analyze. Explore a worker’s village in Giza and the temple of Karnak\, that highlight very different lifestyles and illustrate social class differences. Investigate the Valley of the Kings\, where past Pharaohs are mummified. Examine the library at Alexandria to gain a deeper understanding of the importance of learning and studying. Visit the sites in any order; your progress will be recorded in journals that log collected artifacts\, field notes and achievements.  At each location\, make meaning of how artifacts were used through a series of analysis questions and reports that help you consider the historical context of the primary source artifacts to make connections. \nPlay The Game – https://games.dig-itgames.com/game_directory/excavate-egypt-free/ \nArchaeology Day Blog – https://dig-itgames.com/international-archaeology-day-2021/ \nExcavate! Egypt Game Info – https://dig-itgames.com/portfolio/excavate-egypt-world-history-lesson-game/ \nAsk The Game Developer \nFrom 9:00AM to 5:00PM the team at DiG-iT! Games® including archaeologist Suzi Keehn (Wilczynski) will be available to answer questions through our help desk channel (https://digitgames.zendesk.com/hc/en-us/requests/new) or social medial channels (@digitgames) about the game. \nPlay After October 16 \nCan’t find time to play on archaeology day? Excavate! Egypt is always free to play online. Play it with the family or integrate it into lesson plans in schools\, museums and other cultural activities.
URL:https://www.archaeological.org/event/excavate-virtual-egyptian-artifacts-online/
LOCATION:OH
CATEGORIES:Education,International Archaeology Day
ATTACH;FMTTYPE=image/png:https://www.archaeological.org/wp-content/uploads/2021/10/AIA_egypt.png
ORGANIZER;CN="Suzi Keehn":MAILTO:suzi@dig-itgames.com
END:VEVENT
BEGIN:VEVENT
DTSTART;TZID=America/Denver:20210930T080000
DTEND;TZID=America/Denver:20210930T170000
DTSTAMP:20260422T130313
CREATED:20211001T171926Z
LAST-MODIFIED:20211001T171926Z
UID:10006118-1632988800-1633021200@www.archaeological.org
SUMMARY:Terrace Utah\, Population 0
DESCRIPTION:Join us for our online webinar event! \nUtah’s desert sands have buried incredible stories – now it’s time to uncover what has been lost. \nHustling and bustling to starkly quiet\, the life of one of Utah’s largest railroad towns of the 1870s-1890s remains part of the historical and archaeological record. \nArchaeologists with the Utah State Historic Preservation Office and the Bureau of Land Management partnered with the Chinese Railroad Workers’ Descendants Association to complete two seasons of fieldwork at the town of Terrace\, home to Utah’s third largest Chinatown in 1870. Though ravaged by time and vandals\, the archaeological heritage of this site is rich and helping connect living peoples to this past experience. In honor of International Archaeology Day\, this presentation will honor of the voices of those past residents of Terrace through the Chinese descendant community\, archaeological discoveries\, and work of numerous volunteers. \nYou can register for this event by clicking the button below.
URL:https://www.archaeological.org/event/terrace-utah-population-0-2/
LOCATION:online\, Portugal\, Maia\, AK\, 0000\, Egypt
CATEGORIES:Education
ATTACH;FMTTYPE=image/jpeg:https://www.archaeological.org/wp-content/uploads/2021/09/Terrace-FB-Twitter-1.jpg
ORGANIZER;CN="Elizabeth Hora":MAILTO:ehora@utah.gov
GEO:51.5073509;-0.1277583
X-APPLE-STRUCTURED-LOCATION;VALUE=URI;X-ADDRESS=online Portugal Maia AK 0000 Egypt;X-APPLE-RADIUS=500;X-TITLE=Portugal:geo:-0.1277583,51.5073509
END:VEVENT
BEGIN:VEVENT
DTSTART;TZID=America/Boise:20210910T150000
DTEND;TZID=America/Boise:20210910T180000
DTSTAMP:20260422T130313
CREATED:20210811T150630Z
LAST-MODIFIED:20210811T150630Z
UID:10005702-1631286000-1631296800@www.archaeological.org
SUMMARY:BYU's Museum of Peoples and Cultures: Utah Valley Exhibit Opening
DESCRIPTION:Come celebrate the opening of our new Utah Valley exhibit at this education-focused open house event! The new exhibit features artifacts from the four main groups that have inhabited Utah Valley\, many of them excavated by archaeologists at BYU. Activities at the event will include demonstrations of our educational resources\, guided tours\, refreshments\, and more!
URL:https://www.archaeological.org/event/byus-museum-of-peoples-and-cultures-utah-valley-exhibit-opening/
LOCATION:Museum of Peoples and Cultures\, 2201 N Canyon Rd.\, Provo\, UT\, 84604\, United States
CATEGORIES:Education
ATTACH;FMTTYPE=image/jpeg:https://www.archaeological.org/wp-content/uploads/2021/08/1910-40-0018.jpg
ORGANIZER;CN="Lillian Andrew":MAILTO:mpc@byu.edu
GEO:40.2629988;-111.6576794
X-APPLE-STRUCTURED-LOCATION;VALUE=URI;X-ADDRESS=Museum of Peoples and Cultures 2201 N Canyon Rd. Provo UT 84604 United States;X-APPLE-RADIUS=500;X-TITLE=2201 N Canyon Rd.:geo:-111.6576794,40.2629988
END:VEVENT
END:VCALENDAR