BEGIN:VCALENDAR
VERSION:2.0
PRODID:-//Archaeological Institute of America - ECPv6.15.20//NONSGML v1.0//EN
CALSCALE:GREGORIAN
METHOD:PUBLISH
X-ORIGINAL-URL:https://www.archaeological.org
X-WR-CALDESC:Events for Archaeological Institute of America
REFRESH-INTERVAL;VALUE=DURATION:PT1H
X-Robots-Tag:noindex
X-PUBLISHED-TTL:PT1H
BEGIN:VTIMEZONE
TZID:America/New_York
BEGIN:DAYLIGHT
TZOFFSETFROM:-0500
TZOFFSETTO:-0400
TZNAME:EDT
DTSTART:20200308T070000
END:DAYLIGHT
BEGIN:STANDARD
TZOFFSETFROM:-0400
TZOFFSETTO:-0500
TZNAME:EST
DTSTART:20201101T060000
END:STANDARD
BEGIN:DAYLIGHT
TZOFFSETFROM:-0500
TZOFFSETTO:-0400
TZNAME:EDT
DTSTART:20210314T070000
END:DAYLIGHT
BEGIN:STANDARD
TZOFFSETFROM:-0400
TZOFFSETTO:-0500
TZNAME:EST
DTSTART:20211107T060000
END:STANDARD
BEGIN:DAYLIGHT
TZOFFSETFROM:-0500
TZOFFSETTO:-0400
TZNAME:EDT
DTSTART:20220313T070000
END:DAYLIGHT
BEGIN:STANDARD
TZOFFSETFROM:-0400
TZOFFSETTO:-0500
TZNAME:EST
DTSTART:20221106T060000
END:STANDARD
END:VTIMEZONE
BEGIN:VTIMEZONE
TZID:America/Chicago
BEGIN:DAYLIGHT
TZOFFSETFROM:-0600
TZOFFSETTO:-0500
TZNAME:CDT
DTSTART:20200308T080000
END:DAYLIGHT
BEGIN:STANDARD
TZOFFSETFROM:-0500
TZOFFSETTO:-0600
TZNAME:CST
DTSTART:20201101T070000
END:STANDARD
BEGIN:DAYLIGHT
TZOFFSETFROM:-0600
TZOFFSETTO:-0500
TZNAME:CDT
DTSTART:20210314T080000
END:DAYLIGHT
BEGIN:STANDARD
TZOFFSETFROM:-0500
TZOFFSETTO:-0600
TZNAME:CST
DTSTART:20211107T070000
END:STANDARD
BEGIN:DAYLIGHT
TZOFFSETFROM:-0600
TZOFFSETTO:-0500
TZNAME:CDT
DTSTART:20220313T080000
END:DAYLIGHT
BEGIN:STANDARD
TZOFFSETFROM:-0500
TZOFFSETTO:-0600
TZNAME:CST
DTSTART:20221106T070000
END:STANDARD
END:VTIMEZONE
BEGIN:VTIMEZONE
TZID:America/Denver
BEGIN:DAYLIGHT
TZOFFSETFROM:-0700
TZOFFSETTO:-0600
TZNAME:MDT
DTSTART:20200308T090000
END:DAYLIGHT
BEGIN:STANDARD
TZOFFSETFROM:-0600
TZOFFSETTO:-0700
TZNAME:MST
DTSTART:20201101T080000
END:STANDARD
BEGIN:DAYLIGHT
TZOFFSETFROM:-0700
TZOFFSETTO:-0600
TZNAME:MDT
DTSTART:20210314T090000
END:DAYLIGHT
BEGIN:STANDARD
TZOFFSETFROM:-0600
TZOFFSETTO:-0700
TZNAME:MST
DTSTART:20211107T080000
END:STANDARD
BEGIN:DAYLIGHT
TZOFFSETFROM:-0700
TZOFFSETTO:-0600
TZNAME:MDT
DTSTART:20220313T090000
END:DAYLIGHT
BEGIN:STANDARD
TZOFFSETFROM:-0600
TZOFFSETTO:-0700
TZNAME:MST
DTSTART:20221106T080000
END:STANDARD
END:VTIMEZONE
BEGIN:VEVENT
DTSTART;TZID=America/New_York:20211126T090000
DTEND;TZID=America/New_York:20211126T170000
DTSTAMP:20260421T140335
CREATED:20211117T133929Z
LAST-MODIFIED:20211117T133929Z
UID:10006212-1637917200-1637946000@www.archaeological.org
SUMMARY:Muchos Méxicos: Crossroads of the Americas exhibition opens to the public
DESCRIPTION:On Friday\, November 26\, the Harvard Museums of Science & Culture—the Harvard Museum of Natural History\, the Peabody Museum of Archaeology & Ethnology\, the Harvard Museum of the Ancient Near East\, and the Collection of Historical Scientific Instruments—reopen to the public. See https://bit.ly/HMSCExhibitions for hours and reservations. \nMuchos Méxicos explores Mexico’s rich history as a site of human innovation\, creativity and cultural diversity. Featuring Mexican objects from the Peabody Museum collections\, this bilingual exhibit tells the story of Mexico as a multicultural and geographic crossroads—one where the exchange of resources\, products\, and ideas among Indigenous peoples throughout the Americas before the Spanish invasion\, and then with cultures around the globe—have all created a vibrant nation. See https://bit.ly/HMSCExhibitions for hours and reservations. \nMuchos Méxicos explora la rica historia de México como un sitio de innovación humana\, creatividad y diversidad cultural. Con objetos mexicanos de las colecciones del Museo Peabody\, esta exposición bilingüe cuenta la historia de México como encrucijada multicultural y geográfica\, donde el intercambio de recursos\, productos e ideas entre los pueblos indígenas de toda América antes de la invasión española\, y luego con culturas alrededor del mundo\, han creado una nación vibrante. \nImage credit: Peabody Museum Expedition\, M. H. Saville and J. G. Owens\, Directors 1891-1892 © President and Fellows of Harvard College\, Peabody Museum of Archaeology and Ethnology\, 92-49-20/C276
URL:https://www.archaeological.org/event/muchos-mexicos-crossroads-of-the-americas-exhibition-opens-to-the-public/
LOCATION:Peabody Museum of Archaeology and Ethnology\, 11 Divinity Avenue\, Cambridge\, MA\, 02138\, United States
CATEGORIES:Exhibition
ATTACH;FMTTYPE=image/jpeg:https://www.archaeological.org/wp-content/uploads/2021/11/plumbate_tripod_jar_event.jpg
ORGANIZER;CN="Harvard Museums of Science &amp%3Bamp%3B Culture":MAILTO:hmscpr@hmsc.harvard.edu
GEO:42.377512;-71.1141269
X-APPLE-STRUCTURED-LOCATION;VALUE=URI;X-ADDRESS=Peabody Museum of Archaeology and Ethnology 11 Divinity Avenue Cambridge MA 02138 United States;X-APPLE-RADIUS=500;X-TITLE=11 Divinity Avenue:geo:-71.1141269,42.377512
END:VEVENT
BEGIN:VEVENT
DTSTART;TZID=America/Chicago:20211016T090000
DTEND;TZID=America/Chicago:20211016T120000
DTSTAMP:20260421T140335
CREATED:20210825T190243Z
LAST-MODIFIED:20210825T190243Z
UID:10005981-1634374800-1634385600@www.archaeological.org
SUMMARY:International Archaeology Day at the Parthenon
DESCRIPTION:On October 16\, 2021\, the Archaeological Institute of America-Nashville Society and the Nashville Parthenon are teaming up to join hundreds of archaeological organizations around the world to celebrate International Archaeology Day and the Tennessee STEAM Festival. \nFrom 9 AM – 12 PM\, a variety of socially distanced activity stations will be spread out across the second level of the Parthenon. Family-friendly STEAM (Science\, Technology\, Engineering\, Arts\, and Mathematics) activities will highlight archaeological work and artifacts\, and share the legacy of Greek culture to raise awareness of the ancient world. Museum visitors at this archaeology fair event will view The Antikythera Mechanism exhibition\, explore the replica interior of the ancient Parthenon\, participate in activity stations\, and earn an “Official Archaeologist of the Nashville Parthenon” sticker! Tabletop activity stations\, each equipped with 6ft social distance spacing\, hand sanitizer\, and sanitizing wipes\, include: \nOlive Oil Painting with Kidsville\n–Join Kidsville to learn about mythology stories as seen in Parthenon sculptures\, and use disposable materials to create your own take-home olive oil painting. \nAll About Antikythera\n–Gear up for some fun and find out how scholars have studied the world’s oldest computer\, the Antikythera mechanism\, since its discovery in the early 1900s. \nAsk an Expert\n–AIA Nashville Society officers will answer questions about all things archaeology and the ancient world! \nResearch Station\n–Designated the Quiet Area\, this inclusive space offers books and resources on archaeology\, ancient Greece\, and mythology. \nExperimental Archaeology\n–Visitors build miniature ancient structures with blocks and assorted materials just as archaeologists learn about the past by testing out ideas through experimentation of architectural steps and processes. \nPlease note: all visitors are required to wear face coverings inside the Nashville Parthenon. We recommend arriving early to ensure enough time to explore and visit each activity station.\nCost: \n● AIA Nashville Society members receive free museum admission.\n● Discounted admission for mentioning visiting for International Archaeology Day. \nSponsored by the Archaeological Institute of America\, Nashville Society\, Centennial Park Conservancy\, and Metro Nashville Parks and Recreation. \nAbout International Archaeology Day \nHeld on the third Saturday\, but fêted throughout the month of October\, International Archaeology Day is a celebration of archaeology and the thrill of discovery. The Archaeological Institute of America and collaborating archaeological organizations across the United States\, Canada\, and abroad present archaeological programs and activities for people of all ages and interests. Whether it is a family-friendly archaeology fair\, a guided tour of a local archaeological site\, a simulated dig\, a lecture or classroom visit from an archaeologist\, interactive\, hands-on International Archaeology Day programs provide the chance to indulge your inner Indiana Jones and be an archaeologist for the day. For more information about International Archaeology Day\, visit http://www.archaeologyday.org. \nAbout Tennessee STEAM Festival \nFounded by the Discovery Center\, the Tennessee STEAM Festival is a 10-day statewide celebration designed to build interest and excitement in STEAM (Science\, Technology\, Engineering\, Art\, and Mathematics). For more information about the Tennessee STEAM Festival\, visit www.tnsteam.org.
URL:https://www.archaeological.org/event/international-archaeology-day-at-the-parthenon-2/
LOCATION:Nashville Parthenon\, 2500 West End Ave\, Nashville\, TN\, 37203\, United States
CATEGORIES:Exhibition,International Archaeology Day
ATTACH;FMTTYPE=image/jpeg:https://www.archaeological.org/wp-content/uploads/2021/08/AIANash-Image-1-rotated.jpg
ORGANIZER;CN="Katie Petrole":MAILTO:katherine.petrole@nashville.gov
GEO:36.1494148;-86.812823
X-APPLE-STRUCTURED-LOCATION;VALUE=URI;X-ADDRESS=Nashville Parthenon 2500 West End Ave Nashville TN 37203 United States;X-APPLE-RADIUS=500;X-TITLE=2500 West End Ave:geo:-86.812823,36.1494148
END:VEVENT
BEGIN:VEVENT
DTSTART;VALUE=DATE:20211015
DTEND;VALUE=DATE:20211016
DTSTAMP:20260421T140335
CREATED:20211008T212809Z
LAST-MODIFIED:20211008T212809Z
UID:10005841-1634256000-1634342399@www.archaeological.org
SUMMARY:International Archaeology Day at the MPC!
DESCRIPTION:Celebrate International Archaeology Day at BYU’s Museum of Peoples and Cultures! Anyone who comes into the museum today will receive an archaeological treat.
URL:https://www.archaeological.org/event/international-archaeology-day-at-the-mpc/
LOCATION:BYU’s Museum of Peoples and Cultures\, 2201 N Canyon Rd.\, Provo\, UT\, 84602\, United States
CATEGORIES:Exhibition,International Archaeology Day
ATTACH;FMTTYPE=image/jpeg:https://www.archaeological.org/wp-content/uploads/2021/10/DSC_0020-1.jpg
ORGANIZER;CN="Lillian Sanders":MAILTO:mpc@byu.edu
GEO:40.2629988;-111.6576794
X-APPLE-STRUCTURED-LOCATION;VALUE=URI;X-ADDRESS=BYU’s Museum of Peoples and Cultures 2201 N Canyon Rd. Provo UT 84602 United States;X-APPLE-RADIUS=500;X-TITLE=2201 N Canyon Rd.:geo:-111.6576794,40.2629988
END:VEVENT
BEGIN:VEVENT
DTSTART;TZID=America/New_York:20210922T180000
DTEND;TZID=America/New_York:20210922T191500
DTSTAMP:20260421T140335
CREATED:20210913T204231Z
LAST-MODIFIED:20210913T204231Z
UID:10006076-1632333600-1632338100@www.archaeological.org
SUMMARY:Muchos Méxicos: Virtual Exhibition Preview and Conversation | Recorrido virtual de la exhibición y conversación
DESCRIPTION:Speakers\nDavíd Carrasco\, Neil L. Rudenstine Professor of the Study of Latin America\, Harvard University\nMaria Luisa Parra-Velasco\, Senior Preceptor in Romance Languages and Literatures\, Harvard University\nOctavio Murillo\, Director of Archives\, Instituto Nacional de los Pueblos Indígenas (National Institute of Indigenous Peoples)\, Mexico\nOnsite Guide for Virtual Visit: Andrew Majewski\, Museum Education Specialist\, Peabody Museum of Archaeology & Ethnology \nLive interpretation in English and Spanish \nJoin us for a virtual preview and conversation about the Muchos Méxicos exhibition. Three scholars who contributed to the making of the show will discuss their favorite objects and how they each tell stories of exchange and innovation—as well as loss and perseverance—across time and space. \nInterpretación en vivo en inglés y español \nÚnase a un recorrido virtual y conversación sobre la exhibición Muchos Méxicos. Tres académicos que contribuyeron a la realización de la exhibición hablarán sobre sus objetos favoritos y cómo cada uno de ellos cuenta historias de intercambio e innovación\, así como de pérdida y perseverancia\, a través del tiempo y el espacio.
URL:https://www.archaeological.org/event/muchos-mexicos-virtual-exhibition-preview-and-conversation-recorrido-virtual-de-la-exhibicion-y-conversacion/
LOCATION:MA
CATEGORIES:Exhibition
ATTACH;FMTTYPE=image/jpeg:https://www.archaeological.org/wp-content/uploads/2021/09/09-22-muchos-gazette-detail.jpg
ORGANIZER;CN="Harvard Museums of Science &amp%3Bamp%3B Culture":MAILTO:hmscpr@hmsc.harvard.edu
END:VEVENT
BEGIN:VEVENT
DTSTART;TZID=America/Chicago:20210918T090000
DTEND;TZID=America/Chicago:20210918T150000
DTSTAMP:20260421T140335
CREATED:20210917T151100Z
LAST-MODIFIED:20210917T151100Z
UID:10006096-1631955600-1631977200@www.archaeological.org
SUMMARY:Pirate Experience
DESCRIPTION:All ages welcome; free for those in pirate costume or with Smithsonian Museum Day tickets\, ticketed admission for the other landlubbers.\nCelebrate the Mardi Gras Shipwreck exhibition with Capitol Park Museum and the Louisiana Office of Cultural Development – Division of Archaeology from 9am-3pm for a day of pirate-themed fun! \nMuseum Day is a annual one-day event in which participating museums and cultural institutions across the country provide free entry to anyone presenting a Museum Day ticket. Participants are allowed to download one ticket per email address. The ticket provides free general admission on Saturday\, September 18\, 2021\, for two people. \nThe Museum Day theme this year is “Experience America.” With many public spaces being shut down for a year or more\, Museum Day 2021 celebrates the reopening of museums after long closures due to the COVID-19 pandemic. This year’s theme\, Experience America\, represents the return to\, and resurgence of\, our country’s diverse cultural experiences\, in the safest possible way. \nwww.smithsonianmag.com/museumday/venues/museum/capitol-park-museum \nThe Mardi Gras Shipwreck Exhibition \nIn 2007\, a team of archaeologists and researchers mapped\, recovered\, and analyzed more than 1\,000 artifacts from an underwater archaeological site in the Gulf of Mexico. While the artifacts and research indicate the ship sank in the early 1800s\, the name of the ship and its crewmembers remain unknown. It’s referred to as the Mardi Gras Shipwreck for the pipeline where Okeanos Gas Gathering Company found it in 2002 while surveying the floor of the gulf about 35 miles off the coast in 4\,000 feet of water. \nThe Mardi Gras Shipwreck exhibit features recovered artifacts that remained underwater for over 200 years and represents over a decade of collaborative research and conservation. Visit the exhibit to learn more about what researchers pieced together from the remains of this mysterious shipwreck!
URL:https://www.archaeological.org/event/pirate-experience/
LOCATION:Capitol Park Museum\, 660 N 4th St\, Baton Rouge\, LA\, 70802\, United States
CATEGORIES:Exhibition,Other Event
ATTACH;FMTTYPE=image/jpeg:https://www.archaeological.org/wp-content/uploads/2021/09/Pirate-Experience.jpg
ORGANIZER;CN="Maegan A Smith":MAILTO:msmith@crt.la.gov
GEO:30.454209;-91.186456
X-APPLE-STRUCTURED-LOCATION;VALUE=URI;X-ADDRESS=Capitol Park Museum 660 N 4th St Baton Rouge LA 70802 United States;X-APPLE-RADIUS=500;X-TITLE=660 N 4th St:geo:-91.186456,30.454209
END:VEVENT
END:VCALENDAR