BEGIN:VCALENDAR
VERSION:2.0
PRODID:-//Archaeological Institute of America - ECPv6.15.20//NONSGML v1.0//EN
CALSCALE:GREGORIAN
METHOD:PUBLISH
X-ORIGINAL-URL:https://www.archaeological.org
X-WR-CALDESC:Events for Archaeological Institute of America
REFRESH-INTERVAL;VALUE=DURATION:PT1H
X-Robots-Tag:noindex
X-PUBLISHED-TTL:PT1H
BEGIN:VTIMEZONE
TZID:America/New_York
BEGIN:DAYLIGHT
TZOFFSETFROM:-0500
TZOFFSETTO:-0400
TZNAME:EDT
DTSTART:20240310T070000
END:DAYLIGHT
BEGIN:STANDARD
TZOFFSETFROM:-0400
TZOFFSETTO:-0500
TZNAME:EST
DTSTART:20241103T060000
END:STANDARD
BEGIN:DAYLIGHT
TZOFFSETFROM:-0500
TZOFFSETTO:-0400
TZNAME:EDT
DTSTART:20250309T070000
END:DAYLIGHT
BEGIN:STANDARD
TZOFFSETFROM:-0400
TZOFFSETTO:-0500
TZNAME:EST
DTSTART:20251102T060000
END:STANDARD
BEGIN:DAYLIGHT
TZOFFSETFROM:-0500
TZOFFSETTO:-0400
TZNAME:EDT
DTSTART:20260308T070000
END:DAYLIGHT
BEGIN:STANDARD
TZOFFSETFROM:-0400
TZOFFSETTO:-0500
TZNAME:EST
DTSTART:20261101T060000
END:STANDARD
END:VTIMEZONE
BEGIN:VEVENT
DTSTART;TZID=America/New_York:20251028T183000
DTEND;TZID=America/New_York:20251028T193000
DTSTAMP:20260424T072154
CREATED:20250730T142418Z
LAST-MODIFIED:20250806T195231Z
UID:10008085-1761676200-1761679800@www.archaeological.org
SUMMARY:Sweden and the Baltic: A Story Told Through Trade - An International Archaeology Day Lecture
DESCRIPTION:The Archaeology Committee is honored to welcome Ambassador von Uexküll\, Sweden’s Deputy Representative to the United Nations\, to our International\nArchaeology Day Celebration\, exploring how trade has shaped integration\, prosperity\, and identity in Sweden and across the Baltic Sea region. \nFrom Viking voyages to Hanseatic dominance\, commerce has long connected cultures around the Baltic and beyond. During Sweden’s Age of Great Power (Stormaktstiden)\, trade routes became strategic assets though efforts to control them often failed. \nGlobal transactions later fueled the Industrial Revolution and continues to influence politics. From ancient customs to modern cooperation\, trade remains a defining force in the region’s history – and its future.
URL:https://www.archaeological.org/event/sweden-and-the-baltic-a-story-told-through-trade/
LOCATION:National Arts Club\, Gramercy Park South\, New York\, NY\, 10003\, United States
CATEGORIES:International Archaeology Day
ORGANIZER;CN="Michele Kidwell Gilbert":MAILTO:archaeology@nacnyc.org
GEO:40.737694;-73.986703
X-APPLE-STRUCTURED-LOCATION;VALUE=URI;X-ADDRESS=National Arts Club Gramercy Park South New York NY 10003 United States;X-APPLE-RADIUS=500;X-TITLE=Gramercy Park South:geo:-73.986703,40.737694
END:VEVENT
END:VCALENDAR