BEGIN:VCALENDAR
VERSION:2.0
PRODID:-//Archaeological Institute of America - ECPv6.15.20//NONSGML v1.0//EN
CALSCALE:GREGORIAN
METHOD:PUBLISH
X-WR-CALNAME:Archaeological Institute of America
X-ORIGINAL-URL:https://www.archaeological.org
X-WR-CALDESC:Events for Archaeological Institute of America
REFRESH-INTERVAL;VALUE=DURATION:PT1H
X-Robots-Tag:noindex
X-PUBLISHED-TTL:PT1H
BEGIN:VTIMEZONE
TZID:America/Los_Angeles
BEGIN:DAYLIGHT
TZOFFSETFROM:-0800
TZOFFSETTO:-0700
TZNAME:PDT
DTSTART:20240310T100000
END:DAYLIGHT
BEGIN:STANDARD
TZOFFSETFROM:-0700
TZOFFSETTO:-0800
TZNAME:PST
DTSTART:20241103T090000
END:STANDARD
BEGIN:DAYLIGHT
TZOFFSETFROM:-0800
TZOFFSETTO:-0700
TZNAME:PDT
DTSTART:20250309T100000
END:DAYLIGHT
BEGIN:STANDARD
TZOFFSETFROM:-0700
TZOFFSETTO:-0800
TZNAME:PST
DTSTART:20251102T090000
END:STANDARD
BEGIN:DAYLIGHT
TZOFFSETFROM:-0800
TZOFFSETTO:-0700
TZNAME:PDT
DTSTART:20260308T100000
END:DAYLIGHT
BEGIN:STANDARD
TZOFFSETFROM:-0700
TZOFFSETTO:-0800
TZNAME:PST
DTSTART:20261101T090000
END:STANDARD
END:VTIMEZONE
BEGIN:VEVENT
DTSTART;TZID=America/Los_Angeles:20251102T100000
DTEND;TZID=America/Los_Angeles:20251102T150000
DTSTAMP:20260424T053818
CREATED:20250917T151117Z
LAST-MODIFIED:20251014T135745Z
UID:10008587-1762077600-1762095600@www.archaeological.org
SUMMARY:Kingdoms of Asia
DESCRIPTION:The activities in this event will consist of the following:\n1. The guided tour of the Kingdoms of Asia Exhibit at the Fresno Chaffee Zoo. This Exhibit is new and contains monumental replicas of ancient Khmer temples and sacred sites\, including for example\, Bayon Temple\, Ta Prohm Temple\, and Kbal Sapean. The first two temples are very famous in Cambodia\, which can be dated to c. the 13th century and became filming locations for several Western movies. The temples have also been studied by archaeologists and art historians. This in-person tour will explain in detail the significance of these sites and their symbolic elements in ancient Southeast Asian cultures.\n2. Promotion of archaeology at the Zoo. There will be a lot of people at the Zoo on the Saturday of International Archaeology Day. The Society will have a table where our board members will promote the importance of archaeology and studies of civilizations\, disseminate knowledge\, hand out information\, recruit more members to the Society.
URL:https://www.archaeological.org/event/kingdoms-of-asia/
LOCATION:Fresno Chaffee Zoo\, 894 W Belmont Ave\, Fresno\, CA\, 93728\, United States
CATEGORIES:International Archaeology Day
ATTACH;FMTTYPE=image/jpeg:https://www.archaeological.org/wp-content/uploads/2025/09/KoA_Zoo_opening_withWN.jpg
ORGANIZER;CN="W. Saam Noonsuk":MAILTO:noonsuk@mail.fresnostate.edu
GEO:36.7524733;-119.8182676
X-APPLE-STRUCTURED-LOCATION;VALUE=URI;X-ADDRESS=Fresno Chaffee Zoo 894 W Belmont Ave Fresno CA 93728 United States;X-APPLE-RADIUS=500;X-TITLE=894 W Belmont Ave:geo:-119.8182676,36.7524733
END:VEVENT
END:VCALENDAR