BEGIN:VCALENDAR
VERSION:2.0
PRODID:-//Archaeological Institute of America - ECPv6.15.20//NONSGML v1.0//EN
CALSCALE:GREGORIAN
METHOD:PUBLISH
X-ORIGINAL-URL:https://www.archaeological.org
X-WR-CALDESC:Events for Archaeological Institute of America
REFRESH-INTERVAL;VALUE=DURATION:PT1H
X-Robots-Tag:noindex
X-PUBLISHED-TTL:PT1H
BEGIN:VTIMEZONE
TZID:America/New_York
BEGIN:DAYLIGHT
TZOFFSETFROM:-0500
TZOFFSETTO:-0400
TZNAME:EDT
DTSTART:20210314T070000
END:DAYLIGHT
BEGIN:STANDARD
TZOFFSETFROM:-0400
TZOFFSETTO:-0500
TZNAME:EST
DTSTART:20211107T060000
END:STANDARD
BEGIN:DAYLIGHT
TZOFFSETFROM:-0500
TZOFFSETTO:-0400
TZNAME:EDT
DTSTART:20220313T070000
END:DAYLIGHT
BEGIN:STANDARD
TZOFFSETFROM:-0400
TZOFFSETTO:-0500
TZNAME:EST
DTSTART:20221106T060000
END:STANDARD
BEGIN:DAYLIGHT
TZOFFSETFROM:-0500
TZOFFSETTO:-0400
TZNAME:EDT
DTSTART:20230312T070000
END:DAYLIGHT
BEGIN:STANDARD
TZOFFSETFROM:-0400
TZOFFSETTO:-0500
TZNAME:EST
DTSTART:20231105T060000
END:STANDARD
END:VTIMEZONE
BEGIN:VTIMEZONE
TZID:America/Los_Angeles
BEGIN:DAYLIGHT
TZOFFSETFROM:-0800
TZOFFSETTO:-0700
TZNAME:PDT
DTSTART:20210314T100000
END:DAYLIGHT
BEGIN:STANDARD
TZOFFSETFROM:-0700
TZOFFSETTO:-0800
TZNAME:PST
DTSTART:20211107T090000
END:STANDARD
BEGIN:DAYLIGHT
TZOFFSETFROM:-0800
TZOFFSETTO:-0700
TZNAME:PDT
DTSTART:20220313T100000
END:DAYLIGHT
BEGIN:STANDARD
TZOFFSETFROM:-0700
TZOFFSETTO:-0800
TZNAME:PST
DTSTART:20221106T090000
END:STANDARD
BEGIN:DAYLIGHT
TZOFFSETFROM:-0800
TZOFFSETTO:-0700
TZNAME:PDT
DTSTART:20230312T100000
END:DAYLIGHT
BEGIN:STANDARD
TZOFFSETFROM:-0700
TZOFFSETTO:-0800
TZNAME:PST
DTSTART:20231105T090000
END:STANDARD
END:VTIMEZONE
BEGIN:VTIMEZONE
TZID:America/Chicago
BEGIN:DAYLIGHT
TZOFFSETFROM:-0600
TZOFFSETTO:-0500
TZNAME:CDT
DTSTART:20210314T080000
END:DAYLIGHT
BEGIN:STANDARD
TZOFFSETFROM:-0500
TZOFFSETTO:-0600
TZNAME:CST
DTSTART:20211107T070000
END:STANDARD
BEGIN:DAYLIGHT
TZOFFSETFROM:-0600
TZOFFSETTO:-0500
TZNAME:CDT
DTSTART:20220313T080000
END:DAYLIGHT
BEGIN:STANDARD
TZOFFSETFROM:-0500
TZOFFSETTO:-0600
TZNAME:CST
DTSTART:20221106T070000
END:STANDARD
BEGIN:DAYLIGHT
TZOFFSETFROM:-0600
TZOFFSETTO:-0500
TZNAME:CDT
DTSTART:20230312T080000
END:DAYLIGHT
BEGIN:STANDARD
TZOFFSETFROM:-0500
TZOFFSETTO:-0600
TZNAME:CST
DTSTART:20231105T070000
END:STANDARD
END:VTIMEZONE
BEGIN:VTIMEZONE
TZID:America/Vancouver
BEGIN:DAYLIGHT
TZOFFSETFROM:-0800
TZOFFSETTO:-0700
TZNAME:PDT
DTSTART:20210314T100000
END:DAYLIGHT
BEGIN:STANDARD
TZOFFSETFROM:-0700
TZOFFSETTO:-0800
TZNAME:PST
DTSTART:20211107T090000
END:STANDARD
BEGIN:DAYLIGHT
TZOFFSETFROM:-0800
TZOFFSETTO:-0700
TZNAME:PDT
DTSTART:20220313T100000
END:DAYLIGHT
BEGIN:STANDARD
TZOFFSETFROM:-0700
TZOFFSETTO:-0800
TZNAME:PST
DTSTART:20221106T090000
END:STANDARD
BEGIN:DAYLIGHT
TZOFFSETFROM:-0800
TZOFFSETTO:-0700
TZNAME:PDT
DTSTART:20230312T100000
END:DAYLIGHT
BEGIN:STANDARD
TZOFFSETFROM:-0700
TZOFFSETTO:-0800
TZNAME:PST
DTSTART:20231105T090000
END:STANDARD
END:VTIMEZONE
BEGIN:VEVENT
DTSTART;VALUE=DATE:20220501
DTEND;VALUE=DATE:20220502
DTSTAMP:20260423T064622
CREATED:20210910T165909Z
LAST-MODIFIED:20220414T174638Z
UID:10006061-1651363200-1651449599@www.archaeological.org
SUMMARY:Daily Lives in an Age of Empire: Local Economics Life at Cadir Hoyuk (Turkey) during the Late Bronze Age (1600-1200 BCE)
DESCRIPTION:Dr. Sarah Adcock\, Assistant Professor at the NYU Institute for the Study of the Ancient World (ISAW) will speak about how research on the Late Bronze Age has often focused on elite lives and history\, but the daily lives of non- elite have remained unexamined. How were local practices of day-to-day life shaped by imperial aims?
URL:https://www.archaeological.org/event/daily-lives-in-an-age-of-empire-local-economics-life-at-cadir-hoyuk-turkeyduring-the-late-bronze-age-1600-1200-bce/
LOCATION:Hofstra University\, Breslin Hall\, 1000 Hempstead Turnpike (Hofstra University 105)\, Hempstead\, NY\, 11549\, United States
CATEGORIES:Lecture
ORGANIZER;CN="James Foy":MAILTO:jmsfy3@gmail.com
GEO:40.7140859;-73.6036399
X-APPLE-STRUCTURED-LOCATION;VALUE=URI;X-ADDRESS=Hofstra University Breslin Hall 1000 Hempstead Turnpike (Hofstra University 105) Hempstead NY 11549 United States;X-APPLE-RADIUS=500;X-TITLE=1000 Hempstead Turnpike (Hofstra University 105):geo:-73.6036399,40.7140859
END:VEVENT
BEGIN:VEVENT
DTSTART;TZID=America/Los_Angeles:20220501T140000
DTEND;TZID=America/Los_Angeles:20220501T150000
DTSTAMP:20260423T064622
CREATED:20220429T123413Z
LAST-MODIFIED:20220429T123413Z
UID:10006371-1651413600-1651417200@www.archaeological.org
SUMMARY:ARCE-NC Lecture May 1 by Aidan Dodson: The Resurrection of the First Pharaohs
DESCRIPTION:The American Research Center in Egypt\, Northern California Chapter\, and the Near Eastern Studies Department\, University of California\, Berkeley\, invite you to attend a virtual lecture by Dr. Aidan Dodson\, University of Bristol: \nThe Resurrection of the First Pharaohs \nSunday\, May 1\, 2022\, 2 PM Pacific Time (note the earlier time) \nZoom Lecture. A registration link will be automatically sent to ARCE-NC members. Non-members may request a registration link by sending email with your name and email address to arcencZoom@gmail.com. Non-members\, please send any registration requests no later than Friday\, April 29. The number of registrations is limited\, so the sooner you register\, the better. \nGlenn Meyer\nARCE-NC ePublicity \nAbout the Lecture:\nEgypt was unified around 3000 BC\, beginning the history of pharaonic Egypt and setting the ground-rules for the nature and constitution of the state and kingship that would endure for three millennia. This afternoon we will explore the way in which the memories of the first pharaohs were maintained and used by their successors down to Roman times\, and how\, after millennia of oblivion\, they were rediscovered by modern scholarship. \nAbout the Speaker: \nProfessor Aidan Dodson\nhas taught at the University of Bristol since 1996\, where he has been honorary Professor of Egyptology since 2018. A graduate of Liverpool and Cambridge Universities\, he was elected a Fellow of the Society of Antiquaries of London in 2003\, and was Simpson Professor of Egyptology at the American University in Cairo for spring 2013. He is the author of some 400 articles and reviews\, and 25 books; his latest is The First Pharaohs: Their Lives and Afterlives\, which was published by the American University in Cairo Press in October 2021.
URL:https://www.archaeological.org/event/arce-nc-lecture-may-1-by-aidan-dodson-the-resurrection-of-the-first-pharaohs/
LOCATION:MA
CATEGORIES:Lecture
ATTACH;FMTTYPE=image/jpeg:https://www.archaeological.org/wp-content/uploads/2022/04/Ceremonial_mace-head_of_King_Scorpion.jpg
ORGANIZER;CN="Glenn Meyer":MAILTO:arcencZoom@gmail.com
END:VEVENT
BEGIN:VEVENT
DTSTART;TZID=America/Chicago:20220507T130000
DTEND;TZID=America/Chicago:20220507T140000
DTSTAMP:20260423T064622
CREATED:20211104T213610Z
LAST-MODIFIED:20211104T213639Z
UID:10005873-1651928400-1651932000@www.archaeological.org
SUMMARY:New Research at St. Mary's City in Maryland
DESCRIPTION:Dr. Tim Horsley describes the new geophysical and archaeological discoveries at St. Mary’s City in Maryland.
URL:https://www.archaeological.org/event/new-research-at-st-marys-city-in-maryland/
LOCATION:MA
CATEGORIES:Lecture
ATTACH;FMTTYPE=image/jpeg:https://www.archaeological.org/wp-content/uploads/2021/11/11May41porcelainDollSm.jpg
END:VEVENT
BEGIN:VEVENT
DTSTART;TZID=America/Chicago:20220509T180000
DTEND;TZID=America/Chicago:20220509T180000
DTSTAMP:20260423T064622
CREATED:20220504T135515Z
LAST-MODIFIED:20220504T135515Z
UID:10006376-1652119200-1652119200@www.archaeological.org
SUMMARY:War on Looting: Contested Object Case Studies
DESCRIPTION:Please join us for an hour of brief case studies and Q&A about Looting presented by UST Art History graduate students!
URL:https://www.archaeological.org/event/war-on-looting-contested-object-case-studies/
LOCATION:on Zoom – pre-register via our partner org here: https://cas.stthomas.edu/departments/areas-of-study/art-history/\, St. Paul\, MN\, 55105\, United States
CATEGORIES:Lecture
ORGANIZER;CN="Vanessa Rousseau":MAILTO:rous0004@umn.edu
END:VEVENT
BEGIN:VEVENT
DTSTART;TZID=America/New_York:20220512T180000
DTEND;TZID=America/New_York:20220512T193000
DTSTAMP:20260423T064622
CREATED:20220502T150620Z
LAST-MODIFIED:20220502T162818Z
UID:10006375-1652378400-1652383800@www.archaeological.org
SUMMARY:Earthquakes and the Structuring of Greco-Roman Society: the longue durée of human-geological environment relationships in Helike\, Greece (SAIG/GSC Dissertation Lecture)
DESCRIPTION:Speaker: Amanda Gaggioli\, PhD Candidate\, Department of Classics | Stanford Archaeology Center\, Stanford University \nBio: Amanda’s research combines specializations in archaeology\, history\, and ancient languages with environmental sciences\, particularly geoarchaeology and soil micromorphology\, to interpret cultural forms of environmental knowledge\, cultural practices\, landscapes\, and paleoenvironments that factored into societal developments. This combined work accounts for the resilience and political ecology of socio-environmental systems in all aspects of Greco-Roman civilization. \nAbstract: Earthquakes have been linked with societal collapse in various places throughout the past\, most notably in the eastern Mediterranean with the end of the Late Bronze Age (c. 1200 BCE) and the division and decline of the Roman Empire from the fourth to sixth centuries CE. Archaeological evidence of widespread destruction\, complemented by an inflation of historical earthquake records for late Roman contexts\, points to periods of higher seismicity coinciding with political and economic weakening and socio-cultural downturn. However\, since ancient times\, humans living with persistent earthquake hazards have demonstrated forms of resilience. I show how earthquakes traditionally perceived as ‘natural’ disasters are not ‘natural’ but social and a critical factor in political ecological relationships through the case of Helike\, Greece from the third millennium BCE to fifth century CE. New methods from geoarchaeology and soil micromorphology combined with evidence ranging from Greco-Roman perceptions on earthquakes in textual records combined with destruction\, innovation\, and invention in settlement architecture and soft sediment deformation structures (SSDS) in soil thin sections prove such ‘catastrophe’ theories to be either false or simplistic. The results expose the persistent factor of earthquakes and other geological hazards in the resilience and political ecology of human-environment relationships in the Greco-Roman society and culture. \nThe case of Helike demonstrates how factors of earthquakes and other geological hazards persistently shaped and were shaped bysocio-cultural\, economic\, and political developments. The use of innovative methodological approaches and techniques to new types of data confronts catastrophe narratives and reveals a resilience and political ecology of human-earthquake relationships.
URL:https://www.archaeological.org/event/earthquakes-and-the-structuring-of-greco-roman-society-the-longue-duree-of-human-geological-environment-relationships-in-helike-greece-saig-gsc-dissertation-lecture/
LOCATION:MA
CATEGORIES:Lecture
ORGANIZER;CN="Katelin McCullough":MAILTO:katelindmccullough@gmail.com
END:VEVENT
BEGIN:VEVENT
DTSTART;TZID=America/Los_Angeles:20220512T193000
DTEND;TZID=America/Los_Angeles:20220512T193000
DTSTAMP:20260423T064622
CREATED:20210818T164215Z
LAST-MODIFIED:20220427T133209Z
UID:10005864-1652383800-1652383800@www.archaeological.org
SUMMARY:Garden Forests of the Amazon
DESCRIPTION:To attend this lecture in-person\, proof of vaccination plus booster and a K(N)-95 mask is required. Masks will be provided at the door (southern entrance of Olin Hall) for anyone who doesn’t have one.
URL:https://www.archaeological.org/event/garden-forests-of-the-amazon/
LOCATION:Whitman College\, Olin Hall\, 345 Boyer Ave\, Walla Walla\, WA\, 99362\, United States
CATEGORIES:AIA Lecture Program,Lecture
ORGANIZER;CN="Sarah H. Davies":MAILTO:daviessh@whitman.edu
GEO:46.0715543;-118.3295864
X-APPLE-STRUCTURED-LOCATION;VALUE=URI;X-ADDRESS=Whitman College Olin Hall 345 Boyer Ave Walla Walla WA 99362 United States;X-APPLE-RADIUS=500;X-TITLE=345 Boyer Ave:geo:-118.3295864,46.0715543
END:VEVENT
BEGIN:VEVENT
DTSTART;TZID=America/Vancouver:20220519T183000
DTEND;TZID=America/Vancouver:20220519T183000
DTSTAMP:20260423T064622
CREATED:20211203T155642Z
LAST-MODIFIED:20220421T143402Z
UID:10006221-1652985000-1652985000@www.archaeological.org
SUMMARY:Wine jars and jar makers of Cyprus
DESCRIPTION:Dr. Gloria London (Independent Scholar\, Seattle WA)\nLecture in Memory of Dr. Sarah Keller \nA Danish police officer\, who volunteered for the United Nations Peacekeeping Force in Cyprus\, spent his spare time documenting traditional technologies\, especially those related to pottery production\, farming\, and bread. Knud Jensen recorded over 60 pitharia\, the immense jars for fermenting wine\, produced for centuries until 1972. He correctly speculated that the names incised on unfired jar shoulders held information about the history of Cyprus. Detective Jensen’s police training successfully enabled him to trace century-old jars back to the people who made and them used. His findings\, combined with more recent ethnoarchaeological research\, provide practical templates to: 1) reconstruct the ancient ceramics industry; 2) assess the markings on archaeological pottery; and 3) explain the multiplicity of traditional and ancient regional terms for essential household items.
URL:https://www.archaeological.org/event/wine-jars-and-jar-makers-of-cyprus/
LOCATION:Northwest Museum of Arts and Culture\, 2316 West 1st Avenue\, Spokane\, WA\, 99201\, United States
CATEGORIES:Lecture
ORGANIZER;CN="Andrew Goldman":MAILTO:goldman@gonzaga.edu
GEO:47.6568363;-117.4468732
X-APPLE-STRUCTURED-LOCATION;VALUE=URI;X-ADDRESS=Northwest Museum of Arts and Culture 2316 West 1st Avenue Spokane WA 99201 United States;X-APPLE-RADIUS=500;X-TITLE=2316 West 1st Avenue:geo:-117.4468732,47.6568363
END:VEVENT
BEGIN:VEVENT
DTSTART;TZID=America/New_York:20220521T120000
DTEND;TZID=America/New_York:20220521T120000
DTSTAMP:20260423T064622
CREATED:20210818T164121Z
LAST-MODIFIED:20210823T181444Z
UID:10005788-1653134400-1653134400@www.archaeological.org
SUMMARY:All the King’s Men: Officials’ Tombs in New Kingdom Thebes
DESCRIPTION:Cohn Lecture
URL:https://www.archaeological.org/event/all-the-kings-men-officials-tombs-in-new-kingdom-thebes/
LOCATION:TBA (Jacksonville 2)\, Jacksonville\, FL\, United States
CATEGORIES:AIA Lecture Program,Lecture
ORGANIZER;CN="Melva Price":MAILTO:aiajaxsoc@gmail.com
GEO:30.3321838;-81.655651
END:VEVENT
END:VCALENDAR