BEGIN:VCALENDAR
VERSION:2.0
PRODID:-//Archaeological Institute of America - ECPv6.15.20//NONSGML v1.0//EN
CALSCALE:GREGORIAN
METHOD:PUBLISH
X-ORIGINAL-URL:https://www.archaeological.org
X-WR-CALDESC:Events for Archaeological Institute of America
REFRESH-INTERVAL;VALUE=DURATION:PT1H
X-Robots-Tag:noindex
X-PUBLISHED-TTL:PT1H
BEGIN:VTIMEZONE
TZID:America/New_York
BEGIN:DAYLIGHT
TZOFFSETFROM:-0500
TZOFFSETTO:-0400
TZNAME:EDT
DTSTART:20200308T070000
END:DAYLIGHT
BEGIN:STANDARD
TZOFFSETFROM:-0400
TZOFFSETTO:-0500
TZNAME:EST
DTSTART:20201101T060000
END:STANDARD
BEGIN:DAYLIGHT
TZOFFSETFROM:-0500
TZOFFSETTO:-0400
TZNAME:EDT
DTSTART:20210314T070000
END:DAYLIGHT
BEGIN:STANDARD
TZOFFSETFROM:-0400
TZOFFSETTO:-0500
TZNAME:EST
DTSTART:20211107T060000
END:STANDARD
BEGIN:DAYLIGHT
TZOFFSETFROM:-0500
TZOFFSETTO:-0400
TZNAME:EDT
DTSTART:20220313T070000
END:DAYLIGHT
BEGIN:STANDARD
TZOFFSETFROM:-0400
TZOFFSETTO:-0500
TZNAME:EST
DTSTART:20221106T060000
END:STANDARD
END:VTIMEZONE
BEGIN:VEVENT
DTSTART;VALUE=DATE:20211007
DTEND;VALUE=DATE:20211010
DTSTAMP:20260424T115003
CREATED:20211004T194252Z
LAST-MODIFIED:20211004T194252Z
UID:10006134-1633564800-1633823999@www.archaeological.org
SUMMARY:Sensing the Past: A workshop in applied sensory  archaeology and heritage assessment
DESCRIPTION:Last chance to register! \nSensing the past: A workshop in applied sensory archaeology and heritage assessment \nOctober 7-9\, 2021: Online and in Amsterdam\, NL \nJoin us for this international workshop bringing together a wide range of sense-based research methodologies applied to the ancient and historic built environment. \nAn increasing number of interdisciplinary approaches to sensory research in humanities has proven productive in decentralizing ocular-centric models of experience towards holistic comprehension of built remains. These innovative perspectives have led to a growing field of inquiry and dispersed collection of investigatory methods to approach senses individually or through their interrelationships (e.g. synesthesia). In so doing\, more avenues are widening for identifying undervalued forms of historic communication\, quotidian forms of place-making\, and carriers of meaning in ancient and historical places that are not visibly accessible in the physical remains. \nPart 1\, held online on 7 and 8 October\, will introduce participants to the state-of-the-field debates in experiential archaeology and heritage work. A series of 18 presentations will be anchored by a keynote address by Dr. Sue Hamilton (Director\, UCL Institute of Archaeology) on 8 October. Presentations will take place between 10am and 6pm CEST. \nPart 2 of the workshop\, held in person on 9 October\, will give a limited number of local participants experiential fieldwork practice by taking part in a sensory walk at the Fort bij Uithoorn\, a site built as part of the Amsterdam defense line system and inscribed in the Stelling van Amsterdam UNESCO world heritage designation. Research will be contextualized with a lecture by a local military history expert. \nMany of the forts in the Stelling have come under recent revitalization efforts\, which preserve the material composition of the fort but often significantly change the experiential layer. Fieldwork will equip participants to analyze historic sensory contributions to such historic spaces and to contribute to redevelopment dialogues beyond mere material evidence. Safety measures in place due to Covid-19 will be applied. \nAdvance registration by October 5th is required for this workshop and site visit. For more information on speakers\, discussion themes\, and registration\, please visit: www.uva.nl/sensingthepast \nThis workshop is a collaboration between the Universiteit van Amsterdam School of Heritage\, Memory\, and Material Culture and the Vrije Universiteit Amsterdam Institute CLUE+.
URL:https://www.archaeological.org/event/sensing-the-past-a-workshop-in-applied-sensory-archaeology-and-heritage-assessment/
LOCATION:MA
CATEGORIES:International Archaeology Day,Lecture
ORGANIZER;CN="Pamela Jordan":MAILTO:sensory.workshop-fgw@uva.nl
END:VEVENT
BEGIN:VEVENT
DTSTART;TZID=America/New_York:20211007T190000
DTEND;TZID=America/New_York:20211007T190000
DTSTAMP:20260424T115003
CREATED:20210818T164256Z
LAST-MODIFIED:20210927T235219Z
UID:10005942-1633633200-1633633200@www.archaeological.org
SUMMARY:21st Century Tools for Studying Ice Age Art
DESCRIPTION:Matson Lecture
URL:https://www.archaeological.org/event/21st-century-tools-for-studying-ice-age-art-4/
LOCATION:WEBINAR (Springfield 1)\, Springfield\, OH
CATEGORIES:AIA Lecture Program,International Archaeology Day,Lecture
ORGANIZER;CN="Tracy Gregory Brown":MAILTO:info@springfieldarchaeology.org
GEO:39.9242266;-83.8088171
END:VEVENT
END:VCALENDAR