BEGIN:VCALENDAR
VERSION:2.0
PRODID:-//Archaeological Institute of America - ECPv6.15.20//NONSGML v1.0//EN
CALSCALE:GREGORIAN
METHOD:PUBLISH
X-WR-CALNAME:Archaeological Institute of America
X-ORIGINAL-URL:https://www.archaeological.org
X-WR-CALDESC:Events for Archaeological Institute of America
REFRESH-INTERVAL;VALUE=DURATION:PT1H
X-Robots-Tag:noindex
X-PUBLISHED-TTL:PT1H
BEGIN:VTIMEZONE
TZID:America/New_York
BEGIN:DAYLIGHT
TZOFFSETFROM:-0500
TZOFFSETTO:-0400
TZNAME:EDT
DTSTART:20200308T070000
END:DAYLIGHT
BEGIN:STANDARD
TZOFFSETFROM:-0400
TZOFFSETTO:-0500
TZNAME:EST
DTSTART:20201101T060000
END:STANDARD
BEGIN:DAYLIGHT
TZOFFSETFROM:-0500
TZOFFSETTO:-0400
TZNAME:EDT
DTSTART:20210314T070000
END:DAYLIGHT
BEGIN:STANDARD
TZOFFSETFROM:-0400
TZOFFSETTO:-0500
TZNAME:EST
DTSTART:20211107T060000
END:STANDARD
BEGIN:DAYLIGHT
TZOFFSETFROM:-0500
TZOFFSETTO:-0400
TZNAME:EDT
DTSTART:20220313T070000
END:DAYLIGHT
BEGIN:STANDARD
TZOFFSETFROM:-0400
TZOFFSETTO:-0500
TZNAME:EST
DTSTART:20221106T060000
END:STANDARD
END:VTIMEZONE
BEGIN:VTIMEZONE
TZID:America/Chicago
BEGIN:DAYLIGHT
TZOFFSETFROM:-0600
TZOFFSETTO:-0500
TZNAME:CDT
DTSTART:20200308T080000
END:DAYLIGHT
BEGIN:STANDARD
TZOFFSETFROM:-0500
TZOFFSETTO:-0600
TZNAME:CST
DTSTART:20201101T070000
END:STANDARD
BEGIN:DAYLIGHT
TZOFFSETFROM:-0600
TZOFFSETTO:-0500
TZNAME:CDT
DTSTART:20210314T080000
END:DAYLIGHT
BEGIN:STANDARD
TZOFFSETFROM:-0500
TZOFFSETTO:-0600
TZNAME:CST
DTSTART:20211107T070000
END:STANDARD
BEGIN:DAYLIGHT
TZOFFSETFROM:-0600
TZOFFSETTO:-0500
TZNAME:CDT
DTSTART:20220313T080000
END:DAYLIGHT
BEGIN:STANDARD
TZOFFSETFROM:-0500
TZOFFSETTO:-0600
TZNAME:CST
DTSTART:20221106T070000
END:STANDARD
END:VTIMEZONE
BEGIN:VTIMEZONE
TZID:America/Denver
BEGIN:DAYLIGHT
TZOFFSETFROM:-0700
TZOFFSETTO:-0600
TZNAME:MDT
DTSTART:20200308T090000
END:DAYLIGHT
BEGIN:STANDARD
TZOFFSETFROM:-0600
TZOFFSETTO:-0700
TZNAME:MST
DTSTART:20201101T080000
END:STANDARD
BEGIN:DAYLIGHT
TZOFFSETFROM:-0700
TZOFFSETTO:-0600
TZNAME:MDT
DTSTART:20210314T090000
END:DAYLIGHT
BEGIN:STANDARD
TZOFFSETFROM:-0600
TZOFFSETTO:-0700
TZNAME:MST
DTSTART:20211107T080000
END:STANDARD
BEGIN:DAYLIGHT
TZOFFSETFROM:-0700
TZOFFSETTO:-0600
TZNAME:MDT
DTSTART:20220313T090000
END:DAYLIGHT
BEGIN:STANDARD
TZOFFSETFROM:-0600
TZOFFSETTO:-0700
TZNAME:MST
DTSTART:20221106T080000
END:STANDARD
END:VTIMEZONE
BEGIN:VEVENT
DTSTART;TZID=America/New_York:20211019T180000
DTEND;TZID=America/New_York:20211019T180000
DTSTAMP:20260424T115016
CREATED:20210818T164149Z
LAST-MODIFIED:20211008T211924Z
UID:10005708-1634666400-1634666400@www.archaeological.org
SUMMARY:Royal Purple and Indigo: the Hidden Labor Behind Luxurious Dyes
DESCRIPTION:
URL:https://www.archaeological.org/event/tallahassee-lecture-1-tba-2/
LOCATION:Carraway Building (CAR)\, 315\, 909 Antarctic Way\, Tallahassee\, FL\, United States
CATEGORIES:AIA Lecture Program,International Archaeology Day,Lecture
ORGANIZER;CN="Nancy de Grummond":MAILTO:ndegrummond@fsu.edu
GEO:30.4382559;-84.2807329
X-APPLE-STRUCTURED-LOCATION;VALUE=URI;X-ADDRESS=Carraway Building (CAR) 315 909 Antarctic Way Tallahassee FL United States;X-APPLE-RADIUS=500;X-TITLE=909 Antarctic Way:geo:-84.2807329,30.4382559
END:VEVENT
BEGIN:VEVENT
DTSTART;TZID=America/New_York:20211019T180000
DTEND;TZID=America/New_York:20211019T180000
DTSTAMP:20260424T115016
CREATED:20210818T164235Z
LAST-MODIFIED:20210916T194245Z
UID:10005892-1634666400-1634666400@www.archaeological.org
SUMMARY:Let them Rest in Peace: The Sacred Burials of Frescoes\, Pots\, and Rooms in the House of the Frescoes at Knossos
DESCRIPTION:McDonald Lecture
URL:https://www.archaeological.org/event/let-them-rest-in-peace-the-sacred-burials-of-frescoes-pots-and-rooms-in-the-house-of-the-frescoes-at-knossos/
LOCATION:WEBINAR (Greensboro 1)\, Greensboro\, NC
CATEGORIES:AIA Lecture Program,International Archaeology Day,Lecture
ATTACH;FMTTYPE=image/jpeg:https://www.archaeological.org/wp-content/uploads/2021/08/AIAOddo2021.jpg
ORGANIZER;CN="Maura Heyn":MAILTO:mkheyn@uncg.edu
GEO:36.0726354;-79.7919754
END:VEVENT
BEGIN:VEVENT
DTSTART;TZID=America/Chicago:20211019T190000
DTEND;TZID=America/Chicago:20211019T203000
DTSTAMP:20260424T115016
CREATED:20211004T193357Z
LAST-MODIFIED:20211004T193958Z
UID:10006128-1634670000-1634675400@www.archaeological.org
SUMMARY:Archaeology of Beer
DESCRIPTION:It’s been found in the Egyptian pyramids\, the cities of Mesopotamia\, Viking longboats\, the palace of Machu Picchu\, medieval monasteries\, and the world’s earliest farming villages. What is it? Beer! Beer has been used for thousands of years to pay taxes\, heal the sick\, and accompany the dead into the afterlife. Many religions worshiped gods and goddesses of beer and brewing\, and some of the earliest known examples of both poetry and law codes are about beer. Join us for an evening webinar exploring the archaeology of beer with Public Archaeologist Patty Hamrick.
URL:https://www.archaeological.org/event/archaeology-of-beer/
LOCATION:MA
CATEGORIES:International Archaeology Day,Lecture
ORGANIZER;CN="Kaylyn Moore":MAILTO:okarchaeology@gmail.com
END:VEVENT
BEGIN:VEVENT
DTSTART;TZID=America/Denver:20211019T191500
DTEND;TZID=America/Denver:20211019T191500
DTSTAMP:20260424T115016
CREATED:20210818T164254Z
LAST-MODIFIED:20210924T140940Z
UID:10005931-1634670900-1634670900@www.archaeological.org
SUMMARY:A Feminist History of Ancient Medicine
DESCRIPTION:Kershaw Lecture
URL:https://www.archaeological.org/event/santa-fe-lecture-1-tba/
LOCATION:WEBINAR (Santa Fe 1)\, Santa Fe\, NM
CATEGORIES:AIA Lecture Program,International Archaeology Day,Lecture
ORGANIZER;CN="Tim Maxwell":MAILTO:tim.maxwell@outlook.com
GEO:35.6869752;-105.937799
END:VEVENT
END:VCALENDAR