BEGIN:VCALENDAR
VERSION:2.0
PRODID:-//Archaeological Institute of America - ECPv6.15.20//NONSGML v1.0//EN
CALSCALE:GREGORIAN
METHOD:PUBLISH
X-ORIGINAL-URL:https://www.archaeological.org
X-WR-CALDESC:Events for Archaeological Institute of America
REFRESH-INTERVAL;VALUE=DURATION:PT1H
X-Robots-Tag:noindex
X-PUBLISHED-TTL:PT1H
BEGIN:VTIMEZONE
TZID:America/New_York
BEGIN:DAYLIGHT
TZOFFSETFROM:-0500
TZOFFSETTO:-0400
TZNAME:EDT
DTSTART:20200308T070000
END:DAYLIGHT
BEGIN:STANDARD
TZOFFSETFROM:-0400
TZOFFSETTO:-0500
TZNAME:EST
DTSTART:20201101T060000
END:STANDARD
BEGIN:DAYLIGHT
TZOFFSETFROM:-0500
TZOFFSETTO:-0400
TZNAME:EDT
DTSTART:20210314T070000
END:DAYLIGHT
BEGIN:STANDARD
TZOFFSETFROM:-0400
TZOFFSETTO:-0500
TZNAME:EST
DTSTART:20211107T060000
END:STANDARD
BEGIN:DAYLIGHT
TZOFFSETFROM:-0500
TZOFFSETTO:-0400
TZNAME:EDT
DTSTART:20220313T070000
END:DAYLIGHT
BEGIN:STANDARD
TZOFFSETFROM:-0400
TZOFFSETTO:-0500
TZNAME:EST
DTSTART:20221106T060000
END:STANDARD
END:VTIMEZONE
BEGIN:VTIMEZONE
TZID:America/Los_Angeles
BEGIN:DAYLIGHT
TZOFFSETFROM:-0800
TZOFFSETTO:-0700
TZNAME:PDT
DTSTART:20200308T100000
END:DAYLIGHT
BEGIN:STANDARD
TZOFFSETFROM:-0700
TZOFFSETTO:-0800
TZNAME:PST
DTSTART:20201101T090000
END:STANDARD
BEGIN:DAYLIGHT
TZOFFSETFROM:-0800
TZOFFSETTO:-0700
TZNAME:PDT
DTSTART:20210314T100000
END:DAYLIGHT
BEGIN:STANDARD
TZOFFSETFROM:-0700
TZOFFSETTO:-0800
TZNAME:PST
DTSTART:20211107T090000
END:STANDARD
BEGIN:DAYLIGHT
TZOFFSETFROM:-0800
TZOFFSETTO:-0700
TZNAME:PDT
DTSTART:20220313T100000
END:DAYLIGHT
BEGIN:STANDARD
TZOFFSETFROM:-0700
TZOFFSETTO:-0800
TZNAME:PST
DTSTART:20221106T090000
END:STANDARD
END:VTIMEZONE
BEGIN:VTIMEZONE
TZID:Europe/Malta
BEGIN:DAYLIGHT
TZOFFSETFROM:+0100
TZOFFSETTO:+0200
TZNAME:CEST
DTSTART:20200329T010000
END:DAYLIGHT
BEGIN:STANDARD
TZOFFSETFROM:+0200
TZOFFSETTO:+0100
TZNAME:CET
DTSTART:20201025T010000
END:STANDARD
BEGIN:DAYLIGHT
TZOFFSETFROM:+0100
TZOFFSETTO:+0200
TZNAME:CEST
DTSTART:20210328T010000
END:DAYLIGHT
BEGIN:STANDARD
TZOFFSETFROM:+0200
TZOFFSETTO:+0100
TZNAME:CET
DTSTART:20211031T010000
END:STANDARD
BEGIN:DAYLIGHT
TZOFFSETFROM:+0100
TZOFFSETTO:+0200
TZNAME:CEST
DTSTART:20220327T010000
END:DAYLIGHT
BEGIN:STANDARD
TZOFFSETFROM:+0200
TZOFFSETTO:+0100
TZNAME:CET
DTSTART:20221030T010000
END:STANDARD
END:VTIMEZONE
BEGIN:VEVENT
DTSTART;TZID=America/New_York:20211020T160000
DTEND;TZID=America/New_York:20211020T160000
DTSTAMP:20260424T084944
CREATED:20210818T164312Z
LAST-MODIFIED:20211013T145009Z
UID:10005782-1634745600-1634745600@www.archaeological.org
SUMMARY:Power plays at Pylos: The past and memory in the tombs and at the palace
DESCRIPTION:Zoom Meeting ID: 921 1429 3029\nPasscode: 054196
URL:https://www.archaeological.org/event/western-new-york-lecture-tba/
LOCATION:WEBINAR (Western New York 1)\, Buffalo\, NY
CATEGORIES:AIA Lecture Program,International Archaeology Day,Lecture
GEO:42.8864468;-78.8783689
END:VEVENT
BEGIN:VEVENT
DTSTART;TZID=America/Los_Angeles:20211020T170000
DTEND;TZID=America/Los_Angeles:20211020T170000
DTSTAMP:20260424T084944
CREATED:20210818T164256Z
LAST-MODIFIED:20211014T204046Z
UID:10005937-1634749200-1634749200@www.archaeological.org
SUMMARY:Matrices of the Mother Goddess: Some Reconsiderations of Kybele in Western Anatolia
DESCRIPTION:Kershaw Lecture \nZoom details:\nMeeting ID: 85444244180\nPasscode: n0ihSP
URL:https://www.archaeological.org/event/southern-nevada-las-vegas-lecture-1-tba/
LOCATION:WEBINAR (Southern Nevada 1)\, Las Vegas\, NV
CATEGORIES:AIA Lecture Program,International Archaeology Day,Lecture
ATTACH;FMTTYPE=image/jpeg:https://www.archaeological.org/wp-content/uploads/2021/08/Rodriguez-talk-flyer.jpg
ORGANIZER;CN="Levent Atici":MAILTO:Levent.Atici@unlv.edu
GEO:36.1988592;-115.1175013
END:VEVENT
BEGIN:VEVENT
DTSTART;TZID=Europe/Malta:20211020T180000
DTEND;TZID=Europe/Malta:20211020T193000
DTSTAMP:20260424T084944
CREATED:20210930T152043Z
LAST-MODIFIED:20210930T152043Z
UID:10006106-1634752800-1634758200@www.archaeological.org
SUMMARY:Putting the stone back in the Stone Age: New research on the end of the Maltese Temple Period\, a lecture by Dr Huw S. Groucutt\, Max Planck Independent Research Group leader in Jena\, Germany
DESCRIPTION:Abstract : After existing for over one thousand years\, the Maltese Temple Period ended around 4\,300 years ago. Understanding why has been a topic of considerable interest and debate. In this talk Dr Huw S. Groucutt will discuss this topic\, outlining recent research on themes such as regional climate change and evidence for the arrival of new groups of humans. Chronological modelling studies are presented which indicate a correlation between archaeological activity and regional climate\, which indicate a long-term societal decline in the final centuries of the Temple Period. Yet\, does climate change alone explain the end of the Temple Period\, or was something else involved\, such as new groups of humans arriving\, perhaps bringing a plague epidemic with them?  Against this backdrop Dr Groucutt  will outline recent research on the distribution and character of Maltese chert. Chert was the main kind of stone used to make stone tools in Maltese prehistory\, and is therefore crucial to understanding ancient Maltese society\, yet it has seen relatively little study. New insights on the distribution and character of chert in Malta are discussed. This offers new perspectives on the character of Temple Period material culture\, and the extent to which the Maltese islands were isolated or integrated with neighbouring regions such as Sicily.
URL:https://www.archaeological.org/event/putting-the-stone-back-in-the-stone-age-new-research-on-the-end-of-the-maltese-temple-period-a-lecture-by-dr-huw-s-groucutt-max-planck-independent-research-group-leader-in-jena-germany/
LOCATION:MA
CATEGORIES:International Archaeology Day,Lecture
ORGANIZER;CN="Ann Gingell Littlejohn":MAILTO:secretary@archsoc.org.mt
END:VEVENT
BEGIN:VEVENT
DTSTART;TZID=America/New_York:20211020T183000
DTEND;TZID=America/New_York:20211020T183000
DTSTAMP:20260424T084944
CREATED:20210818T164115Z
LAST-MODIFIED:20211012T201116Z
UID:10005767-1634754600-1634754600@www.archaeological.org
SUMMARY:Royal Purple and Indigo: The Hidden Labor Behind Luxurious Dyes
DESCRIPTION:Zoom ID: 745 130 9473
URL:https://www.archaeological.org/event/royal-purple-and-indigo-the-hidden-labor-behind-luxurious-dyes/
LOCATION:TBA (Gainesville 1)\, Gainesville\, FL\, United States
CATEGORIES:AIA Lecture Program,International Archaeology Day,Lecture
ORGANIZER;CN="Eleanor Laughlin":MAILTO:elaughlin@arts.ufl.edu
GEO:29.6516344;-82.3248262
END:VEVENT
BEGIN:VEVENT
DTSTART;TZID=America/New_York:20211020T190000
DTEND;TZID=America/New_York:20211020T190000
DTSTAMP:20260424T084944
CREATED:20210818T164245Z
LAST-MODIFIED:20210914T191816Z
UID:10005905-1634756400-1634756400@www.archaeological.org
SUMMARY:Gender\, Creator Deities\, and the Public Image of Sobekneferu
DESCRIPTION:
URL:https://www.archaeological.org/event/northern-new-jersey-montclair-lecture-1-tba-2/
LOCATION:WEBINAR (Northern New Jersey 1)\, Montclair\, NJ
CATEGORIES:AIA Lecture Program,International Archaeology Day,Lecture
ORGANIZER;CN="Timothy Renner":MAILTO:rennert@mail.montclair.edu
GEO:40.8259007;-74.2090053
END:VEVENT
END:VCALENDAR