BEGIN:VCALENDAR
VERSION:2.0
PRODID:-//Archaeological Institute of America - ECPv6.15.20//NONSGML v1.0//EN
CALSCALE:GREGORIAN
METHOD:PUBLISH
X-WR-CALNAME:Archaeological Institute of America
X-ORIGINAL-URL:https://www.archaeological.org
X-WR-CALDESC:Events for Archaeological Institute of America
REFRESH-INTERVAL;VALUE=DURATION:PT1H
X-Robots-Tag:noindex
X-PUBLISHED-TTL:PT1H
BEGIN:VTIMEZONE
TZID:America/Chicago
BEGIN:DAYLIGHT
TZOFFSETFROM:-0600
TZOFFSETTO:-0500
TZNAME:CDT
DTSTART:20200308T080000
END:DAYLIGHT
BEGIN:STANDARD
TZOFFSETFROM:-0500
TZOFFSETTO:-0600
TZNAME:CST
DTSTART:20201101T070000
END:STANDARD
BEGIN:DAYLIGHT
TZOFFSETFROM:-0600
TZOFFSETTO:-0500
TZNAME:CDT
DTSTART:20210314T080000
END:DAYLIGHT
BEGIN:STANDARD
TZOFFSETFROM:-0500
TZOFFSETTO:-0600
TZNAME:CST
DTSTART:20211107T070000
END:STANDARD
BEGIN:DAYLIGHT
TZOFFSETFROM:-0600
TZOFFSETTO:-0500
TZNAME:CDT
DTSTART:20220313T080000
END:DAYLIGHT
BEGIN:STANDARD
TZOFFSETFROM:-0500
TZOFFSETTO:-0600
TZNAME:CST
DTSTART:20221106T070000
END:STANDARD
END:VTIMEZONE
BEGIN:VTIMEZONE
TZID:America/Phoenix
BEGIN:STANDARD
TZOFFSETFROM:-0700
TZOFFSETTO:-0700
TZNAME:MST
DTSTART:20200101T000000
END:STANDARD
END:VTIMEZONE
BEGIN:VTIMEZONE
TZID:America/New_York
BEGIN:DAYLIGHT
TZOFFSETFROM:-0500
TZOFFSETTO:-0400
TZNAME:EDT
DTSTART:20200308T070000
END:DAYLIGHT
BEGIN:STANDARD
TZOFFSETFROM:-0400
TZOFFSETTO:-0500
TZNAME:EST
DTSTART:20201101T060000
END:STANDARD
BEGIN:DAYLIGHT
TZOFFSETFROM:-0500
TZOFFSETTO:-0400
TZNAME:EDT
DTSTART:20210314T070000
END:DAYLIGHT
BEGIN:STANDARD
TZOFFSETFROM:-0400
TZOFFSETTO:-0500
TZNAME:EST
DTSTART:20211107T060000
END:STANDARD
BEGIN:DAYLIGHT
TZOFFSETFROM:-0500
TZOFFSETTO:-0400
TZNAME:EDT
DTSTART:20220313T070000
END:DAYLIGHT
BEGIN:STANDARD
TZOFFSETFROM:-0400
TZOFFSETTO:-0500
TZNAME:EST
DTSTART:20221106T060000
END:STANDARD
END:VTIMEZONE
BEGIN:VEVENT
DTSTART;TZID=America/Chicago:20211028T170000
DTEND;TZID=America/Chicago:20211028T181500
DTSTAMP:20260424T102213
CREATED:20211004T194758Z
LAST-MODIFIED:20211004T194758Z
UID:10006135-1635440400-1635444900@www.archaeological.org
SUMMARY:Urban Borehole Surveys And The Origins Of The Roman Forum
DESCRIPTION:A lecture by Prof. Nicola Terrenato (University of Michigan) presenting the results of a recent borehole survey carried out in the monumental core of Rome\, and discussing the main implications for our understanding of both the city’s original environmental setting and the creation of the earliest urban infrastructure.
URL:https://www.archaeological.org/event/urban-borehole-surveys-and-the-origins-of-the-roman-forum/
LOCATION:101 Swallow Hall\, 507 S. Ninth St.\, Columbia\, MO\, 65201\, United States
CATEGORIES:International Archaeology Day,Lecture
ATTACH;FMTTYPE=image/jpeg:https://www.archaeological.org/wp-content/uploads/2021/10/Terrenato-AIA-Lecture-October-2021.jpeg
ORGANIZER;CN="Marcello Mogetta":MAILTO:mogettam@missouri.edu
GEO:38.9456612;-92.3275643
X-APPLE-STRUCTURED-LOCATION;VALUE=URI;X-ADDRESS=101 Swallow Hall 507 S. Ninth St. Columbia MO 65201 United States;X-APPLE-RADIUS=500;X-TITLE=507 S. Ninth St.:geo:-92.3275643,38.9456612
END:VEVENT
BEGIN:VEVENT
DTSTART;TZID=America/Chicago:20211028T180000
DTEND;TZID=America/Chicago:20211028T180000
DTSTAMP:20260424T102213
CREATED:20210818T164134Z
LAST-MODIFIED:20210930T214320Z
UID:10005798-1635444000-1635444000@www.archaeological.org
SUMMARY:Bird/Egg\, Pen/Hand\, Torch/Deer? Pairs of Ordinary Objects on Roman Coins
DESCRIPTION:Metcalf Lecture
URL:https://www.archaeological.org/event/bird-egg-pen-hand-torch-deer-pairs-of-ordinary-objects-on-roman-coins-3/
LOCATION:Webinar\, Webinar\, London\, UK\, London\, Sonoma County\, 5201\, United Kingdom
CATEGORIES:AIA Lecture Program,International Archaeology Day,Lecture
ORGANIZER;CN="Susann S. Lusnia":MAILTO:slusnia@tulane.edu
GEO:47.7510741;-120.7401385
X-APPLE-STRUCTURED-LOCATION;VALUE=URI;X-ADDRESS=Webinar Webinar London UK London Sonoma County 5201 United Kingdom;X-APPLE-RADIUS=500;X-TITLE=Webinar\, London\, UK:geo:-120.7401385,47.7510741
END:VEVENT
BEGIN:VEVENT
DTSTART;TZID=America/Phoenix:20211028T180000
DTEND;TZID=America/Phoenix:20211028T180000
DTSTAMP:20260424T102213
CREATED:20210818T164225Z
LAST-MODIFIED:20210909T140153Z
UID:10005740-1635444000-1635444000@www.archaeological.org
SUMMARY:Ten fingers and ten toes: disability and infanticide in ancient Greece
DESCRIPTION:Young Lecture
URL:https://www.archaeological.org/event/ten-fingers-and-ten-toes-disability-and-infanticide-in-ancient-greece/
LOCATION:WEBINAR (Central Arizona 1)\, Phoenix\, AZ
CATEGORIES:AIA Lecture Program,International Archaeology Day,Lecture
ORGANIZER;CN="Nancy Serwint":MAILTO:nancy.serwint@asu.edu
GEO:33.4483771;-112.0740373
END:VEVENT
BEGIN:VEVENT
DTSTART;TZID=America/New_York:20211028T193000
DTEND;TZID=America/New_York:20211028T193000
DTSTAMP:20260424T102213
CREATED:20210818T164249Z
LAST-MODIFIED:20210825T171547Z
UID:10005924-1635449400-1635449400@www.archaeological.org
SUMMARY:Torches\, Fireflies\, and Moonlight: The Brilliance of Classic Maya Lightscapes
DESCRIPTION:Borowski Lecture
URL:https://www.archaeological.org/event/torches-fireflies-and-moonlight-the-brilliance-of-classic-maya-lightscapes-3/
LOCATION:WEBINAR (Rochester1)\, Rochester\, NY
CATEGORIES:AIA Lecture Program,International Archaeology Day,Lecture
GEO:43.1565779;-77.6088465
END:VEVENT
END:VCALENDAR