BEGIN:VCALENDAR
VERSION:2.0
PRODID:-//Archaeological Institute of America - ECPv6.15.20//NONSGML v1.0//EN
CALSCALE:GREGORIAN
METHOD:PUBLISH
X-WR-CALNAME:Archaeological Institute of America
X-ORIGINAL-URL:https://www.archaeological.org
X-WR-CALDESC:Events for Archaeological Institute of America
REFRESH-INTERVAL;VALUE=DURATION:PT1H
X-Robots-Tag:noindex
X-PUBLISHED-TTL:PT1H
BEGIN:VTIMEZONE
TZID:America/New_York
BEGIN:DAYLIGHT
TZOFFSETFROM:-0500
TZOFFSETTO:-0400
TZNAME:EDT
DTSTART:20200308T070000
END:DAYLIGHT
BEGIN:STANDARD
TZOFFSETFROM:-0400
TZOFFSETTO:-0500
TZNAME:EST
DTSTART:20201101T060000
END:STANDARD
BEGIN:DAYLIGHT
TZOFFSETFROM:-0500
TZOFFSETTO:-0400
TZNAME:EDT
DTSTART:20210314T070000
END:DAYLIGHT
BEGIN:STANDARD
TZOFFSETFROM:-0400
TZOFFSETTO:-0500
TZNAME:EST
DTSTART:20211107T060000
END:STANDARD
BEGIN:DAYLIGHT
TZOFFSETFROM:-0500
TZOFFSETTO:-0400
TZNAME:EDT
DTSTART:20220313T070000
END:DAYLIGHT
BEGIN:STANDARD
TZOFFSETFROM:-0400
TZOFFSETTO:-0500
TZNAME:EST
DTSTART:20221106T060000
END:STANDARD
END:VTIMEZONE
BEGIN:VTIMEZONE
TZID:America/Denver
BEGIN:DAYLIGHT
TZOFFSETFROM:-0700
TZOFFSETTO:-0600
TZNAME:MDT
DTSTART:20200308T090000
END:DAYLIGHT
BEGIN:STANDARD
TZOFFSETFROM:-0600
TZOFFSETTO:-0700
TZNAME:MST
DTSTART:20201101T080000
END:STANDARD
BEGIN:DAYLIGHT
TZOFFSETFROM:-0700
TZOFFSETTO:-0600
TZNAME:MDT
DTSTART:20210314T090000
END:DAYLIGHT
BEGIN:STANDARD
TZOFFSETFROM:-0600
TZOFFSETTO:-0700
TZNAME:MST
DTSTART:20211107T080000
END:STANDARD
BEGIN:DAYLIGHT
TZOFFSETFROM:-0700
TZOFFSETTO:-0600
TZNAME:MDT
DTSTART:20220313T090000
END:DAYLIGHT
BEGIN:STANDARD
TZOFFSETFROM:-0600
TZOFFSETTO:-0700
TZNAME:MST
DTSTART:20221106T080000
END:STANDARD
END:VTIMEZONE
BEGIN:VTIMEZONE
TZID:America/Chicago
BEGIN:DAYLIGHT
TZOFFSETFROM:-0600
TZOFFSETTO:-0500
TZNAME:CDT
DTSTART:20200308T080000
END:DAYLIGHT
BEGIN:STANDARD
TZOFFSETFROM:-0500
TZOFFSETTO:-0600
TZNAME:CST
DTSTART:20201101T070000
END:STANDARD
BEGIN:DAYLIGHT
TZOFFSETFROM:-0600
TZOFFSETTO:-0500
TZNAME:CDT
DTSTART:20210314T080000
END:DAYLIGHT
BEGIN:STANDARD
TZOFFSETFROM:-0500
TZOFFSETTO:-0600
TZNAME:CST
DTSTART:20211107T070000
END:STANDARD
BEGIN:DAYLIGHT
TZOFFSETFROM:-0600
TZOFFSETTO:-0500
TZNAME:CDT
DTSTART:20220313T080000
END:DAYLIGHT
BEGIN:STANDARD
TZOFFSETFROM:-0500
TZOFFSETTO:-0600
TZNAME:CST
DTSTART:20221106T070000
END:STANDARD
END:VTIMEZONE
BEGIN:VEVENT
DTSTART;TZID=America/New_York:20211103T170000
DTEND;TZID=America/New_York:20211103T170000
DTSTAMP:20260424T024746
CREATED:20210818T164224Z
LAST-MODIFIED:20210915T145324Z
UID:10005736-1635958800-1635958800@www.archaeological.org
SUMMARY:The Spirit of Repatriation Under NAGPRA
DESCRIPTION:
URL:https://www.archaeological.org/event/the-spirit-of-repatriation-under-nagpra/
LOCATION:WEBINAR (Boston 2)\, Boston\, MA
CATEGORIES:AIA Lecture Program,Lecture
ORGANIZER;CN="Bryan Burns":MAILTO:bburns@wellesley.edu
GEO:42.3600825;-71.0588801
END:VEVENT
BEGIN:VEVENT
DTSTART;TZID=America/Denver:20211103T190000
DTEND;TZID=America/Denver:20211103T203000
DTSTAMP:20260424T024746
CREATED:20210913T160002Z
LAST-MODIFIED:20211010T213001Z
UID:10006069-1635966000-1635971400@www.archaeological.org
SUMMARY:U2 Spy Plane Photos and The Archaeology of the Middle East
DESCRIPTION:Declassified military imagery from planes and satellites plays an important role in landscape and environmental archaeology. Historic imagery sources\, especially the large archives generated by the US during the Cold War\, are far better than Google Earth for providing archaeologists with a window into the past\, before development and intensive agriculture took hold in many rural parts of western Asia. In the mid-late 1990s\, the archaeology of arid regions in Eurasia was revolutionized by the declassification of CORONA “spy satellite” photographs showing large swaths of the region in high-resolution\, as they appeared in 1967-1972. Now there is a new source of even older high-resolution historical imagery: photos from U2 spy planes captured 1958-1960. \nIn this lecture\, Dr. Emily Hammer (UPenn) presents case studies showing how U2 photos can be used to shape archaeological and historical conclusions about early southwest Asia. These new datasets allow for a better understanding of the environmental distribution of prehistoric hunting traps (“desert kites”) in eastern Jordan\, the size of the ancient Mesopotamian city of Ur in southern Iraq and this city’s ancient water supplies\, as well as the spatial demography of 20th-century communities living around the marshes of southern Iraq.
URL:https://www.archaeological.org/event/u2-spy-plane-photos-and-the-archaeology-of-the-middle-east/
LOCATION:MA
CATEGORIES:Lecture
ATTACH;FMTTYPE=image/jpeg:https://www.archaeological.org/wp-content/uploads/2021/09/hammer.jpg
END:VEVENT
BEGIN:VEVENT
DTSTART;TZID=America/Chicago:20211103T193000
DTEND;TZID=America/Chicago:20211103T193000
DTSTAMP:20260424T024746
CREATED:20210811T144039Z
LAST-MODIFIED:20211102T145648Z
UID:10005699-1635967800-1635967800@www.archaeological.org
SUMMARY:POSTPONED!!! “Archaeology through Art: Early Modern Japanese Ship Construction”
DESCRIPTION:THIS LECTURE HAS BEEN POSTPONED UNTIL SOMETIME IN THE SPRING.\nMichelle Damian\, Assistant Professor of History\, Monmouth College (mdamian@monmouthcollege.edu)\nMaritime trade and transport flourished during Japan’s early modern (Edo\, 1603 – 1868) period\, connecting the urban centers of Osaka and Edo with the farthest reaches of Hokkaido and Kyushu. The omnipresent nature and variety of styles of boats\, from local ferries\, to fishing vessels\, to large trade ships are recorded diligently in hundreds of woodblock prints by numerous different artists. Careful analysis of the construction styles and contexts of these vessels in the prints\, in conjunction with contemporary ships’ treatises\, extant artifacts in museum collections\, and ethnographic research suggests that shipwrights strove to create visually striking watercraft that were adapted to the waters they plied. This lecture will highlight some of the distinctive features of Japanese ship construction and explore the role that different vessels play in the early modern maritime cultural landscape.\nWednesday\, November 3\, 2021\, 7:30 pm\, Trustees’ Room (Room 302)\, Alumni Hall\, Knox College\, Galesburg\, IL 61401\nPlans are to zoom this lecture live. Watch this space for more information.
URL:https://www.archaeological.org/event/archaeology-through-art-early-modern-japanese-ship-construction-2/
LOCATION:MA
CATEGORIES:Lecture
ORGANIZER;CN="Tom Sienkewicz":MAILTO:tjsienkewicz@monmouthcollege.edu
END:VEVENT
END:VCALENDAR