BEGIN:VCALENDAR
VERSION:2.0
PRODID:-//Archaeological Institute of America - ECPv6.15.20//NONSGML v1.0//EN
CALSCALE:GREGORIAN
METHOD:PUBLISH
X-ORIGINAL-URL:https://www.archaeological.org
X-WR-CALDESC:Events for Archaeological Institute of America
REFRESH-INTERVAL;VALUE=DURATION:PT1H
X-Robots-Tag:noindex
X-PUBLISHED-TTL:PT1H
BEGIN:VTIMEZONE
TZID:America/Los_Angeles
BEGIN:DAYLIGHT
TZOFFSETFROM:-0800
TZOFFSETTO:-0700
TZNAME:PDT
DTSTART:20210314T100000
END:DAYLIGHT
BEGIN:STANDARD
TZOFFSETFROM:-0700
TZOFFSETTO:-0800
TZNAME:PST
DTSTART:20211107T090000
END:STANDARD
BEGIN:DAYLIGHT
TZOFFSETFROM:-0800
TZOFFSETTO:-0700
TZNAME:PDT
DTSTART:20220313T100000
END:DAYLIGHT
BEGIN:STANDARD
TZOFFSETFROM:-0700
TZOFFSETTO:-0800
TZNAME:PST
DTSTART:20221106T090000
END:STANDARD
BEGIN:DAYLIGHT
TZOFFSETFROM:-0800
TZOFFSETTO:-0700
TZNAME:PDT
DTSTART:20230312T100000
END:DAYLIGHT
BEGIN:STANDARD
TZOFFSETFROM:-0700
TZOFFSETTO:-0800
TZNAME:PST
DTSTART:20231105T090000
END:STANDARD
END:VTIMEZONE
BEGIN:VEVENT
DTSTART;TZID=America/Los_Angeles:20220102T100000
DTEND;TZID=America/Los_Angeles:20220102T110000
DTSTAMP:20260424T011600
CREATED:20211213T192415Z
LAST-MODIFIED:20211222T205251Z
UID:10006228-1641117600-1641121200@www.archaeological.org
SUMMARY:Society Sunday: Disability and Infanticide in Ancient Greece
DESCRIPTION:Ring in the new year as the AIA Societies Committee presents a virtual presentation and Q&A with Debby Sneed. \nThis presentation will also be available in American Sign Language. ASL interpretation will be provided by Trail Blazing Interpreters and we will also enable auto captioning on Zoom. Due to Zoom limitations on mobile devices and tablets\, participants interested in accessing ASL interpretation should log in using the desktop version of Zoom. \nJoin Debby Sneed and take a deeper look at life in ancient Greece with a focus on disability and infanticide. Despite the widely embraced notion that ancient Spartans killed infants born with any kind of physical impairment\, there is little literary\, archaeological\, or bioarchaeological evidence for this being regularly practiced. Debby will discuss how the archaeological record gives us a glimpse of the experiences of disabled members of ancient Greek society. \nAfter the presentation there will be a 20 minute Q&A period\, so bring your questions! \n\nDebby Sneed is a Lecturer in the Department of Classics at California State University\, Long Beach. She received her B.A. from the University of Wyoming\, her M.A. from the University of Colorado\, and her Ph.D. from the University of California at Los Angeles. Her research interests are disability\, identity\, and marginalization in ancient Greece\, and the archaeology of ancient Greece. Her article “The Architecture of Access: Ramps at Ancient Greek Healing Sanctuaries” (Antiquity 94\, 2020) was awarded the 2021 Ben Cullen Prize by the journal Antiquity for outstanding work in archaeology. She has an article on disability and infanticide published with Hesperia (90\, 2021) and is currently working on her monograph\, entitled Not Another Other: Physical Disability\, Ableism\, and Disablism in Ancient Greece.
URL:https://www.archaeological.org/event/societysunday/
LOCATION:MA
CATEGORIES:Lecture
ATTACH;FMTTYPE=image/png:https://www.archaeological.org/wp-content/uploads/2021/12/Sneed-Lecture-Poster.png
END:VEVENT
END:VCALENDAR