BEGIN:VCALENDAR
VERSION:2.0
PRODID:-//Archaeological Institute of America - ECPv6.15.20//NONSGML v1.0//EN
CALSCALE:GREGORIAN
METHOD:PUBLISH
X-ORIGINAL-URL:https://www.archaeological.org
X-WR-CALDESC:Events for Archaeological Institute of America
REFRESH-INTERVAL;VALUE=DURATION:PT1H
X-Robots-Tag:noindex
X-PUBLISHED-TTL:PT1H
BEGIN:VTIMEZONE
TZID:America/Denver
BEGIN:DAYLIGHT
TZOFFSETFROM:-0700
TZOFFSETTO:-0600
TZNAME:MDT
DTSTART:20210314T090000
END:DAYLIGHT
BEGIN:STANDARD
TZOFFSETFROM:-0600
TZOFFSETTO:-0700
TZNAME:MST
DTSTART:20211107T080000
END:STANDARD
BEGIN:DAYLIGHT
TZOFFSETFROM:-0700
TZOFFSETTO:-0600
TZNAME:MDT
DTSTART:20220313T090000
END:DAYLIGHT
BEGIN:STANDARD
TZOFFSETFROM:-0600
TZOFFSETTO:-0700
TZNAME:MST
DTSTART:20221106T080000
END:STANDARD
BEGIN:DAYLIGHT
TZOFFSETFROM:-0700
TZOFFSETTO:-0600
TZNAME:MDT
DTSTART:20230312T090000
END:DAYLIGHT
BEGIN:STANDARD
TZOFFSETFROM:-0600
TZOFFSETTO:-0700
TZNAME:MST
DTSTART:20231105T080000
END:STANDARD
END:VTIMEZONE
BEGIN:VEVENT
DTSTART;TZID=America/Denver:20220119T190000
DTEND;TZID=America/Denver:20220119T203000
DTSTAMP:20260424T011557
CREATED:20211206T154112Z
LAST-MODIFIED:20220103T171413Z
UID:10006224-1642618800-1642624200@www.archaeological.org
SUMMARY:Community Archaeology at Amache\, Colorado’s Japanese American Confinement Camp
DESCRIPTION:Prof. Bonnie. J. Clark (University of Denver\, Department of Anthropology)\nThe forced removal and subsequent incarceration of over 120\,000 people of American of Japanese descent during World War II is a pivotal incident in world history. The sites of this confinement are significant resources for both research about and re-engagement with this critical\, yet shadowed experience. Since 2008\, Dr. Bonnie Clark has led collaborative archaeological investigations at the site of Amache\, Colorado’s War Relocation Authority confinement facility. In this talk Clark will discuss the ongoing project\, highlighting insights about the camp’s cultural landscape and the strategies of a confined people to reknit community and reclaim humanity. \nBio\nBonnie Clark is a Professor in the University of Denver’s Anthropology Department. A professional archaeologist since 1990\, Dr. Clark’s work has focused on using the tangible past– artifacts\, architecture\, settlement patterns–to tell a more inclusive history of western North America. Dr. Clark’s research interests include the relationships between material culture\, ethnicity\, and gender; cultural landscapes; community-engaged research; and heritage management. She teaches a range of classes for the anthropology department including Historical Archaeology\, Cultural Narratives\, and Anthropologies of Place. Dr. Clark serves as the Curator for Archaeology of the University of Denver Museum of Anthropology. In the Fall of 2011\, Dr. Clark was awarded the University of Denver’s Teacher/Scholar of the Year.
URL:https://www.archaeological.org/event/community-archaeology-at-amache-colorados-japanese-american-confinement-camp/
LOCATION:MA
CATEGORIES:Lecture
END:VEVENT
END:VCALENDAR