BEGIN:VCALENDAR
VERSION:2.0
PRODID:-//Archaeological Institute of America - ECPv6.15.20//NONSGML v1.0//EN
CALSCALE:GREGORIAN
METHOD:PUBLISH
X-ORIGINAL-URL:https://www.archaeological.org
X-WR-CALDESC:Events for Archaeological Institute of America
REFRESH-INTERVAL;VALUE=DURATION:PT1H
X-Robots-Tag:noindex
X-PUBLISHED-TTL:PT1H
BEGIN:VTIMEZONE
TZID:America/New_York
BEGIN:DAYLIGHT
TZOFFSETFROM:-0500
TZOFFSETTO:-0400
TZNAME:EDT
DTSTART:20210314T070000
END:DAYLIGHT
BEGIN:STANDARD
TZOFFSETFROM:-0400
TZOFFSETTO:-0500
TZNAME:EST
DTSTART:20211107T060000
END:STANDARD
BEGIN:DAYLIGHT
TZOFFSETFROM:-0500
TZOFFSETTO:-0400
TZNAME:EDT
DTSTART:20220313T070000
END:DAYLIGHT
BEGIN:STANDARD
TZOFFSETFROM:-0400
TZOFFSETTO:-0500
TZNAME:EST
DTSTART:20221106T060000
END:STANDARD
BEGIN:DAYLIGHT
TZOFFSETFROM:-0500
TZOFFSETTO:-0400
TZNAME:EDT
DTSTART:20230312T070000
END:DAYLIGHT
BEGIN:STANDARD
TZOFFSETFROM:-0400
TZOFFSETTO:-0500
TZNAME:EST
DTSTART:20231105T060000
END:STANDARD
END:VTIMEZONE
BEGIN:VEVENT
DTSTART;TZID=America/New_York:20220120T130000
DTEND;TZID=America/New_York:20220120T140000
DTSTAMP:20260424T011559
CREATED:20220119T162007Z
LAST-MODIFIED:20220119T162214Z
UID:10005893-1642683600-1642687200@www.archaeological.org
SUMMARY:Archaeology Abridged with Dr. Kate Liszka "Operation Amethyst: How Egyptian Kings and Queens got their Bling 4\,000 years ago"
DESCRIPTION:Some of the most stunning jewelry from Ancient Egypt is made of amethyst.  Its craftsmanship\, opulence\, and design epitomize quality in the ancient world.  Yet the skill in making this jewelry started long before the cutting and buffing of the raw stone.  Procuring amethyst in the Eastern Desert is fraught with many more perils and problems than Nile Valley craftsmen experienced.  As the Director of the Wadi el-Hudi Expedition to the Eastern Desert\, Liszka leads a team that has studied the remains of these ancient desert expeditions and a team who has firsthand experience of many of the perils that the ancient explorers would have fought as well.  This talk examines the extremes and dangers that thousands of Ancient Egyptians went to in order to acquire these beautiful purple stones for the Pharaoh’s jewels.  By investigating the archaeology\, art\, and inscriptions from Wadi el-Hudi in the Egyptian Eastern Desert\, we navigate through the whole process of amethyst acquisition: from finding\, to mining\, and surviving in the dangers of the desert. \nThis lecture will also be available in American Sign Language. ASL interpretation will be provided by Trail Blazing Interpreters. Due to Zoom limitations on mobile devices and tablets\, participants interested in accessing ASL interpretation should log in using the desktop version of Zoom. \nDr. Kate Liszka is the Benson and Pamela Harer Fellow in Egyptology and Associate Professor of History at California State University San Bernardino. She earned her doctorate at the University of Pennsylvania and from 2012 to 2015 was a Cotsen Postdoctoral Fellow and Lecturer at Princeton University.  Her areas of specialization include Nubians in Egypt\, the Medjay\, ethnicity and identity in Antiquity\, multicultural Interactions in frontier regions\, the Pangrave Archaeological Culture\, and large-scale mining expeditions in Antiquity.  Dr. Liszka is the Director of the Wadi el-Hudi Expedition in the Egyptian Eastern Desert.
URL:https://www.archaeological.org/event/archaeology-abridged-with-dr-kate-liszka-operation-amethyst-how-egyptian-kings-and-queens-got-their-bling-4000-years-ago/
LOCATION:1061 Boston Post Road\, Rye\, New York\, 10580\, United States
CATEGORIES:Lecture
GEO:41.3140214;-105.5846008
X-APPLE-STRUCTURED-LOCATION;VALUE=URI;X-ADDRESS=1061 Boston Post Road Rye New York 10580 United States;X-APPLE-RADIUS=500;X-TITLE=1061 Boston Post Road:geo:-105.5846008,41.3140214
END:VEVENT
END:VCALENDAR