BEGIN:VCALENDAR
VERSION:2.0
PRODID:-//Archaeological Institute of America - ECPv6.15.20//NONSGML v1.0//EN
CALSCALE:GREGORIAN
METHOD:PUBLISH
X-ORIGINAL-URL:https://www.archaeological.org
X-WR-CALDESC:Events for Archaeological Institute of America
REFRESH-INTERVAL;VALUE=DURATION:PT1H
X-Robots-Tag:noindex
X-PUBLISHED-TTL:PT1H
BEGIN:VTIMEZONE
TZID:America/New_York
BEGIN:DAYLIGHT
TZOFFSETFROM:-0500
TZOFFSETTO:-0400
TZNAME:EDT
DTSTART:20210314T070000
END:DAYLIGHT
BEGIN:STANDARD
TZOFFSETFROM:-0400
TZOFFSETTO:-0500
TZNAME:EST
DTSTART:20211107T060000
END:STANDARD
BEGIN:DAYLIGHT
TZOFFSETFROM:-0500
TZOFFSETTO:-0400
TZNAME:EDT
DTSTART:20220313T070000
END:DAYLIGHT
BEGIN:STANDARD
TZOFFSETFROM:-0400
TZOFFSETTO:-0500
TZNAME:EST
DTSTART:20221106T060000
END:STANDARD
BEGIN:DAYLIGHT
TZOFFSETFROM:-0500
TZOFFSETTO:-0400
TZNAME:EDT
DTSTART:20230312T070000
END:DAYLIGHT
BEGIN:STANDARD
TZOFFSETFROM:-0400
TZOFFSETTO:-0500
TZNAME:EST
DTSTART:20231105T060000
END:STANDARD
END:VTIMEZONE
BEGIN:VEVENT
DTSTART;TZID=America/New_York:20220222T193000
DTEND;TZID=America/New_York:20220222T210000
DTSTAMP:20260423T082504
CREATED:20220216T144306Z
LAST-MODIFIED:20220221T150911Z
UID:10006303-1645558200-1645563600@www.archaeological.org
SUMMARY:Anna Agbe-Davies\, “The Mis-Education of Pauli Murray”
DESCRIPTION:Tuesday\, February 22\, 2022\n7:30 p.m. ET \nJoin Zoom Meeting\nhttps://davidson.zoom.us/j/99143304841 \nMeeting ID: 991 4330 4841 \nAnna Agbe-Davies\,  “The Mis-Education of Pauli Murray” \nAbout the lecture:\nThis presentation considers education\, womanhood\, and signs as refracted through the life of human rights pioneer Pauli Murray\, prompted by the archaeological investigation of her childhood home in Durham\, North Carolina.  It is part of a work-in-progress that investigates the place material culture and the routines of daily life in African American women’s struggles for equality. \nAbout the speaker:\nDr. Anna Agbe-Davies\, associate professor of anthropology at UNC–Chapel Hill\, is a historical archaeologist with research interests in the plantation societies of the colonial southeastern US and Caribbean\, as well as towns and cities of the 19th and 20th century Midwest\, with a particular focus on the African diaspora. She has worked on sites in and around Jamestown (VA)\, Colonial Williamsburg\, New Philadelphia (IL)\, and the Phyllis Wheatley Home for Girls on the south side of Chicago.
URL:https://www.archaeological.org/event/anna-agbe-davies-archaeology-and-race-gender-and-space-situating-the-phyllis-wheatley-home-for-girls-and-the-pauli-murray-family-home-amid-infrastructural-racisms/
LOCATION:MA
CATEGORIES:Lecture
ATTACH;FMTTYPE=image/jpeg:https://www.archaeological.org/wp-content/uploads/2022/02/Agbe-Davies-150x150-new-150x150-1.jpg
ORGANIZER;CN="Peter Krentz":MAILTO:pekrentz@davidson.edu
END:VEVENT
END:VCALENDAR