BEGIN:VCALENDAR
VERSION:2.0
PRODID:-//Archaeological Institute of America - ECPv6.15.20//NONSGML v1.0//EN
CALSCALE:GREGORIAN
METHOD:PUBLISH
X-WR-CALNAME:Archaeological Institute of America
X-ORIGINAL-URL:https://www.archaeological.org
X-WR-CALDESC:Events for Archaeological Institute of America
REFRESH-INTERVAL;VALUE=DURATION:PT1H
X-Robots-Tag:noindex
X-PUBLISHED-TTL:PT1H
BEGIN:VTIMEZONE
TZID:America/Los_Angeles
BEGIN:DAYLIGHT
TZOFFSETFROM:-0800
TZOFFSETTO:-0700
TZNAME:PDT
DTSTART:20210314T100000
END:DAYLIGHT
BEGIN:STANDARD
TZOFFSETFROM:-0700
TZOFFSETTO:-0800
TZNAME:PST
DTSTART:20211107T090000
END:STANDARD
BEGIN:DAYLIGHT
TZOFFSETFROM:-0800
TZOFFSETTO:-0700
TZNAME:PDT
DTSTART:20220313T100000
END:DAYLIGHT
BEGIN:STANDARD
TZOFFSETFROM:-0700
TZOFFSETTO:-0800
TZNAME:PST
DTSTART:20221106T090000
END:STANDARD
BEGIN:DAYLIGHT
TZOFFSETFROM:-0800
TZOFFSETTO:-0700
TZNAME:PDT
DTSTART:20230312T100000
END:DAYLIGHT
BEGIN:STANDARD
TZOFFSETFROM:-0700
TZOFFSETTO:-0800
TZNAME:PST
DTSTART:20231105T090000
END:STANDARD
END:VTIMEZONE
BEGIN:VTIMEZONE
TZID:America/Chicago
BEGIN:DAYLIGHT
TZOFFSETFROM:-0600
TZOFFSETTO:-0500
TZNAME:CDT
DTSTART:20210314T080000
END:DAYLIGHT
BEGIN:STANDARD
TZOFFSETFROM:-0500
TZOFFSETTO:-0600
TZNAME:CST
DTSTART:20211107T070000
END:STANDARD
BEGIN:DAYLIGHT
TZOFFSETFROM:-0600
TZOFFSETTO:-0500
TZNAME:CDT
DTSTART:20220313T080000
END:DAYLIGHT
BEGIN:STANDARD
TZOFFSETFROM:-0500
TZOFFSETTO:-0600
TZNAME:CST
DTSTART:20221106T070000
END:STANDARD
BEGIN:DAYLIGHT
TZOFFSETFROM:-0600
TZOFFSETTO:-0500
TZNAME:CDT
DTSTART:20230312T080000
END:DAYLIGHT
BEGIN:STANDARD
TZOFFSETFROM:-0500
TZOFFSETTO:-0600
TZNAME:CST
DTSTART:20231105T070000
END:STANDARD
END:VTIMEZONE
BEGIN:VTIMEZONE
TZID:America/New_York
BEGIN:DAYLIGHT
TZOFFSETFROM:-0500
TZOFFSETTO:-0400
TZNAME:EDT
DTSTART:20210314T070000
END:DAYLIGHT
BEGIN:STANDARD
TZOFFSETFROM:-0400
TZOFFSETTO:-0500
TZNAME:EST
DTSTART:20211107T060000
END:STANDARD
BEGIN:DAYLIGHT
TZOFFSETFROM:-0500
TZOFFSETTO:-0400
TZNAME:EDT
DTSTART:20220313T070000
END:DAYLIGHT
BEGIN:STANDARD
TZOFFSETFROM:-0400
TZOFFSETTO:-0500
TZNAME:EST
DTSTART:20221106T060000
END:STANDARD
BEGIN:DAYLIGHT
TZOFFSETFROM:-0500
TZOFFSETTO:-0400
TZNAME:EDT
DTSTART:20230312T070000
END:DAYLIGHT
BEGIN:STANDARD
TZOFFSETFROM:-0400
TZOFFSETTO:-0500
TZNAME:EST
DTSTART:20231105T060000
END:STANDARD
END:VTIMEZONE
BEGIN:VEVENT
DTSTART;TZID=America/Los_Angeles:20220224T160000
DTEND;TZID=America/Los_Angeles:20220224T160000
DTSTAMP:20260423T113627
CREATED:20210818T164145Z
LAST-MODIFIED:20220122T043021Z
UID:10005819-1645718400-1645718400@www.archaeological.org
SUMMARY:Roman Baths Here\, There\, and Everywhere
DESCRIPTION:Church Lecture
URL:https://www.archaeological.org/event/roman-baths-here-there-and-everywhere-2/
LOCATION:MA
CATEGORIES:AIA Lecture Program,Lecture
ORGANIZER;CN="John W.I. Lee":MAILTO:jwilee@history.ucsb.edu
END:VEVENT
BEGIN:VEVENT
DTSTART;TZID=America/Chicago:20220224T173000
DTEND;TZID=America/Chicago:20220224T173000
DTSTAMP:20260423T113627
CREATED:20210818T164159Z
LAST-MODIFIED:20220119T045228Z
UID:10005836-1645723800-1645723800@www.archaeological.org
SUMMARY:POSTPONED--Shopping for artists’ materials in ancient Rome: pigment shops\, pigments\, and product choice
DESCRIPTION:This event is postponed until a later date this spring.  New date to come!
URL:https://www.archaeological.org/event/shopping-for-artists-materials-in-ancient-rome-pigment-shops-pigments-and-product-choice-2/
LOCATION:Texas Tech University\, Room TBA\, Lubbock\, TX\, 79410\, United States
CATEGORIES:AIA Lecture Program,Lecture
ORGANIZER;CN="Linda Gosner":MAILTO:lgosner@ttu.edu
GEO:33.583233;-101.874681
END:VEVENT
BEGIN:VEVENT
DTSTART;TZID=America/Chicago:20220224T180000
DTEND;TZID=America/Chicago:20220224T180000
DTSTAMP:20260423T113627
CREATED:20210818T164100Z
LAST-MODIFIED:20220122T044628Z
UID:10005733-1645725600-1645725600@www.archaeological.org
SUMMARY:The Art of Wine Flinging: Kylix and Kottabos at the Greek Symposium
DESCRIPTION:Boegehold Lecture
URL:https://www.archaeological.org/event/the-art-of-wine-flinging-kylix-and-kottabos-at-the-greek-symposium-3/
LOCATION:Nashville Parthenon\, 2500 West End Avenue\, Nashville\, TN\, 37203\, United States
CATEGORIES:AIA Lecture Program,Lecture
ORGANIZER;CN="Mireille Lee":MAILTO:aianashville@gmail.com
GEO:36.1494148;-86.812823
X-APPLE-STRUCTURED-LOCATION;VALUE=URI;X-ADDRESS=Nashville Parthenon 2500 West End Avenue Nashville TN 37203 United States;X-APPLE-RADIUS=500;X-TITLE=2500 West End Avenue:geo:-86.812823,36.1494148
END:VEVENT
BEGIN:VEVENT
DTSTART;TZID=America/New_York:20220224T180000
DTEND;TZID=America/New_York:20220224T190000
DTSTAMP:20260423T113627
CREATED:20220202T144625Z
LAST-MODIFIED:20220202T144625Z
UID:10006278-1645725600-1645729200@www.archaeological.org
SUMMARY:On the Literacy and Education of Ancient Egyptian Artists (Free Virtual Lecture)
DESCRIPTION:Dimitri Laboury\, Associate Professor of Ancient Egyptian Art History\, Archaeology\, History and History of Religions; Research Director\, Belgian National Fund for Scientific Research in Ancient Egyptian Art History and Archaeology; Director of the Ancient Egyptian Art Historical Research Unit\, University of Liège\, Belgium \nOne of the salient characteristics of ancient Egypt undoubtedly is its hieroglyphic script. The “code” to decipher this writing system was cracked precisely two hundred years ago\, in 1822\, by the brilliant French linguist Jean-François Champollion—the founding father of Egyptology. The complexity of Egyptian hieroglyphs resulted in a low literacy rate among the Pharaonic population. In this lecture\, Dimitri Laboury will address the level(s) of literacy and scholarly education among the makers of the countless hieroglyphic monuments that help make ancient Egypt so famous. Was every ancient Egyptian artist capable of reading and writing hieroglyphs? And in that society\, who were the real experts in hieroglyphic writing? \nPresented by Harvard Museum of the Ancient Near East and Harvard Museums of Science & Culture
URL:https://www.archaeological.org/event/on-the-literacy-and-education-of-ancient-egyptian-artists-free-virtual-lecture/
LOCATION:Harvard Museum of the Ancient Near East\, 6 Divinity Avenue\, Cambridge\, MA\, 02138\, United States
CATEGORIES:Lecture
ATTACH;FMTTYPE=image/jpeg:https://www.archaeological.org/wp-content/uploads/2022/02/laboury-600x400-1.jpg
ORGANIZER;CN="Harvard Museums of Science &amp%3Bamp%3B Culture":MAILTO:hmscpr@hmsc.harvard.edu
GEO:42.3780714;-71.1139248
X-APPLE-STRUCTURED-LOCATION;VALUE=URI;X-ADDRESS=Harvard Museum of the Ancient Near East 6 Divinity Avenue Cambridge MA 02138 United States;X-APPLE-RADIUS=500;X-TITLE=6 Divinity Avenue:geo:-71.1139248,42.3780714
END:VEVENT
BEGIN:VEVENT
DTSTART;TZID=America/New_York:20220224T190000
DTEND;TZID=America/New_York:20220224T200000
DTSTAMP:20260423T113627
CREATED:20220211T140248Z
LAST-MODIFIED:20220211T140248Z
UID:10006300-1645729200-1645732800@www.archaeological.org
SUMMARY:Excavations at 63 ½ Coming St.: Exploring an evolving urban African-American landscape in Charleston
DESCRIPTION:The discoverers of one of Archaeology magazine’s Top 10 Discoveries of 2021\, the slave tag found at 63 ½ Coming St. in Charleston\, SC\, discuss the development and evolution of the urban landscape of Charleston\, with a particular emphasis on evidence for African-American life and culture in 19th c. Charleston. \nSpeakers: James Newhard\, Grant Gilmore\, and Scott Harris (College of Charleston) \nFeb. 24\, 7-8 pm EST; virtual lecture via Zoom. Register in advance: https://cofc.zoom.us/meeting/register/tZAvce2tqTgpH90jeku3XJhQOVt2r65GMZEb
URL:https://www.archaeological.org/event/excavations-at-63-%c2%bd-coming-st-exploring-an-evolving-urban-african-american-landscape-in-charleston/
LOCATION:MA
CATEGORIES:Lecture
ATTACH;FMTTYPE=image/jpeg:https://www.archaeological.org/wp-content/uploads/2022/02/2022-ComingStExcavations.jpg
END:VEVENT
END:VCALENDAR