BEGIN:VCALENDAR
VERSION:2.0
PRODID:-//Archaeological Institute of America - ECPv6.15.20//NONSGML v1.0//EN
CALSCALE:GREGORIAN
METHOD:PUBLISH
X-WR-CALNAME:Archaeological Institute of America
X-ORIGINAL-URL:https://www.archaeological.org
X-WR-CALDESC:Events for Archaeological Institute of America
REFRESH-INTERVAL;VALUE=DURATION:PT1H
X-Robots-Tag:noindex
X-PUBLISHED-TTL:PT1H
BEGIN:VTIMEZONE
TZID:America/Chicago
BEGIN:DAYLIGHT
TZOFFSETFROM:-0600
TZOFFSETTO:-0500
TZNAME:CDT
DTSTART:20210314T080000
END:DAYLIGHT
BEGIN:STANDARD
TZOFFSETFROM:-0500
TZOFFSETTO:-0600
TZNAME:CST
DTSTART:20211107T070000
END:STANDARD
BEGIN:DAYLIGHT
TZOFFSETFROM:-0600
TZOFFSETTO:-0500
TZNAME:CDT
DTSTART:20220313T080000
END:DAYLIGHT
BEGIN:STANDARD
TZOFFSETFROM:-0500
TZOFFSETTO:-0600
TZNAME:CST
DTSTART:20221106T070000
END:STANDARD
BEGIN:DAYLIGHT
TZOFFSETFROM:-0600
TZOFFSETTO:-0500
TZNAME:CDT
DTSTART:20230312T080000
END:DAYLIGHT
BEGIN:STANDARD
TZOFFSETFROM:-0500
TZOFFSETTO:-0600
TZNAME:CST
DTSTART:20231105T070000
END:STANDARD
END:VTIMEZONE
BEGIN:VTIMEZONE
TZID:America/New_York
BEGIN:DAYLIGHT
TZOFFSETFROM:-0500
TZOFFSETTO:-0400
TZNAME:EDT
DTSTART:20210314T070000
END:DAYLIGHT
BEGIN:STANDARD
TZOFFSETFROM:-0400
TZOFFSETTO:-0500
TZNAME:EST
DTSTART:20211107T060000
END:STANDARD
BEGIN:DAYLIGHT
TZOFFSETFROM:-0500
TZOFFSETTO:-0400
TZNAME:EDT
DTSTART:20220313T070000
END:DAYLIGHT
BEGIN:STANDARD
TZOFFSETFROM:-0400
TZOFFSETTO:-0500
TZNAME:EST
DTSTART:20221106T060000
END:STANDARD
BEGIN:DAYLIGHT
TZOFFSETFROM:-0500
TZOFFSETTO:-0400
TZNAME:EDT
DTSTART:20230312T070000
END:DAYLIGHT
BEGIN:STANDARD
TZOFFSETFROM:-0400
TZOFFSETTO:-0500
TZNAME:EST
DTSTART:20231105T060000
END:STANDARD
END:VTIMEZONE
BEGIN:VEVENT
DTSTART;TZID=America/Chicago:20220302T170000
DTEND;TZID=America/Chicago:20220302T170000
DTSTAMP:20260423T113624
CREATED:20210818T164131Z
LAST-MODIFIED:20220208T213041Z
UID:10005789-1646240400-1646240400@www.archaeological.org
SUMMARY:Synoikismos: Formation and Forms of Ancient Greek Cities
DESCRIPTION:
URL:https://www.archaeological.org/event/mississippi-memphis-lecture-2-tba/
LOCATION:Bryant Hall 209\, The University of Mississippi\, University\, MS\, 38677\, United States
CATEGORIES:AIA Lecture Program,Lecture
ORGANIZER;CN="Aileen Ajootian":MAILTO:ajootian@olemiss.edu
GEO:32.3546679;-89.3985283
X-APPLE-STRUCTURED-LOCATION;VALUE=URI;X-ADDRESS=Bryant Hall 209 The University of Mississippi University MS 38677 United States;X-APPLE-RADIUS=500;X-TITLE=The University of Mississippi:geo:-89.3985283,32.3546679
END:VEVENT
BEGIN:VEVENT
DTSTART;TZID=America/New_York:20220302T180000
DTEND;TZID=America/New_York:20220302T180000
DTSTAMP:20260423T113624
CREATED:20210818T164110Z
LAST-MODIFIED:20220223T144012Z
UID:10005748-1646244000-1646244000@www.archaeological.org
SUMMARY:20\,000 Leagues Under the Wine-Dark Sea
DESCRIPTION:Caskey Lecture
URL:https://www.archaeological.org/event/cincinnati-lecture-2-tba-2/
LOCATION:MA
CATEGORIES:AIA Lecture Program,Lecture
ORGANIZER;CN="Susan E. Allen":MAILTO:allese@ucmail.uc.edu
END:VEVENT
BEGIN:VEVENT
DTSTART;TZID=America/Chicago:20220302T193000
DTEND;TZID=America/Chicago:20220302T203000
DTSTAMP:20260423T113624
CREATED:20210827T153333Z
LAST-MODIFIED:20220217T170719Z
UID:10005985-1646249400-1646253000@www.archaeological.org
SUMMARY:"The Social Life of Roman Soldiers: The Role of Wives\, Children and Families in Roman Military Communities" Elizabeth M. Greene
DESCRIPTION:Elizabeth M. Greene\, Canada Research Chair in Roman Archaeology\, University of Western Ontario (egreene2@uwo.ca) \nResearch over the past few decades has shown quite clearly that women and children were part of life in the Roman army far more than had ever been considered before. The evidence and spatial patterning of material within and outside Roman forts makes this clear\, but still research on the social role of these individuals lags behind. This presentation concentrates on Dr. Greene’s current research into this aspect of the Roman army\, considering the evidence that illuminates the varied roles of non-combatants within these somewhat unique settlements. The presentation highlights the very different realities for the wives and children of officers and the family members of\, for instance\, a foot soldier\, who was paid far less and was not legally allowed to contract a marriage while serving. This lecture follows on past talks I have given that present the archaeological evidence for the presence of women at Vindolanda and pushes the argument toward women’s social roles within military communities and the intersectional identities of those living in the Roman provinces and in military communities on the frontiers.
URL:https://www.archaeological.org/event/social-life-of-roman-soldiers/
LOCATION:MA
CATEGORIES:Lecture
ORGANIZER;CN="Kirsten Day":MAILTO:kirstenday@augustana.edu
END:VEVENT
END:VCALENDAR