BEGIN:VCALENDAR
VERSION:2.0
PRODID:-//Archaeological Institute of America - ECPv6.15.20//NONSGML v1.0//EN
CALSCALE:GREGORIAN
METHOD:PUBLISH
X-ORIGINAL-URL:https://www.archaeological.org
X-WR-CALDESC:Events for Archaeological Institute of America
REFRESH-INTERVAL;VALUE=DURATION:PT1H
X-Robots-Tag:noindex
X-PUBLISHED-TTL:PT1H
BEGIN:VTIMEZONE
TZID:America/New_York
BEGIN:DAYLIGHT
TZOFFSETFROM:-0500
TZOFFSETTO:-0400
TZNAME:EDT
DTSTART:20210314T070000
END:DAYLIGHT
BEGIN:STANDARD
TZOFFSETFROM:-0400
TZOFFSETTO:-0500
TZNAME:EST
DTSTART:20211107T060000
END:STANDARD
BEGIN:DAYLIGHT
TZOFFSETFROM:-0500
TZOFFSETTO:-0400
TZNAME:EDT
DTSTART:20220313T070000
END:DAYLIGHT
BEGIN:STANDARD
TZOFFSETFROM:-0400
TZOFFSETTO:-0500
TZNAME:EST
DTSTART:20221106T060000
END:STANDARD
BEGIN:DAYLIGHT
TZOFFSETFROM:-0500
TZOFFSETTO:-0400
TZNAME:EDT
DTSTART:20230312T070000
END:DAYLIGHT
BEGIN:STANDARD
TZOFFSETFROM:-0400
TZOFFSETTO:-0500
TZNAME:EST
DTSTART:20231105T060000
END:STANDARD
END:VTIMEZONE
BEGIN:VTIMEZONE
TZID:America/Los_Angeles
BEGIN:DAYLIGHT
TZOFFSETFROM:-0800
TZOFFSETTO:-0700
TZNAME:PDT
DTSTART:20210314T100000
END:DAYLIGHT
BEGIN:STANDARD
TZOFFSETFROM:-0700
TZOFFSETTO:-0800
TZNAME:PST
DTSTART:20211107T090000
END:STANDARD
BEGIN:DAYLIGHT
TZOFFSETFROM:-0800
TZOFFSETTO:-0700
TZNAME:PDT
DTSTART:20220313T100000
END:DAYLIGHT
BEGIN:STANDARD
TZOFFSETFROM:-0700
TZOFFSETTO:-0800
TZNAME:PST
DTSTART:20221106T090000
END:STANDARD
BEGIN:DAYLIGHT
TZOFFSETFROM:-0800
TZOFFSETTO:-0700
TZNAME:PDT
DTSTART:20230312T100000
END:DAYLIGHT
BEGIN:STANDARD
TZOFFSETFROM:-0700
TZOFFSETTO:-0800
TZNAME:PST
DTSTART:20231105T090000
END:STANDARD
END:VTIMEZONE
BEGIN:VEVENT
DTSTART;TZID=America/New_York:20220311T170000
DTEND;TZID=America/New_York:20220311T180000
DTSTAMP:20260423T131413
CREATED:20210831T171833Z
LAST-MODIFIED:20220214T155623Z
UID:10006043-1647018000-1647021600@www.archaeological.org
SUMMARY:"De-composing and Re-composing the ancient Egyptian body"
DESCRIPTION:Dr. Tasha Dobbin-Bennett (Emory University Oxford College) will speak on “De-composing and Re-composing the ancient Egyptian body.” \nJoin via Zoom at the link below. The password\, if prompted is “baltimore”. \n 
URL:https://www.archaeological.org/event/de-composing-and-re-composing-the-ancient-egyptian-body/
LOCATION:MA
CATEGORIES:Lecture
END:VEVENT
BEGIN:VEVENT
DTSTART;TZID=America/Los_Angeles:20220311T191500
DTEND;TZID=America/Los_Angeles:20220311T191500
DTSTAMP:20260423T131413
CREATED:20210818T164142Z
LAST-MODIFIED:20220222T143315Z
UID:10005814-1647026100-1647026100@www.archaeological.org
SUMMARY:When Gods and Heroes Retreat: The Death of Myth on Roman Sarcophagi
DESCRIPTION:Oliver Lecture
URL:https://www.archaeological.org/event/san-diego-lecture-tba/
LOCATION:MA
CATEGORIES:AIA Lecture Program,Lecture
ORGANIZER;CN="Elizabeth Ann Pollard":MAILTO:epollard@mail.sdsu.edu
END:VEVENT
END:VCALENDAR