BEGIN:VCALENDAR
VERSION:2.0
PRODID:-//Archaeological Institute of America - ECPv6.15.20//NONSGML v1.0//EN
CALSCALE:GREGORIAN
METHOD:PUBLISH
X-ORIGINAL-URL:https://www.archaeological.org
X-WR-CALDESC:Events for Archaeological Institute of America
REFRESH-INTERVAL;VALUE=DURATION:PT1H
X-Robots-Tag:noindex
X-PUBLISHED-TTL:PT1H
BEGIN:VTIMEZONE
TZID:America/New_York
BEGIN:DAYLIGHT
TZOFFSETFROM:-0500
TZOFFSETTO:-0400
TZNAME:EDT
DTSTART:20210314T070000
END:DAYLIGHT
BEGIN:STANDARD
TZOFFSETFROM:-0400
TZOFFSETTO:-0500
TZNAME:EST
DTSTART:20211107T060000
END:STANDARD
BEGIN:DAYLIGHT
TZOFFSETFROM:-0500
TZOFFSETTO:-0400
TZNAME:EDT
DTSTART:20220313T070000
END:DAYLIGHT
BEGIN:STANDARD
TZOFFSETFROM:-0400
TZOFFSETTO:-0500
TZNAME:EST
DTSTART:20221106T060000
END:STANDARD
BEGIN:DAYLIGHT
TZOFFSETFROM:-0500
TZOFFSETTO:-0400
TZNAME:EDT
DTSTART:20230312T070000
END:DAYLIGHT
BEGIN:STANDARD
TZOFFSETFROM:-0400
TZOFFSETTO:-0500
TZNAME:EST
DTSTART:20231105T060000
END:STANDARD
END:VTIMEZONE
BEGIN:VTIMEZONE
TZID:America/Vancouver
BEGIN:DAYLIGHT
TZOFFSETFROM:-0800
TZOFFSETTO:-0700
TZNAME:PDT
DTSTART:20210314T100000
END:DAYLIGHT
BEGIN:STANDARD
TZOFFSETFROM:-0700
TZOFFSETTO:-0800
TZNAME:PST
DTSTART:20211107T090000
END:STANDARD
BEGIN:DAYLIGHT
TZOFFSETFROM:-0800
TZOFFSETTO:-0700
TZNAME:PDT
DTSTART:20220313T100000
END:DAYLIGHT
BEGIN:STANDARD
TZOFFSETFROM:-0700
TZOFFSETTO:-0800
TZNAME:PST
DTSTART:20221106T090000
END:STANDARD
BEGIN:DAYLIGHT
TZOFFSETFROM:-0800
TZOFFSETTO:-0700
TZNAME:PDT
DTSTART:20230312T100000
END:DAYLIGHT
BEGIN:STANDARD
TZOFFSETFROM:-0700
TZOFFSETTO:-0800
TZNAME:PST
DTSTART:20231105T090000
END:STANDARD
END:VTIMEZONE
BEGIN:VEVENT
DTSTART;TZID=America/New_York:20220317T173000
DTEND;TZID=America/New_York:20220317T173000
DTSTAMP:20260423T113641
CREATED:20210818T164059Z
LAST-MODIFIED:20210823T145531Z
UID:10005731-1647538200-1647538200@www.archaeological.org
SUMMARY:Humans and Alcohol: The Archaeology of a Deeply Entangled Relationship
DESCRIPTION:Norton Lecture\, LOCATION TO BE CONFIRMED
URL:https://www.archaeological.org/event/humans-and-alcohol-the-archaeology-of-a-deeply-entangled-relationship/
LOCATION:Michigan Union\, 530 S. State Street\, Ann Arbor\, MI\, 48109-1308\, United States
CATEGORIES:AIA Lecture Program,Lecture
ORGANIZER;CN="David Stone":MAILTO:dlstone@umich.edu
GEO:42.2751833;-83.7413568
X-APPLE-STRUCTURED-LOCATION;VALUE=URI;X-ADDRESS=Michigan Union 530 S. State Street Ann Arbor MI 48109-1308 United States;X-APPLE-RADIUS=500;X-TITLE=530 S. State Street:geo:-83.7413568,42.2751833
END:VEVENT
BEGIN:VEVENT
DTSTART;TZID=America/Vancouver:20220317T183000
DTEND;TZID=America/Vancouver:20220317T200000
DTSTAMP:20260423T113641
CREATED:20211203T163413Z
LAST-MODIFIED:20211203T191030Z
UID:10006222-1647541800-1647547200@www.archaeological.org
SUMMARY:An Archaeologist\, World War II and Prehistoric Thailand
DESCRIPTION:Dr. Cyler Conrad (University of New Mexico) \nThe popular Hollywood film\, The Bridge on the River Kwai\, portrays an important series of events for prisoners of war during World War II in Thailand\, also known as the infamous China-Burma-India theater of conflict. While the film’s creative story garnered acclaim and praise after its release in 1957\, it masked the true experience of these prisoners in Thailand during the war. This talk will focus on the legacy of Hendrik Robert van Heekeren\, a prisoner captured by the Japanese in 1942 and sent to the “Railroad of Death” camps in Thailand in 1943. van Heekeren’s experience during the war including captivity and work on the railroad – common scenes depicted in the film – but his legacy stems from the significant archaeological work and contributions he completed while a prisoner of war and after in Thailand\, during the 1960s. The lecture discusses the intersection of van Heekeren\, prisoners in Thailand during World War II\, The Bridge on the River Kwai\, and the broader record of prehistoric archaeology influenced by these events \nvia Zoom
URL:https://www.archaeological.org/event/an-archaeologist-world-war-ii-and-prehistoric-thailand/
LOCATION:Northwest Museum of Arts and Culture\, 2316 West 1st Avenue\, Spokane\, WA\, 99201\, United States
CATEGORIES:Lecture
ORGANIZER;CN="Andrew Goldman":MAILTO:goldman@gonzaga.edu
GEO:47.6568363;-117.4468732
X-APPLE-STRUCTURED-LOCATION;VALUE=URI;X-ADDRESS=Northwest Museum of Arts and Culture 2316 West 1st Avenue Spokane WA 99201 United States;X-APPLE-RADIUS=500;X-TITLE=2316 West 1st Avenue:geo:-117.4468732,47.6568363
END:VEVENT
END:VCALENDAR