BEGIN:VCALENDAR
VERSION:2.0
PRODID:-//Archaeological Institute of America - ECPv6.15.20//NONSGML v1.0//EN
CALSCALE:GREGORIAN
METHOD:PUBLISH
X-WR-CALNAME:Archaeological Institute of America
X-ORIGINAL-URL:https://www.archaeological.org
X-WR-CALDESC:Events for Archaeological Institute of America
REFRESH-INTERVAL;VALUE=DURATION:PT1H
X-Robots-Tag:noindex
X-PUBLISHED-TTL:PT1H
BEGIN:VTIMEZONE
TZID:America/New_York
BEGIN:DAYLIGHT
TZOFFSETFROM:-0500
TZOFFSETTO:-0400
TZNAME:EDT
DTSTART:20210314T070000
END:DAYLIGHT
BEGIN:STANDARD
TZOFFSETFROM:-0400
TZOFFSETTO:-0500
TZNAME:EST
DTSTART:20211107T060000
END:STANDARD
BEGIN:DAYLIGHT
TZOFFSETFROM:-0500
TZOFFSETTO:-0400
TZNAME:EDT
DTSTART:20220313T070000
END:DAYLIGHT
BEGIN:STANDARD
TZOFFSETFROM:-0400
TZOFFSETTO:-0500
TZNAME:EST
DTSTART:20221106T060000
END:STANDARD
BEGIN:DAYLIGHT
TZOFFSETFROM:-0500
TZOFFSETTO:-0400
TZNAME:EDT
DTSTART:20230312T070000
END:DAYLIGHT
BEGIN:STANDARD
TZOFFSETFROM:-0400
TZOFFSETTO:-0500
TZNAME:EST
DTSTART:20231105T060000
END:STANDARD
END:VTIMEZONE
BEGIN:VTIMEZONE
TZID:America/Chicago
BEGIN:DAYLIGHT
TZOFFSETFROM:-0600
TZOFFSETTO:-0500
TZNAME:CDT
DTSTART:20210314T080000
END:DAYLIGHT
BEGIN:STANDARD
TZOFFSETFROM:-0500
TZOFFSETTO:-0600
TZNAME:CST
DTSTART:20211107T070000
END:STANDARD
BEGIN:DAYLIGHT
TZOFFSETFROM:-0600
TZOFFSETTO:-0500
TZNAME:CDT
DTSTART:20220313T080000
END:DAYLIGHT
BEGIN:STANDARD
TZOFFSETFROM:-0500
TZOFFSETTO:-0600
TZNAME:CST
DTSTART:20221106T070000
END:STANDARD
BEGIN:DAYLIGHT
TZOFFSETFROM:-0600
TZOFFSETTO:-0500
TZNAME:CDT
DTSTART:20230312T080000
END:DAYLIGHT
BEGIN:STANDARD
TZOFFSETFROM:-0500
TZOFFSETTO:-0600
TZNAME:CST
DTSTART:20231105T070000
END:STANDARD
END:VTIMEZONE
BEGIN:VEVENT
DTSTART;TZID=America/New_York:20220321T114500
DTEND;TZID=America/New_York:20220321T114500
DTSTAMP:20260423T113623
CREATED:20220223T150431Z
LAST-MODIFIED:20220223T150431Z
UID:10006325-1647863100-1647863100@www.archaeological.org
SUMMARY:Synoikismos: The Formation and Form of Ancient Greek Cities
DESCRIPTION:In-person lecture by Bradley Ault \nFollowing the Late Bronze Age “collapse” of Mycenaean civilization (ca. 1200 BCE)\, the formative Greek states and the palace centers that spawned them had vanished. What emerged in their wake over the course of the following centuries was the city-state or polis\, a system with a remarkably different pedigree. Bottom-up formations rather than top-down creations\, established by people and populations\, rather than implemented by aristocratic monarchies. More than 1000 such city-states existed in the ancient Greek world\, some 600 in the Aegean homeland and another 400 in colonial settings abroad. That is how successful this system proved to be. This lecture will explore not only the mechanisms of Greek city-state formation\, but the character of its urban core\, and especially how this organization reflected its socio-cultural profile.
URL:https://www.archaeological.org/event/synoikismos-the-formation-and-form-of-ancient-greek-cities/
LOCATION:Universite de Montreal\, Carrefour des arts et des sciences\, Pavillon Lionel-Groulx\, Room C-1017-02\, 3150\, rue Jean Brillant\, Montreal\, QC\, H3T 1N8\, Canada
CATEGORIES:Lecture
ORGANIZER;CN="Jacques Y. Perreault":MAILTO:jacques.y.perreault@umontreal.ca
GEO:45.4991188;-73.6180281
X-APPLE-STRUCTURED-LOCATION;VALUE=URI;X-ADDRESS=Universite de Montreal Carrefour des arts et des sciences Pavillon Lionel-Groulx Room C-1017-02 3150 rue Jean Brillant Montreal QC H3T 1N8 Canada;X-APPLE-RADIUS=500;X-TITLE=3150\, rue Jean Brillant:geo:-73.6180281,45.4991188
END:VEVENT
BEGIN:VEVENT
DTSTART;TZID=America/New_York:20220321T163000
DTEND;TZID=America/New_York:20220321T163000
DTSTAMP:20260423T113623
CREATED:20210818T164102Z
LAST-MODIFIED:20220218T195046Z
UID:10005739-1647880200-1647880200@www.archaeological.org
SUMMARY:Charismatic Rulers and Spatial Void in a Material World: Art from the Akkadian Empire\, c. 2350-2150 BCE
DESCRIPTION:Ettinghausen Lecture \n  \nDue to Covid precaution policies at Princeton\, only accept 10 non PU ID attendees will be accepted. They must register with Mo Chen (mochen@princeton.edu) in advance and attest to being fully vaccinated\, including the booster. Face masks must be properly worn in the building. Non PU ID holders must be at the front door of Green Hall by 4:20pm so staff can let them in. All campus building doors are locked to the public. Attendees will be checked in.
URL:https://www.archaeological.org/event/charismatic-rulers-and-spatial-void-in-a-material-world-art-from-the-akkadian-empire-c-2350-2150-bce/
LOCATION:Princeton University\, Green Hall\, 3-S-15\, Princeton\, 08540
CATEGORIES:AIA Lecture Program,Lecture
ORGANIZER;CN="Nathan T. Arrington":MAILTO:nta@princeton.edu
GEO:40.3486278;-74.6593444
END:VEVENT
BEGIN:VEVENT
DTSTART;TZID=America/New_York:20220321T170000
DTEND;TZID=America/New_York:20220321T170000
DTSTAMP:20260423T113623
CREATED:20210818T164133Z
LAST-MODIFIED:20220223T142715Z
UID:10005792-1647882000-1647882000@www.archaeological.org
SUMMARY:Halieis. An Ancient Greek City Lost and Found
DESCRIPTION:Biggs Lecture
URL:https://www.archaeological.org/event/montreal-lecture-tba/
LOCATION:Universite de Montreal\, Carrefour des arts et des sciences\, Pavillon Lionel-Groulx\, Room C-1017-02\, 3150\, rue Jean Brillant\, Montreal\, QC\, H3T 1N8\, Canada
CATEGORIES:AIA Lecture Program,Lecture
ORGANIZER;CN="Marie Clermont-Mignault":MAILTO:marie.clermont-mignault@umontreal.ca
GEO:45.4991188;-73.6180281
X-APPLE-STRUCTURED-LOCATION;VALUE=URI;X-ADDRESS=Universite de Montreal Carrefour des arts et des sciences Pavillon Lionel-Groulx Room C-1017-02 3150 rue Jean Brillant Montreal QC H3T 1N8 Canada;X-APPLE-RADIUS=500;X-TITLE=3150\, rue Jean Brillant:geo:-73.6180281,45.4991188
END:VEVENT
BEGIN:VEVENT
DTSTART;TZID=America/Chicago:20220321T190000
DTEND;TZID=America/Chicago:20220321T190000
DTSTAMP:20260423T113623
CREATED:20210818T164303Z
LAST-MODIFIED:20220228T205319Z
UID:10005772-1647889200-1647889200@www.archaeological.org
SUMMARY:Plaster Cast Collections and the 21st Century University
DESCRIPTION:Von Blanckenhagen Lecture
URL:https://www.archaeological.org/event/valparaiso-lecture-tba/
LOCATION:WEBINAR (Valparaiso 3)\, Valparaiso\, IN
CATEGORIES:AIA Lecture Program,Lecture
ORGANIZER;CN="Amanda Brobst-Renaud":MAILTO:amanda.brobstrenaud@valpo.edu
GEO:41.4730948;-87.0611412
END:VEVENT
END:VCALENDAR