BEGIN:VCALENDAR
VERSION:2.0
PRODID:-//Archaeological Institute of America - ECPv6.15.20//NONSGML v1.0//EN
CALSCALE:GREGORIAN
METHOD:PUBLISH
X-WR-CALNAME:Archaeological Institute of America
X-ORIGINAL-URL:https://www.archaeological.org
X-WR-CALDESC:Events for Archaeological Institute of America
REFRESH-INTERVAL;VALUE=DURATION:PT1H
X-Robots-Tag:noindex
X-PUBLISHED-TTL:PT1H
BEGIN:VTIMEZONE
TZID:America/New_York
BEGIN:DAYLIGHT
TZOFFSETFROM:-0500
TZOFFSETTO:-0400
TZNAME:EDT
DTSTART:20210314T070000
END:DAYLIGHT
BEGIN:STANDARD
TZOFFSETFROM:-0400
TZOFFSETTO:-0500
TZNAME:EST
DTSTART:20211107T060000
END:STANDARD
BEGIN:DAYLIGHT
TZOFFSETFROM:-0500
TZOFFSETTO:-0400
TZNAME:EDT
DTSTART:20220313T070000
END:DAYLIGHT
BEGIN:STANDARD
TZOFFSETFROM:-0400
TZOFFSETTO:-0500
TZNAME:EST
DTSTART:20221106T060000
END:STANDARD
BEGIN:DAYLIGHT
TZOFFSETFROM:-0500
TZOFFSETTO:-0400
TZNAME:EDT
DTSTART:20230312T070000
END:DAYLIGHT
BEGIN:STANDARD
TZOFFSETFROM:-0400
TZOFFSETTO:-0500
TZNAME:EST
DTSTART:20231105T060000
END:STANDARD
END:VTIMEZONE
BEGIN:VEVENT
DTSTART;TZID=America/New_York:20220326T130000
DTEND;TZID=America/New_York:20220326T150000
DTSTAMP:20260423T113654
CREATED:20220131T135246Z
LAST-MODIFIED:20220131T135246Z
UID:10006275-1648299600-1648306800@www.archaeological.org
SUMMARY:Kathleen M. Lynch\, PhD\, University of Cincinnati: Wine and Truth: The Ancient Greek Symposium
DESCRIPTION:Biography: \nKathleen is a Classical Archaeologist who has worked on sites in Italy\, Greece\, Albania\, and Turkey. In particular\, she is a ceramic specialist interested in Athenian figured wares from archaeological contexts. Her research currently spans a number of ceramic related topics from issues of Attic chronology to iconography to symposia to the Greek household. In addition\, her research considers the role trade played in shaping Attic potters’ and painters’ outputs. In general\, the goal of Kathleen’s research is to place material culture back into its context of use in order to understand better the people who used the objects. She is currently publishing ceramic material from Gordion and the excavations of the Athenian Agora. \nKathleen’s book\, The Symposium in Context\, ASCSA Publications\, won the 2013 AIA Wiseman Award for best book in archaeology. She won the 2014 UC Dolly A.B. Cohen Award for excellence in teaching\, and the Provost’s Award for faculty excellence in 2016. \nAt UC she teaches Classical Mythology and courses on Greek and Roman archaeology. \nWhen she isn’t poring over pottery\, she enjoys knitting and gardening. \nAbstract: \nThe ancient Greeks developed an elaborate system of preparing and serving wine\, enjoyed by small groups of men in a practice called the symposium. This form of wine drinking required specialized pottery shapes\, and these shapes frequently bear self-referential sympotic or cultural imagery. As the wine warmed the drinkers\, they formed bonds that carried over into their daily lives including providing political allies\, a particularly useful thing in the early years of Athenian democracy. This talk will explore the immensely important social role of Greek wine drinking as well as the surprisingly underwhelming role of food in Archaic and Classical Athens (600-400 B.C.). We’ll examine the cupboards of an ancient house to understand the importance of the symposium to real Athenians. Feel free to enjoy a glass of wine during the lecture!
URL:https://www.archaeological.org/event/kathleen-m-lynch-phd-university-of-cincinnati-wine-and-truth-the-ancient-greek-symposium/
LOCATION:MA
CATEGORIES:Lecture
ATTACH;FMTTYPE=image/png:https://www.archaeological.org/wp-content/uploads/2022/01/Lynch-2022-8.5-×-11-in.png
ORGANIZER;CN="Aaron Theis":MAILTO:info@aiadenver.org
END:VEVENT
END:VCALENDAR