BEGIN:VCALENDAR
VERSION:2.0
PRODID:-//Archaeological Institute of America - ECPv6.15.20//NONSGML v1.0//EN
CALSCALE:GREGORIAN
METHOD:PUBLISH
X-WR-CALNAME:Archaeological Institute of America
X-ORIGINAL-URL:https://www.archaeological.org
X-WR-CALDESC:Events for Archaeological Institute of America
REFRESH-INTERVAL;VALUE=DURATION:PT1H
X-Robots-Tag:noindex
X-PUBLISHED-TTL:PT1H
BEGIN:VTIMEZONE
TZID:America/New_York
BEGIN:DAYLIGHT
TZOFFSETFROM:-0500
TZOFFSETTO:-0400
TZNAME:EDT
DTSTART:20210314T070000
END:DAYLIGHT
BEGIN:STANDARD
TZOFFSETFROM:-0400
TZOFFSETTO:-0500
TZNAME:EST
DTSTART:20211107T060000
END:STANDARD
BEGIN:DAYLIGHT
TZOFFSETFROM:-0500
TZOFFSETTO:-0400
TZNAME:EDT
DTSTART:20220313T070000
END:DAYLIGHT
BEGIN:STANDARD
TZOFFSETFROM:-0400
TZOFFSETTO:-0500
TZNAME:EST
DTSTART:20221106T060000
END:STANDARD
BEGIN:DAYLIGHT
TZOFFSETFROM:-0500
TZOFFSETTO:-0400
TZNAME:EDT
DTSTART:20230312T070000
END:DAYLIGHT
BEGIN:STANDARD
TZOFFSETFROM:-0400
TZOFFSETTO:-0500
TZNAME:EST
DTSTART:20231105T060000
END:STANDARD
END:VTIMEZONE
BEGIN:VTIMEZONE
TZID:America/Phoenix
BEGIN:STANDARD
TZOFFSETFROM:-0700
TZOFFSETTO:-0700
TZNAME:MST
DTSTART:20210101T000000
END:STANDARD
END:VTIMEZONE
BEGIN:VEVENT
DTSTART;TZID=America/New_York:20220331T163000
DTEND;TZID=America/New_York:20220331T163000
DTSTAMP:20260423T050529
CREATED:20210818T164212Z
LAST-MODIFIED:20210823T213614Z
UID:10005858-1648744200-1648744200@www.archaeological.org
SUMMARY:The Art of Wine Flinging: Kylix and Kottabos at the Greek Symposium
DESCRIPTION:Boegehold Lecture
URL:https://www.archaeological.org/event/the-art-of-wine-flinging-kylix-and-kottabos-at-the-greek-symposium-4/
LOCATION:University of Pittsburgh\, Room TBA\, 4200 Fifth Avenue\, Pittsburgh\, PA\, 15260\, United States
CATEGORIES:AIA Lecture Program,Lecture
ORGANIZER;CN="John Newell":MAILTO:JFN2@pitt.edu
GEO:40.44439;-79.9534133
X-APPLE-STRUCTURED-LOCATION;VALUE=URI;X-ADDRESS=University of Pittsburgh Room TBA 4200 Fifth Avenue Pittsburgh PA 15260 United States;X-APPLE-RADIUS=500;X-TITLE=4200 Fifth Avenue:geo:-79.9534133,40.44439
END:VEVENT
BEGIN:VEVENT
DTSTART;TZID=America/New_York:20220331T180000
DTEND;TZID=America/New_York:20220331T190000
DTSTAMP:20260423T050529
CREATED:20220302T153843Z
LAST-MODIFIED:20220302T153843Z
UID:10006333-1648749600-1648753200@www.archaeological.org
SUMMARY:Exploring Egypt’s Middle Kingdom at the Site of Ancient Thebes (Virtual Lecture)
DESCRIPTION:Antonio J. Morales\, Assistant Professor of Egyptology\, University of Alcalá; Real Colegio Complutense Visiting Fellow 2022\, Harvard University; Director\, The Middle Kingdom Theban Project \nOne of ancient Egypt’s high points of cultural\, intellectual\, and social life was the period referred to as the Middle Kingdom (2030–1650 BCE). The ancient city of Thebes (modern Luxor) was the Egyptian capital during the early stage of this period and the site of multiple funerary temples and tombs. In this lecture\, Egyptologist Antonio Morales will discuss an international and multidisciplinary project that is conducting archaeological\, historical\, and cultural research\, as well as conservation work\, in Deir el-Bahari and Asasif—two funerary areas at Thebes—to better understand the city’s role in the development of Egypt’s classical age. \nPresented by Harvard Museum of the Ancient Near East and Harvard Museums of Science & Culture
URL:https://www.archaeological.org/event/exploring-egypts-middle-kingdom-at-the-site-of-ancient-thebes-virtual-lecture/
LOCATION:MA
CATEGORIES:Lecture
ATTACH;FMTTYPE=image/jpeg:https://www.archaeological.org/wp-content/uploads/2022/03/morales-Photo_2_600x400.jpg
ORGANIZER;CN="Harvard Museums of Science &amp%3Bamp%3B Culture":MAILTO:hmscpr@hmsc.harvard.edu
END:VEVENT
BEGIN:VEVENT
DTSTART;TZID=America/Phoenix:20220331T180000
DTEND;TZID=America/Phoenix:20220331T193000
DTSTAMP:20260423T050529
CREATED:20220302T153759Z
LAST-MODIFIED:20220302T153759Z
UID:10006331-1648749600-1648755000@www.archaeological.org
SUMMARY:Antiochia ad Cragnum in Rough Cilicia: Pirates\, Romans\, and More Pirates
DESCRIPTION:Dr. Michael Hoff\nProfessor of Art History\nUniversity of Nebraska-Lincoln \nThe Roman-era city of Antiochia ad Cragum lies on the south coast of Turkey in the region of ancient Rough Cilicia. Prior to the city’s foundation the site served as one of the major bases of the infamous Cilician Pirates who preyed on shipping along the coastal waterways of the Mediterranean in the late Hellenistic period. Following the resolution of the pirate threat in the first century BCE\, the city was founded and eponymously named by Antiochus IV of Commagene. Since 2005 the city has been undergoing excavation which during the last 16 years has brought to light much of the urban fabric of a Roman city: Temples\, Baths\, Aqueducts\, Colonnades. This lecture presents the highlights of the discoveries made over the years\, particularly the many well-preserved mosaics. \nFor questions about the event or registration\, please email the program coordinator\, Casey Gipson\, at casey.gipson@asu.edu.
URL:https://www.archaeological.org/event/antiochia-ad-cragnum-in-rough-cilicia-pirates-romans-and-more-pirates/
LOCATION:MA
CATEGORIES:Lecture
ATTACH;FMTTYPE=image/jpeg:https://www.archaeological.org/wp-content/uploads/2022/02/Urban-Center-of-Antiochia-ad-Cragum.-Great-Bath-right-Covered-Court-left.jpg
ORGANIZER;CN="Casey Gipson":MAILTO:casey.gipson@asu.edu
END:VEVENT
BEGIN:VEVENT
DTSTART;TZID=America/New_York:20220331T190000
DTEND;TZID=America/New_York:20220331T190000
DTSTAMP:20260423T050529
CREATED:20210818T164032Z
LAST-MODIFIED:20220303T205610Z
UID:10005721-1648753200-1648753200@www.archaeological.org
SUMMARY:Ramesside Royal Women’s Tombs\, the Book of the Dead\, and the Deir el-Medina Iconographic Tradition
DESCRIPTION:
URL:https://www.archaeological.org/event/ramesside-royal-womens-tombs-the-book-of-the-dead-and-the-deir-el-medina-iconographic-tradition/
LOCATION:MA
CATEGORIES:AIA Lecture Program,Lecture
ORGANIZER;CN="John Black":MAILTO:JBLACK2@emory.edu
END:VEVENT
END:VCALENDAR