BEGIN:VCALENDAR
VERSION:2.0
PRODID:-//Archaeological Institute of America - ECPv6.15.20//NONSGML v1.0//EN
CALSCALE:GREGORIAN
METHOD:PUBLISH
X-ORIGINAL-URL:https://www.archaeological.org
X-WR-CALDESC:Events for Archaeological Institute of America
REFRESH-INTERVAL;VALUE=DURATION:PT1H
X-Robots-Tag:noindex
X-PUBLISHED-TTL:PT1H
BEGIN:VTIMEZONE
TZID:America/New_York
BEGIN:DAYLIGHT
TZOFFSETFROM:-0500
TZOFFSETTO:-0400
TZNAME:EDT
DTSTART:20210314T070000
END:DAYLIGHT
BEGIN:STANDARD
TZOFFSETFROM:-0400
TZOFFSETTO:-0500
TZNAME:EST
DTSTART:20211107T060000
END:STANDARD
BEGIN:DAYLIGHT
TZOFFSETFROM:-0500
TZOFFSETTO:-0400
TZNAME:EDT
DTSTART:20220313T070000
END:DAYLIGHT
BEGIN:STANDARD
TZOFFSETFROM:-0400
TZOFFSETTO:-0500
TZNAME:EST
DTSTART:20221106T060000
END:STANDARD
BEGIN:DAYLIGHT
TZOFFSETFROM:-0500
TZOFFSETTO:-0400
TZNAME:EDT
DTSTART:20230312T070000
END:DAYLIGHT
BEGIN:STANDARD
TZOFFSETFROM:-0400
TZOFFSETTO:-0500
TZNAME:EST
DTSTART:20231105T060000
END:STANDARD
END:VTIMEZONE
BEGIN:VTIMEZONE
TZID:America/Los_Angeles
BEGIN:DAYLIGHT
TZOFFSETFROM:-0800
TZOFFSETTO:-0700
TZNAME:PDT
DTSTART:20210314T100000
END:DAYLIGHT
BEGIN:STANDARD
TZOFFSETFROM:-0700
TZOFFSETTO:-0800
TZNAME:PST
DTSTART:20211107T090000
END:STANDARD
BEGIN:DAYLIGHT
TZOFFSETFROM:-0800
TZOFFSETTO:-0700
TZNAME:PDT
DTSTART:20220313T100000
END:DAYLIGHT
BEGIN:STANDARD
TZOFFSETFROM:-0700
TZOFFSETTO:-0800
TZNAME:PST
DTSTART:20221106T090000
END:STANDARD
BEGIN:DAYLIGHT
TZOFFSETFROM:-0800
TZOFFSETTO:-0700
TZNAME:PDT
DTSTART:20230312T100000
END:DAYLIGHT
BEGIN:STANDARD
TZOFFSETFROM:-0700
TZOFFSETTO:-0800
TZNAME:PST
DTSTART:20231105T090000
END:STANDARD
END:VTIMEZONE
BEGIN:VTIMEZONE
TZID:America/Denver
BEGIN:DAYLIGHT
TZOFFSETFROM:-0700
TZOFFSETTO:-0600
TZNAME:MDT
DTSTART:20210314T090000
END:DAYLIGHT
BEGIN:STANDARD
TZOFFSETFROM:-0600
TZOFFSETTO:-0700
TZNAME:MST
DTSTART:20211107T080000
END:STANDARD
BEGIN:DAYLIGHT
TZOFFSETFROM:-0700
TZOFFSETTO:-0600
TZNAME:MDT
DTSTART:20220313T090000
END:DAYLIGHT
BEGIN:STANDARD
TZOFFSETFROM:-0600
TZOFFSETTO:-0700
TZNAME:MST
DTSTART:20221106T080000
END:STANDARD
BEGIN:DAYLIGHT
TZOFFSETFROM:-0700
TZOFFSETTO:-0600
TZNAME:MDT
DTSTART:20230312T090000
END:DAYLIGHT
BEGIN:STANDARD
TZOFFSETFROM:-0600
TZOFFSETTO:-0700
TZNAME:MST
DTSTART:20231105T080000
END:STANDARD
END:VTIMEZONE
BEGIN:VEVENT
DTSTART;TZID=America/New_York:20220414T170000
DTEND;TZID=America/New_York:20220414T170000
DTSTAMP:20260423T050522
CREATED:20210818T164102Z
LAST-MODIFIED:20210825T144643Z
UID:10005743-1649955600-1649955600@www.archaeological.org
SUMMARY:Keepers of Time: Ancient Egyptian Sundials and Water Clocks
DESCRIPTION:Webster Lecture
URL:https://www.archaeological.org/event/keepers-of-time-ancient-egyptian-sundials-and-water-clocks/
LOCATION:Andrews Hall\, Room 101\, College of William & Mary\, 605 Jamestown Road\, Williamsburg\, VA\, 23187\, United States
CATEGORIES:AIA Lecture Program,Lecture
ORGANIZER;CN="Jessica Paga":MAILTO:jpaga@wm.edu
GEO:37.2688008;-76.7168544
X-APPLE-STRUCTURED-LOCATION;VALUE=URI;X-ADDRESS=Andrews Hall Room 101 College of William & Mary 605 Jamestown Road Williamsburg VA 23187 United States;X-APPLE-RADIUS=500;X-TITLE=605 Jamestown Road:geo:-76.7168544,37.2688008
END:VEVENT
BEGIN:VEVENT
DTSTART;TZID=America/Los_Angeles:20220414T180000
DTEND;TZID=America/Los_Angeles:20220414T180000
DTSTAMP:20260423T050522
CREATED:20210818T164115Z
LAST-MODIFIED:20210825T163829Z
UID:10005764-1649959200-1649959200@www.archaeological.org
SUMMARY:Bird/Egg\, Pen/Hand\, Torch/Deer? Pairs of Ordinary Objects on Roman Coins
DESCRIPTION:Metcalf Lecture
URL:https://www.archaeological.org/event/bird-egg-pen-hand-torch-deer-pairs-of-ordinary-objects-on-roman-coins/
LOCATION:TBA (Eugene)\, Eugene\, OR
CATEGORIES:AIA Lecture Program,Lecture
ORGANIZER;CN="Ted Booth":MAILTO:tbooth@pacinfo.com
GEO:44.0520691;-123.0867536
END:VEVENT
BEGIN:VEVENT
DTSTART;TZID=America/New_York:20220414T180000
DTEND;TZID=America/New_York:20220414T180000
DTSTAMP:20260423T050522
CREATED:20210818T164138Z
LAST-MODIFIED:20220407T131401Z
UID:10005810-1649959200-1649959200@www.archaeological.org
SUMMARY:Coastal Heritage and Climate Change—A Monumental Challenge to Preserve the Past in the 21st Century
DESCRIPTION:
URL:https://www.archaeological.org/event/coastal-heritage-and-climate-change-a-monumental-challenge-to-preserve-the-past-in-the-21st-century/
LOCATION:MA
CATEGORIES:AIA Lecture Program,Lecture
ORGANIZER;CN="Elizabeth Baughan":MAILTO:ebaughan@richmond.edu
END:VEVENT
BEGIN:VEVENT
DTSTART;TZID=America/Denver:20220414T190000
DTEND;TZID=America/Denver:20220414T190000
DTSTAMP:20260423T050522
CREATED:20210818T164201Z
LAST-MODIFIED:20220223T203421Z
UID:10005843-1649962800-1649962800@www.archaeological.org
SUMMARY:Street Theater: A Pompeian Neighborhood in Five Acts
DESCRIPTION:Russell Lecture
URL:https://www.archaeological.org/event/street-theater-a-pompeian-neighborhood-in-five-acts-2/
LOCATION:CU Boulder ECCR 265\, 2055 Regent Dr\, Boulder\, 80305
CATEGORIES:AIA Lecture Program,Lecture
GEO:40.0044121;-105.2670148
X-APPLE-STRUCTURED-LOCATION;VALUE=URI;X-ADDRESS=CU Boulder ECCR 265 2055 Regent Dr Boulder 80305;X-APPLE-RADIUS=500;X-TITLE=2055 Regent Dr:geo:-105.2670148,40.0044121
END:VEVENT
BEGIN:VEVENT
DTSTART;TZID=America/Los_Angeles:20220414T190000
DTEND;TZID=America/Los_Angeles:20220414T190000
DTSTAMP:20260423T050522
CREATED:20210818T164216Z
LAST-MODIFIED:20220401T150538Z
UID:10005866-1649962800-1649962800@www.archaeological.org
SUMMARY:Ruined Gardens of Babylon: Dark Ecology and Heritage Politics in the Middle East
DESCRIPTION:Kershaw Lecture
URL:https://www.archaeological.org/event/ruined-gardens-of-babylon-dark-ecology-and-heritage-politics-in-the-middle-east-4/
LOCATION:MA
CATEGORIES:AIA Lecture Program,Lecture
ORGANIZER;CN="Sarah H. Davies":MAILTO:daviessh@whitman.edu
END:VEVENT
BEGIN:VEVENT
DTSTART;TZID=America/Denver:20220414T190000
DTEND;TZID=America/Denver:20220414T203000
DTSTAMP:20260423T050522
CREATED:20220415T131536Z
LAST-MODIFIED:20220415T131536Z
UID:10006363-1649962800-1649968200@www.archaeological.org
SUMMARY:Street Theater: A Pompeian Neighborhood in Five Acts by Dr.  Jeremy Hartnett
DESCRIPTION:When we think of Roman cities\, it is tempting to conjure images of temples\, baths\, and amphitheaters. This talk storms into the narrow streets of Pompeii to make the case that\, for most Romans\, the real action happened on the neighborhood level. As told through five different stories\, we will see how ancient historians repopulate “empty” ancient spaces with a raucous cast of upper-class politicians\, slaves\, hucksters\, donkeys\, and so many more – all trying to scratch out a living\, make their mark\, and upstage competitors in the street.
URL:https://www.archaeological.org/event/street-theater-a-pompeian-neighborhood-in-five-acts-by-dr-jeremy-hartnett/
LOCATION:MA
CATEGORIES:Lecture
END:VEVENT
BEGIN:VEVENT
DTSTART;TZID=America/New_York:20220414T193000
DTEND;TZID=America/New_York:20220414T193000
DTSTAMP:20260423T050522
CREATED:20210818T164047Z
LAST-MODIFIED:20220401T141218Z
UID:10005729-1649964600-1649964600@www.archaeological.org
SUMMARY:Bronze Age Monkeys and the Case for Cross-Disciplinary Collaboration
DESCRIPTION:Eisenpreis Lecture
URL:https://www.archaeological.org/event/bronze-age-monkeys-and-the-case-for-cross-disciplinary-collaboration/
LOCATION:Memorial Art Gallery\, 500 University Avenue\, Rochester\, NY\, 14607\, United States
CATEGORIES:AIA Lecture Program,Lecture
GEO:43.1576927;-77.5881795
X-APPLE-STRUCTURED-LOCATION;VALUE=URI;X-ADDRESS=Memorial Art Gallery 500 University Avenue Rochester NY 14607 United States;X-APPLE-RADIUS=500;X-TITLE=500 University Avenue:geo:-77.5881795,43.1576927
END:VEVENT
END:VCALENDAR