BEGIN:VCALENDAR
VERSION:2.0
PRODID:-//Archaeological Institute of America - ECPv6.15.20//NONSGML v1.0//EN
CALSCALE:GREGORIAN
METHOD:PUBLISH
X-WR-CALNAME:Archaeological Institute of America
X-ORIGINAL-URL:https://www.archaeological.org
X-WR-CALDESC:Events for Archaeological Institute of America
REFRESH-INTERVAL;VALUE=DURATION:PT1H
X-Robots-Tag:noindex
X-PUBLISHED-TTL:PT1H
BEGIN:VTIMEZONE
TZID:America/New_York
BEGIN:DAYLIGHT
TZOFFSETFROM:-0500
TZOFFSETTO:-0400
TZNAME:EDT
DTSTART:20210314T070000
END:DAYLIGHT
BEGIN:STANDARD
TZOFFSETFROM:-0400
TZOFFSETTO:-0500
TZNAME:EST
DTSTART:20211107T060000
END:STANDARD
BEGIN:DAYLIGHT
TZOFFSETFROM:-0500
TZOFFSETTO:-0400
TZNAME:EDT
DTSTART:20220313T070000
END:DAYLIGHT
BEGIN:STANDARD
TZOFFSETFROM:-0400
TZOFFSETTO:-0500
TZNAME:EST
DTSTART:20221106T060000
END:STANDARD
BEGIN:DAYLIGHT
TZOFFSETFROM:-0500
TZOFFSETTO:-0400
TZNAME:EDT
DTSTART:20230312T070000
END:DAYLIGHT
BEGIN:STANDARD
TZOFFSETFROM:-0400
TZOFFSETTO:-0500
TZNAME:EST
DTSTART:20231105T060000
END:STANDARD
END:VTIMEZONE
BEGIN:VEVENT
DTSTART;TZID=America/New_York:20220416T140000
DTEND;TZID=America/New_York:20220416T150000
DTSTAMP:20260423T050530
CREATED:20220328T135305Z
LAST-MODIFIED:20220328T135305Z
UID:10005938-1650117600-1650121200@www.archaeological.org
SUMMARY:The Wakefield Rail Yard - NH Archeology Month
DESCRIPTION:Victoria Bunker\, Principal Archeologist\, Victoria Bunker Inc\, Recipient of the NHAS Chester Price Award 2022\nArcheological survey conducted for the Wakefield Heritage Commission resulted in the definition of the Turntable Park Archeological Site\, an important cultural resource within the Sanbornville Historic Area. Features and components corresponding to the nineteenth-twentieth century rail yard were recorded through historic research\, field documentation and ground penetrating radar; with some surprises. REGISTER: bit.ly/22signupNHAS
URL:https://www.archaeological.org/event/the-wakefield-rail-yard-nh-archeology-month/
LOCATION:MA
CATEGORIES:Lecture
ORGANIZER;CN="NHAS WebMaster":MAILTO:webmaster@nhas.org
END:VEVENT
END:VCALENDAR