BEGIN:VCALENDAR
VERSION:2.0
PRODID:-//Archaeological Institute of America - ECPv6.15.20//NONSGML v1.0//EN
CALSCALE:GREGORIAN
METHOD:PUBLISH
X-ORIGINAL-URL:https://www.archaeological.org
X-WR-CALDESC:Events for Archaeological Institute of America
REFRESH-INTERVAL;VALUE=DURATION:PT1H
X-Robots-Tag:noindex
X-PUBLISHED-TTL:PT1H
BEGIN:VTIMEZONE
TZID:America/Chicago
BEGIN:DAYLIGHT
TZOFFSETFROM:-0600
TZOFFSETTO:-0500
TZNAME:CDT
DTSTART:20210314T080000
END:DAYLIGHT
BEGIN:STANDARD
TZOFFSETFROM:-0500
TZOFFSETTO:-0600
TZNAME:CST
DTSTART:20211107T070000
END:STANDARD
BEGIN:DAYLIGHT
TZOFFSETFROM:-0600
TZOFFSETTO:-0500
TZNAME:CDT
DTSTART:20220313T080000
END:DAYLIGHT
BEGIN:STANDARD
TZOFFSETFROM:-0500
TZOFFSETTO:-0600
TZNAME:CST
DTSTART:20221106T070000
END:STANDARD
BEGIN:DAYLIGHT
TZOFFSETFROM:-0600
TZOFFSETTO:-0500
TZNAME:CDT
DTSTART:20230312T080000
END:DAYLIGHT
BEGIN:STANDARD
TZOFFSETFROM:-0500
TZOFFSETTO:-0600
TZNAME:CST
DTSTART:20231105T070000
END:STANDARD
END:VTIMEZONE
BEGIN:VEVENT
DTSTART;TZID=America/Chicago:20220605T150000
DTEND;TZID=America/Chicago:20220605T163000
DTSTAMP:20260423T131308
CREATED:20220429T123520Z
LAST-MODIFIED:20220429T123520Z
UID:10006373-1654441200-1654446600@www.archaeological.org
SUMMARY:Irving Finkel Returns!  Voices Out of the Darkness
DESCRIPTION:Dr. Irving Finkel returns to Zoom for a talk hosted by Archaeology Now about the “people between the rivers” — the Tigris and the Euphrates Rivers\, that is. Were the people of ancient Mesopotamia so very different from us? Did they enjoy a good dinner\, rejoice in love\, fling curses at a faithless spouse\, and quake in fear at the wrath of gods? We are fortunate because we have their most intimate thoughts\, inscribed in clay thousands of years ago\, still accessible to us. Dr. Finkel\, a renowned expert\, unlocks their writing in cuneiform\, opening a dramatic window into the ancient Mesopotamian world\, revealing lives that are every bit as complex and human as are our own lives today.
URL:https://www.archaeological.org/event/irving-finkel-returns-voices-out-of-the-darkness/
LOCATION:MA
CATEGORIES:Lecture
ATTACH;FMTTYPE=image/jpeg:https://www.archaeological.org/wp-content/uploads/2022/04/Slide1.jpg
END:VEVENT
END:VCALENDAR