BEGIN:VCALENDAR
VERSION:2.0
PRODID:-//Archaeological Institute of America - ECPv6.15.20//NONSGML v1.0//EN
CALSCALE:GREGORIAN
METHOD:PUBLISH
X-ORIGINAL-URL:https://www.archaeological.org
X-WR-CALDESC:Events for Archaeological Institute of America
REFRESH-INTERVAL;VALUE=DURATION:PT1H
X-Robots-Tag:noindex
X-PUBLISHED-TTL:PT1H
BEGIN:VTIMEZONE
TZID:America/New_York
BEGIN:DAYLIGHT
TZOFFSETFROM:-0500
TZOFFSETTO:-0400
TZNAME:EDT
DTSTART:20210314T070000
END:DAYLIGHT
BEGIN:STANDARD
TZOFFSETFROM:-0400
TZOFFSETTO:-0500
TZNAME:EST
DTSTART:20211107T060000
END:STANDARD
BEGIN:DAYLIGHT
TZOFFSETFROM:-0500
TZOFFSETTO:-0400
TZNAME:EDT
DTSTART:20220313T070000
END:DAYLIGHT
BEGIN:STANDARD
TZOFFSETFROM:-0400
TZOFFSETTO:-0500
TZNAME:EST
DTSTART:20221106T060000
END:STANDARD
BEGIN:DAYLIGHT
TZOFFSETFROM:-0500
TZOFFSETTO:-0400
TZNAME:EDT
DTSTART:20230312T070000
END:DAYLIGHT
BEGIN:STANDARD
TZOFFSETFROM:-0400
TZOFFSETTO:-0500
TZNAME:EST
DTSTART:20231105T060000
END:STANDARD
END:VTIMEZONE
BEGIN:VEVENT
DTSTART;TZID=America/New_York:20220627T180000
DTEND;TZID=America/New_York:20220627T180000
DTSTAMP:20260423T082503
CREATED:20220525T151855Z
LAST-MODIFIED:20220525T151855Z
UID:10005959-1656352800-1656352800@www.archaeological.org
SUMMARY:ARCE Tut Tour Boston
DESCRIPTION:The American Research Center in Egypt\, in collaboration with ARCE-NE\, is pleased to present a special evening with Dr. Marc Gabolde in celebration of the 100th Anniversary of the discovery of the tomb of King Tutankhamun. A light reception will take place after the lecture. Registration is required: https://www.arce.org/tut-chapter-tour
URL:https://www.archaeological.org/event/arce-tut-tour-boston/
LOCATION:Convene at One Boston Place\, 201 Washington St. 2nd Floor\, Boston\, MA\, 02108\, United States
CATEGORIES:Lecture
GEO:42.3585846;-71.058315
X-APPLE-STRUCTURED-LOCATION;VALUE=URI;X-ADDRESS=Convene at One Boston Place 201 Washington St. 2nd Floor Boston MA 02108 United States;X-APPLE-RADIUS=500;X-TITLE=201 Washington St. 2nd Floor:geo:-71.058315,42.3585846
END:VEVENT
END:VCALENDAR