BEGIN:VCALENDAR
VERSION:2.0
PRODID:-//Archaeological Institute of America - ECPv6.15.20//NONSGML v1.0//EN
CALSCALE:GREGORIAN
METHOD:PUBLISH
X-WR-CALNAME:Archaeological Institute of America
X-ORIGINAL-URL:https://www.archaeological.org
X-WR-CALDESC:Events for Archaeological Institute of America
REFRESH-INTERVAL;VALUE=DURATION:PT1H
X-Robots-Tag:noindex
X-PUBLISHED-TTL:PT1H
BEGIN:VTIMEZONE
TZID:America/New_York
BEGIN:DAYLIGHT
TZOFFSETFROM:-0500
TZOFFSETTO:-0400
TZNAME:EDT
DTSTART:20210314T070000
END:DAYLIGHT
BEGIN:STANDARD
TZOFFSETFROM:-0400
TZOFFSETTO:-0500
TZNAME:EST
DTSTART:20211107T060000
END:STANDARD
BEGIN:DAYLIGHT
TZOFFSETFROM:-0500
TZOFFSETTO:-0400
TZNAME:EDT
DTSTART:20220313T070000
END:DAYLIGHT
BEGIN:STANDARD
TZOFFSETFROM:-0400
TZOFFSETTO:-0500
TZNAME:EST
DTSTART:20221106T060000
END:STANDARD
BEGIN:DAYLIGHT
TZOFFSETFROM:-0500
TZOFFSETTO:-0400
TZNAME:EDT
DTSTART:20230312T070000
END:DAYLIGHT
BEGIN:STANDARD
TZOFFSETFROM:-0400
TZOFFSETTO:-0500
TZNAME:EST
DTSTART:20231105T060000
END:STANDARD
END:VTIMEZONE
BEGIN:VTIMEZONE
TZID:America/Vancouver
BEGIN:DAYLIGHT
TZOFFSETFROM:-0800
TZOFFSETTO:-0700
TZNAME:PDT
DTSTART:20210314T100000
END:DAYLIGHT
BEGIN:STANDARD
TZOFFSETFROM:-0700
TZOFFSETTO:-0800
TZNAME:PST
DTSTART:20211107T090000
END:STANDARD
BEGIN:DAYLIGHT
TZOFFSETFROM:-0800
TZOFFSETTO:-0700
TZNAME:PDT
DTSTART:20220313T100000
END:DAYLIGHT
BEGIN:STANDARD
TZOFFSETFROM:-0700
TZOFFSETTO:-0800
TZNAME:PST
DTSTART:20221106T090000
END:STANDARD
BEGIN:DAYLIGHT
TZOFFSETFROM:-0800
TZOFFSETTO:-0700
TZNAME:PDT
DTSTART:20230312T100000
END:DAYLIGHT
BEGIN:STANDARD
TZOFFSETFROM:-0700
TZOFFSETTO:-0800
TZNAME:PST
DTSTART:20231105T090000
END:STANDARD
END:VTIMEZONE
BEGIN:VTIMEZONE
TZID:Europe/London
BEGIN:DAYLIGHT
TZOFFSETFROM:+0000
TZOFFSETTO:+0100
TZNAME:BST
DTSTART:20210328T010000
END:DAYLIGHT
BEGIN:STANDARD
TZOFFSETFROM:+0100
TZOFFSETTO:+0000
TZNAME:GMT
DTSTART:20211031T010000
END:STANDARD
BEGIN:DAYLIGHT
TZOFFSETFROM:+0000
TZOFFSETTO:+0100
TZNAME:BST
DTSTART:20220327T010000
END:DAYLIGHT
BEGIN:STANDARD
TZOFFSETFROM:+0100
TZOFFSETTO:+0000
TZNAME:GMT
DTSTART:20221030T010000
END:STANDARD
BEGIN:DAYLIGHT
TZOFFSETFROM:+0000
TZOFFSETTO:+0100
TZNAME:BST
DTSTART:20230326T010000
END:DAYLIGHT
BEGIN:STANDARD
TZOFFSETFROM:+0100
TZOFFSETTO:+0000
TZNAME:GMT
DTSTART:20231029T010000
END:STANDARD
END:VTIMEZONE
BEGIN:VEVENT
DTSTART;VALUE=DATE:20221015
DTEND;VALUE=DATE:20221016
DTSTAMP:20260421T185048
CREATED:20220907T141347Z
LAST-MODIFIED:20220907T141347Z
UID:10006052-1665792000-1665878399@www.archaeological.org
SUMMARY:Archaeology Day at Auburn Valley State Park
DESCRIPTION:Celebrate International Archaeology Day at Auburn Valley State Park with a day of trail-side encounters with the valley’s past. Join us for a day of explorations\, events\, and attractions. Every October the AIA (Archaeological Institute of America) and archaeological organizations around the world present archaeological programs and activities for people of all ages and interests. Auburn Valley State Park will participate this year with a variety of scheduled and all-day activities along our Yorklyn Bridge Trail. See some of the day’s activities below.\n-Two tours of our historic paper mill on a site with three centuries of industrial history\,\n-A free interpretive/archaeological hike along our trail free program on archaeological artifacts discovered on site\n-A talk given by experts in the field in the beautiful park setting at our pavilion.\n-All day activities at trail side stations for all ages \nAll activities will be along our Yorklyn Bridge Trail. Park in the paper mill parking lot on Benge Road to visit the info table for a map and a list of the day’s activities.\nCheck our facebook page or call our park office\, 302-729-4280\, for the full updated calendar of events for the day.
URL:https://www.archaeological.org/event/archaeology-day-at-auburn-valley-state-park/
LOCATION:Auburn Valley State Park\, 3000 Creek Road\, Yorklyn\, DE\, 19736\, United States
CATEGORIES:Other Event
ATTACH;FMTTYPE=image/jpeg:https://www.archaeological.org/wp-content/uploads/2022/09/pexels-monstera-5302903.jpg
ORGANIZER;CN="Teresa Pierce":MAILTO:Teresa.Pierce@Delaware.gov
GEO:39.8091355;-75.6795813
X-APPLE-STRUCTURED-LOCATION;VALUE=URI;X-ADDRESS=Auburn Valley State Park 3000 Creek Road Yorklyn DE 19736 United States;X-APPLE-RADIUS=500;X-TITLE=3000 Creek Road:geo:-75.6795813,39.8091355
END:VEVENT
BEGIN:VEVENT
DTSTART;TZID=America/New_York:20221015T100000
DTEND;TZID=America/New_York:20221015T150000
DTSTAMP:20260421T185048
CREATED:20220922T130440Z
LAST-MODIFIED:20221004T220937Z
UID:10006070-1665828000-1665846000@www.archaeological.org
SUMMARY:Public Archaeology Day at Newlin Grist Mill
DESCRIPTION:The public is invited to observe and or participate in ongoing archaeological Excavations at the Newlin Grist Mill. An 18th through 20th century Mill complex in Delaware Co. Pennsylvania.
URL:https://www.archaeological.org/event/public-archaeology-day-at-newlin-grist-mill/
LOCATION:Newlin Grist Mill\, 219 S. Cheyney Rd.\, Glen Mills\, PA\, 19342\, United States
CATEGORIES:International Archaeology Day,Other Event
ORGANIZER;CN="Keith Doms":MAILTO:kdoms@newlingristmill.org
GEO:39.890168;-75.505356
X-APPLE-STRUCTURED-LOCATION;VALUE=URI;X-ADDRESS=Newlin Grist Mill 219 S. Cheyney Rd. Glen Mills PA 19342 United States;X-APPLE-RADIUS=500;X-TITLE=219 S. Cheyney Rd.:geo:-75.505356,39.890168
END:VEVENT
BEGIN:VEVENT
DTSTART;TZID=America/New_York:20221015T100000
DTEND;TZID=America/New_York:20221015T150000
DTSTAMP:20260421T185048
CREATED:20220930T150034Z
LAST-MODIFIED:20220930T150034Z
UID:10006704-1665828000-1665846000@www.archaeological.org
SUMMARY:ArcheOlympics
DESCRIPTION:Archeoletes compete in events that test knowledge of the archeological process\, archeology trivia\, and prowess with an atlatl and spear.
URL:https://www.archaeological.org/event/archeolympics/
LOCATION:ARAS WRI Station\, 1 Rockefeller Drive\, Morrilton\, 72110\, United States
CATEGORIES:Other Event
ATTACH;FMTTYPE=image/jpeg:https://www.archaeological.org/wp-content/uploads/2022/09/IMG_3972.jpg
ORGANIZER;CN="Michelle Rathgaber":MAILTO:mmrathga@uark.edu
GEO:35.1375361;-92.9454583
X-APPLE-STRUCTURED-LOCATION;VALUE=URI;X-ADDRESS=ARAS WRI Station 1 Rockefeller Drive Morrilton 72110 United States;X-APPLE-RADIUS=500;X-TITLE=1 Rockefeller Drive:geo:-92.9454583,35.1375361
END:VEVENT
BEGIN:VEVENT
DTSTART;TZID=America/New_York:20221015T110000
DTEND;TZID=America/New_York:20221015T140000
DTSTAMP:20260421T185048
CREATED:20220930T140352Z
LAST-MODIFIED:20220930T140352Z
UID:10006697-1665831600-1665842400@www.archaeological.org
SUMMARY:Presidio of San Francisco International Archaeology Day
DESCRIPTION:Bring your family to the Presidio of San Francisco to learn about the layered history of this special place! Enjoy guided tours of the live archaeology dig site of El Presidio and the Presidio Archaeology Lab.\nActivities include exploring the Presidio Officers’ Club\, learning from archaeologists working in the field\, making adobe bricks\, and other crafts and family fun both indoors and out.
URL:https://www.archaeological.org/event/presidio-of-san-francisco-international-archaeology-day/
LOCATION:Presidio Officers’ Club\, 50 Moraga Ave\, San Francisco\, CA\, 94129\, United States
CATEGORIES:Other Event
ATTACH;FMTTYPE=image/jpeg:https://www.archaeological.org/wp-content/uploads/2022/09/20181020_ArcheologyDay_DJF_083.jpg
ORGANIZER;CN="Edward De Haro":MAILTO:edeharo@presidiotrust.gov
GEO:37.797616;-122.458836
X-APPLE-STRUCTURED-LOCATION;VALUE=URI;X-ADDRESS=Presidio Officers’ Club 50 Moraga Ave San Francisco CA 94129 United States;X-APPLE-RADIUS=500;X-TITLE=50 Moraga Ave:geo:-122.458836,37.797616
END:VEVENT
BEGIN:VEVENT
DTSTART;TZID=America/New_York:20221015T120000
DTEND;TZID=America/New_York:20221015T140000
DTSTAMP:20260421T185048
CREATED:20221012T141224Z
LAST-MODIFIED:20221012T141224Z
UID:10006748-1665835200-1665842400@www.archaeological.org
SUMMARY:International Archaeology Day Research Showcase
DESCRIPTION:Join the Tampa Bay chapter of the AIA to hear about some amazing archaeology projects in a research showcase! Hear from professional archaeologists as well as students and their ongoing projects. Light refreshments will be provided.
URL:https://www.archaeological.org/event/international-archaeology-day-research-showcase/
LOCATION:University of South Florida Tampa Campus CAS Building\, 12010 USF Cherry Dr\, Tampa\, FL 33620\, Tampa\, 33617\, United States
CATEGORIES:Other Event
ATTACH;FMTTYPE=image/png:https://www.archaeological.org/wp-content/uploads/2022/10/IAD2022_flyer.png
ORGANIZER;CN="Madeleine Kraft":MAILTO:mkraft3@usf.edu
GEO:28.0599785;-82.415915
X-APPLE-STRUCTURED-LOCATION;VALUE=URI;X-ADDRESS=University of South Florida Tampa Campus CAS Building 12010 USF Cherry Dr Tampa FL 33620 Tampa 33617 United States;X-APPLE-RADIUS=500;X-TITLE=12010 USF Cherry Dr\, Tampa\, FL 33620:geo:-82.415915,28.0599785
END:VEVENT
BEGIN:VEVENT
DTSTART;TZID=America/New_York:20221015T130000
DTEND;TZID=America/New_York:20221015T160000
DTSTAMP:20260421T185048
CREATED:20220930T140550Z
LAST-MODIFIED:20220930T140550Z
UID:10006699-1665838800-1665849600@www.archaeological.org
SUMMARY:Your City Saturday: Art\, Archaeology\, and Artifacts
DESCRIPTION:Join us on Saturday October 15th for a special event for the whole family! Lowell National Historical Park and the Northeast Archeological Resources Program (NARP) will be hosting a special program full of fun activities and crafts to celebrate International Archaeology Day. This event is intended for all ages. Explore how archaeologists study and understand Lowell’s industrial past through fun and interactive crafts and activities at Boardinghouse Park (40 French Street\, Lowell MA). \nThis is a free event and all are welcome. Drop in any time from 1 p.m. to 4 p.m. for fun for the whole family! \nIn case of rain the event will take place at the Mogan Cultural Center next door at 40 French Street. Signs will be posted directing visitors to the appropriate entrance. \nAbout Your City Saturday Programs: \nCome experience history and fun for the whole family at Lowell National Historical Park! Join your neighborhood park rangers and our friends in the community on Saturday afternoons at various locations in and around downtown Lowell for fun activities to learn all about our city. \nOur popular series of family programs\, Your City Saturday\, will occur on select Saturday afternoons throughout the summer – giving you plenty of opportunities for fun in downtown! Drop-in anytime for hands-on\, mind-on learning and fun.
URL:https://www.archaeological.org/event/your-city-saturday-art-archaeology-and-artifacts/
LOCATION:Boarding House Park\, 40 French Street\, Lowell\, MA\, 01852\, United States
CATEGORIES:Other Event
ATTACH;FMTTYPE=image/jpeg:https://www.archaeological.org/wp-content/uploads/2022/09/national-archaeology-month-2018.jpg
GEO:42.647376;-71.308393
X-APPLE-STRUCTURED-LOCATION;VALUE=URI;X-ADDRESS=Boarding House Park 40 French Street Lowell MA 01852 United States;X-APPLE-RADIUS=500;X-TITLE=40 French Street:geo:-71.308393,42.647376
END:VEVENT
BEGIN:VEVENT
DTSTART;TZID=America/New_York:20221015T130000
DTEND;TZID=America/New_York:20221015T160000
DTSTAMP:20260421T185048
CREATED:20220930T144628Z
LAST-MODIFIED:20220930T144628Z
UID:10006703-1665838800-1665849600@www.archaeological.org
SUMMARY:Your City Saturday: Archaeology\, Art\, and Artifacts
DESCRIPTION:Join us on Saturday October 15th for a special event for the whole family! Lowell National Historical Park and the Northeast Archeological Resources Program (NARP) will be hosting a special program full of fun activities and crafts to celebrate International Archaeology Day. This event is intended for all ages. Explore how archaeologists study and understand Lowell’s industrial past through fun and interactive crafts and activities at Boardinghouse Park (40 French Street\, Lowell MA). \nThis is a free event and all are welcome. Drop in any time from 1 p.m. to 4 p.m. for fun for the whole family! \nIn case of rain the event will take place at the Mogan Cultural Center next door at 40 French Street. Signs will be posted directing visitors to the appropriate entrance. \nAbout Your City Saturday Programs: \nCome experience history and fun for the whole family at Lowell National Historical Park! Join your neighborhood park rangers and our friends in the community on Saturday afternoons at various locations in and around downtown Lowell for fun activities to learn all about our city. \nOur popular series of family programs\, Your City Saturday\, will occur on select Saturday afternoons throughout the summer – giving you plenty of opportunities for fun in downtown! Drop-in anytime for hands-on\, mind-on learning and fun.
URL:https://www.archaeological.org/event/your-city-saturday-archaeology-art-and-artifacts/
LOCATION:Boarding House Park\, 40 French Street\, Lowell\, MA\, 01852\, United States
CATEGORIES:Other Event
ATTACH;FMTTYPE=image/jpeg:https://www.archaeological.org/wp-content/uploads/2022/09/national-archaeology-month-2018-1.jpg
GEO:42.647376;-71.308393
X-APPLE-STRUCTURED-LOCATION;VALUE=URI;X-ADDRESS=Boarding House Park 40 French Street Lowell MA 01852 United States;X-APPLE-RADIUS=500;X-TITLE=40 French Street:geo:-71.308393,42.647376
END:VEVENT
BEGIN:VEVENT
DTSTART;TZID=America/Vancouver:20221015T133000
DTEND;TZID=America/Vancouver:20221015T143000
DTSTAMP:20260421T185048
CREATED:20221014T142429Z
LAST-MODIFIED:20221014T142429Z
UID:10006758-1665840600-1665844200@www.archaeological.org
SUMMARY:Reports from the Field
DESCRIPTION:Celebrate International Archaeology Day on October 15th by hearing tales from students in the trenches this past summer. Graduate and undergraduate students from UBC and SFU who worked in Italy\, Cyprus\, Israel\, and Macedonia this past summer will gather to tell us what life is like “in the field”. For those of you interested in what it’s like to dig\, or who are simply yearning to hear tales from far-flung places\, please join us on Zoom (Register here) to learn what Indiana Jones could never teach you.
URL:https://www.archaeological.org/event/reports-from-the-field-2/
LOCATION:TN
CATEGORIES:International Archaeology Day,Other Event
ATTACH;FMTTYPE=image/jpeg:https://www.archaeological.org/wp-content/uploads/2022/10/IAD-Vancouver-AIA.jpg
ORGANIZER;CN="Megan Daniels":MAILTO:megan.daniels@ubc.ca
END:VEVENT
BEGIN:VEVENT
DTSTART;TZID=America/New_York:20221016T110000
DTEND;TZID=America/New_York:20221016T170000
DTSTAMP:20260421T185048
CREATED:20221017T131136Z
LAST-MODIFIED:20221017T131136Z
UID:10006142-1665918000-1665939600@www.archaeological.org
SUMMARY:Conservation and print pattern field school
DESCRIPTION:Conservation and print pattern field school will be organized in Medieval Agsu city State Historical-Cultural Reserve within Earth Science Week on occasion of International Archaeology Day. Field school will focus on convservation methods and analyses\,\nconservation state and research of archaeological finds\, stoneware and ceramics. The school wіll fеаturе іnfоrmаtіvе ѕеѕѕіоnѕ\, sitе tоurѕ\, аrtіfасt dіѕрlауѕ\, аnd іnfоrmаtіоnаl bооthѕ аnd еріgrарhу ѕеѕѕіоnѕ .It will aim fostering exchanging perspectives and best practices on innovative approaches and solutions to the daily practice of the care and management of the archeological sites.
URL:https://www.archaeological.org/event/conservation-and-print-pattern-field-school/
LOCATION:Medieval Agsu City State Hitorical-Cultural Reserve\, Agsu\, Azerbaijan\, Agsu\, Azerbaijan
CATEGORIES:Other Event
ATTACH;FMTTYPE=image/jpeg:https://www.archaeological.org/wp-content/uploads/2022/10/IMG-20221013-WA0064.jpg
ORGANIZER;CN="Shola Bayramova":MAILTO:Bayramovash83@gmail.com
GEO:40.5742298;48.3896404
X-APPLE-STRUCTURED-LOCATION;VALUE=URI;X-ADDRESS=Medieval Agsu City State Hitorical-Cultural Reserve Agsu Azerbaijan Agsu Azerbaijan;X-APPLE-RADIUS=500;X-TITLE=Agsu\, Azerbaijan:geo:48.3896404,40.5742298
END:VEVENT
BEGIN:VEVENT
DTSTART;TZID=Europe/London:20221021T080000
DTEND;TZID=Europe/London:20221021T170000
DTSTAMP:20260421T185048
CREATED:20220114T135424Z
LAST-MODIFIED:20230830T144957Z
UID:10005886-1666339200-1666371600@www.archaeological.org
SUMMARY:ArchTalk
DESCRIPTION:To celebrate International Archaeology Day\, the Save Cultural Heritage Group has decided to launch the new format ArchTalk to bring together people from various fields and disciplines related to archaeology and cultural heritage\, and to have them share insights in their research as well as their work experience. \nTheme 1: Post-Pandemic Archaeology?\nThis theme will be\, among others\, about different disciplines of #archaeology\, archaeological fieldwork\, methodologies\, and the exploration of archaeological sites. \nTheme 2: Cultural Heritage and #Globalisation\nThis theme will revolve around tangible and intangible cultural heritage (e.g. #architecture\, #art\, #clothes\, material #culture vs. #dance\, #music\, performance)\, its #conservation and #restoration as well as cultural #tourism. \nTheme 3: Digital Media for Culture: #Communication & #Education\nThis theme will include the use of digital #media related to archaeology\, architecture\, art\, cultural heritage\, #history\, and related sciences (virtual #museum\, #socialmedia\, #games). \nTo submit your work please send an email to schgarchtalk@gmail.com with following information: \n1. Your CV\n2. Title and format of your proposed work\n3. Abstract of your work in no more than 300 words \nFormat:\nEach participant will have 10 minutes to present his work as a PowerPoint presentation/ Live Video or via different media. These talks will be followed by a discussion/Q&A\, involving the presenters and their chosen topics. \nImportant Dates:\nReceiving submissions from Wednesday\, December 01\, 2021 until 11:59pm (GMT+1) on August 31st\, 2022.\nEveryone will be notified of their submission’s status by mid-September\, 2022–if you don’t hear back by then\, send us an email or DM us on Twitter | Instagram | Facebook. \nNote: All submissions are presented as anonymous when reviewed and voted on by our review Committee. Students’ race\, ethnicity\, gender\, and/or sexual orientation will never affect the status of their submission; all are welcome to submit. The Director Academics reserves the right to reject submissions for reasons that violate our Non-Discrimination Policy. \nIf your submission does not follow our content/copyright guidelines\, we can’t accept it. We’re all in the same boat of adjusting to this new system so if you have any questions or concerns\, email us. \nWe are looking forward to your submissions! \nAcademic Team\, SCHG (Global)
URL:https://www.archaeological.org/event/archtalk/
LOCATION:Online Global Event\, Pakistan
CATEGORIES:Education,Other Event
ATTACH;FMTTYPE=image/jpeg:https://www.archaeological.org/wp-content/uploads/2022/01/Promo-Launching.jpg
ORGANIZER;CN="Ms. Theresa Zischkin":MAILTO:schgarchtalk@gmail.com
GEO:30.375321;69.345116
END:VEVENT
END:VCALENDAR