BEGIN:VCALENDAR
VERSION:2.0
PRODID:-//Archaeological Institute of America - ECPv6.15.20//NONSGML v1.0//EN
CALSCALE:GREGORIAN
METHOD:PUBLISH
X-WR-CALNAME:Archaeological Institute of America
X-ORIGINAL-URL:https://www.archaeological.org
X-WR-CALDESC:Events for Archaeological Institute of America
REFRESH-INTERVAL;VALUE=DURATION:PT1H
X-Robots-Tag:noindex
X-PUBLISHED-TTL:PT1H
BEGIN:VTIMEZONE
TZID:America/New_York
BEGIN:DAYLIGHT
TZOFFSETFROM:-0500
TZOFFSETTO:-0400
TZNAME:EDT
DTSTART:20220313T070000
END:DAYLIGHT
BEGIN:STANDARD
TZOFFSETFROM:-0400
TZOFFSETTO:-0500
TZNAME:EST
DTSTART:20221106T060000
END:STANDARD
BEGIN:DAYLIGHT
TZOFFSETFROM:-0500
TZOFFSETTO:-0400
TZNAME:EDT
DTSTART:20230312T070000
END:DAYLIGHT
BEGIN:STANDARD
TZOFFSETFROM:-0400
TZOFFSETTO:-0500
TZNAME:EST
DTSTART:20231105T060000
END:STANDARD
BEGIN:DAYLIGHT
TZOFFSETFROM:-0500
TZOFFSETTO:-0400
TZNAME:EDT
DTSTART:20240310T070000
END:DAYLIGHT
BEGIN:STANDARD
TZOFFSETFROM:-0400
TZOFFSETTO:-0500
TZNAME:EST
DTSTART:20241103T060000
END:STANDARD
END:VTIMEZONE
BEGIN:VEVENT
DTSTART;TZID=America/New_York:20230311T110000
DTEND;TZID=America/New_York:20230311T160000
DTSTAMP:20260421T123337
CREATED:20221205T182850Z
LAST-MODIFIED:20221205T182850Z
UID:10006784-1678532400-1678550400@www.archaeological.org
SUMMARY:Culture Fest! Celebrate Woman Artists and Creatives
DESCRIPTION:This full-day festival celebrates women and femme artists from around the world\, featuring art and performances from some of the region’s best female artists and creatives. Honor the power and diversity of feminine creativity with a day of activities the whole family can enjoy\, like live performances\, hands-on workshops\, storytelling\, and an artist marketplace.
URL:https://www.archaeological.org/event/culture-fest-celebrate-woman-artists-and-creatives/
LOCATION:Penn Museum\, 3260 South Street\, Philadelphia\, PA\, 19104\, United States
CATEGORIES:Other Event
ATTACH;FMTTYPE=image/jpeg:https://www.archaeological.org/wp-content/uploads/2022/12/culturefest-women-lg.jpg
ORGANIZER;CN="Tena Thomason":MAILTO:tenat@upenn.edu
GEO:39.949402;-75.191601
X-APPLE-STRUCTURED-LOCATION;VALUE=URI;X-ADDRESS=Penn Museum 3260 South Street Philadelphia PA 19104 United States;X-APPLE-RADIUS=500;X-TITLE=3260 South Street:geo:-75.191601,39.949402
END:VEVENT
BEGIN:VEVENT
DTSTART;TZID=America/New_York:20230312T140000
DTEND;TZID=America/New_York:20230312T160000
DTSTAMP:20260421T123337
CREATED:20221205T182946Z
LAST-MODIFIED:20221205T182946Z
UID:10006785-1678629600-1678636800@www.archaeological.org
SUMMARY:Second Sunday Culture Films: Fugetsu-Do & Morkovcha
DESCRIPTION:The 2022-2023 culture film series Folklife\, a joyful celebration of local folkways: writing\, storytelling\, visual arts\, handcrafts\, cuisine\, and other forms of expression which make places and people distinctive and create bridges to connect them with other cultures around the world. \nPlease stay for a catered reception to celebrate the season finale. \nFugetsu-Do\nDir. Kaia Rose (2021)\nA small sweetshop in Little Tokyo\, Los Angeles carries on the culinary tradition of mochi and other pastel confections\, anchoring a Japanese-American community over three generations.\nMorkovcha \nDir. Lydiya Khan (2021)\nA special carrot salad created by a hybrid of three cultures\, Korean\, Russian and Uzbeki\, provides a premise to delve into this particular microculture created by an accident of history. \nSpeakers: Presented by Rob Buscher\, Penn Asian American Studies\, in conversation with the filmmakers
URL:https://www.archaeological.org/event/second-sunday-culture-films-fugetsu-do-morkovcha/
LOCATION:Penn Museum\, 3260 South Street\, Philadelphia\, PA\, 19104\, United States
CATEGORIES:Other Event
ATTACH;FMTTYPE=image/jpeg:https://www.archaeological.org/wp-content/uploads/2022/12/film-morkovcha-lg.jpg
ORGANIZER;CN="Tena Thomason":MAILTO:tenat@upenn.edu
GEO:39.949402;-75.191601
X-APPLE-STRUCTURED-LOCATION;VALUE=URI;X-ADDRESS=Penn Museum 3260 South Street Philadelphia PA 19104 United States;X-APPLE-RADIUS=500;X-TITLE=3260 South Street:geo:-75.191601,39.949402
END:VEVENT
BEGIN:VEVENT
DTSTART;TZID=America/New_York:20230318T130000
DTEND;TZID=America/New_York:20230318T160000
DTSTAMP:20260421T123337
CREATED:20230313T161529Z
LAST-MODIFIED:20230313T164045Z
UID:10006827-1679144400-1679155200@www.archaeological.org
SUMMARY:Let’s Draw: HMSC Sketching Weekend
DESCRIPTION:The Harvard Museums of Science & Culture provide inspiration for all levels of artists and curious visitors. Elevate your own creative process by trying your hand at sketching this weekend. Meet HMSC Volunteer Sketching Facilitators in the galleries and learn what motivates them to draw in the museums. Then take time to explore\, slow down\, and sketch an object in the galleries of the Harvard Museum of Natural History\, Peabody Museum\, and Harvard Museum of the Ancient Near East (Sunday only) with your own sketchbook or drawing materials from the museum. Share your favorite museum-inspired drawing for everyone to admire. \nFree with regular museum admission. Free event parking starting at noon at the 52 Oxford Street Garage. Presented by Harvard Museums of Science & Culture.
URL:https://www.archaeological.org/event/lets-draw-hmsc-sketching-weekend/2023-03-18/
LOCATION:Peabody Museum of Archaeology & Ethnology\, 11 Divinity Avenue\, Cambridge\, MA\, 02138\, United States
CATEGORIES:Other Event
ATTACH;FMTTYPE=image/jpeg:https://www.archaeological.org/wp-content/uploads/2023/03/lets_draw_beetles-event.jpg
ORGANIZER;CN="HMSCPR":MAILTO:hmscpr@hmsc.harvard.edu
GEO:42.3782386;-71.1146697
X-APPLE-STRUCTURED-LOCATION;VALUE=URI;X-ADDRESS=Peabody Museum of Archaeology & Ethnology 11 Divinity Avenue Cambridge MA 02138 United States;X-APPLE-RADIUS=500;X-TITLE=11 Divinity Avenue:geo:-71.1146697,42.3782386
END:VEVENT
BEGIN:VEVENT
DTSTART;TZID=America/New_York:20230319T130000
DTEND;TZID=America/New_York:20230319T160000
DTSTAMP:20260421T123337
CREATED:20230313T161529Z
LAST-MODIFIED:20230313T164045Z
UID:10006828-1679230800-1679241600@www.archaeological.org
SUMMARY:Let’s Draw: HMSC Sketching Weekend
DESCRIPTION:The Harvard Museums of Science & Culture provide inspiration for all levels of artists and curious visitors. Elevate your own creative process by trying your hand at sketching this weekend. Meet HMSC Volunteer Sketching Facilitators in the galleries and learn what motivates them to draw in the museums. Then take time to explore\, slow down\, and sketch an object in the galleries of the Harvard Museum of Natural History\, Peabody Museum\, and Harvard Museum of the Ancient Near East (Sunday only) with your own sketchbook or drawing materials from the museum. Share your favorite museum-inspired drawing for everyone to admire. \nFree with regular museum admission. Free event parking starting at noon at the 52 Oxford Street Garage. Presented by Harvard Museums of Science & Culture.
URL:https://www.archaeological.org/event/lets-draw-hmsc-sketching-weekend/2023-03-19/
LOCATION:Peabody Museum of Archaeology & Ethnology\, 11 Divinity Avenue\, Cambridge\, MA\, 02138\, United States
CATEGORIES:Other Event
ATTACH;FMTTYPE=image/jpeg:https://www.archaeological.org/wp-content/uploads/2023/03/lets_draw_beetles-event.jpg
ORGANIZER;CN="HMSCPR":MAILTO:hmscpr@hmsc.harvard.edu
GEO:42.3782386;-71.1146697
X-APPLE-STRUCTURED-LOCATION;VALUE=URI;X-ADDRESS=Peabody Museum of Archaeology & Ethnology 11 Divinity Avenue Cambridge MA 02138 United States;X-APPLE-RADIUS=500;X-TITLE=11 Divinity Avenue:geo:-71.1146697,42.3782386
END:VEVENT
BEGIN:VEVENT
DTSTART;TZID=America/New_York:20230328T150000
DTEND;TZID=America/New_York:20230328T153000
DTSTAMP:20260421T123337
CREATED:20230308T160408Z
LAST-MODIFIED:20230308T160408Z
UID:10006823-1680015600-1680017400@www.archaeological.org
SUMMARY:Gallery Talk: Digging up Ancient Samaria-Sebaste
DESCRIPTION:Explore a display about early 20th-century excavations of the ancient city of Samaria-Sebaste\, with curatorial fellow Caitlin Clerkin. You’ll learn how photographs and payroll records help us rewrite the history of archaeology—one that acknowledges the people behind the excavation of the objects on display. \nOur galleries are full of stories—this series of talks gives visitors a chance to hear the best ones! The talks highlight new works on view\, take a fresh look at old favorites\, investigate artists’ materials and techniques\, and reveal the latest discoveries by curators\, conservators\, fellows\, visiting artists\, technologists\, and other contributors. \nLed by:\nCaitlin Clerkin\, Frederick Randolph Grace Curatorial Fellow in Ancient Art
URL:https://www.archaeological.org/event/gallery-talk-digging-up-ancient-samaria-sebaste/
LOCATION:Harvard Art Museums\, 32 Quincy Street\, Cambridge\, MA\, 02138\, United States
CATEGORIES:Other Event
ATTACH;FMTTYPE=image/png:https://www.archaeological.org/wp-content/uploads/2023/03/St-Michael_900_600.png
GEO:42.374219;-71.114198
X-APPLE-STRUCTURED-LOCATION;VALUE=URI;X-ADDRESS=Harvard Art Museums 32 Quincy Street Cambridge MA 02138 United States;X-APPLE-RADIUS=500;X-TITLE=32 Quincy Street:geo:-71.114198,42.374219
END:VEVENT
BEGIN:VEVENT
DTSTART;TZID=America/New_York:20230330T170000
DTEND;TZID=America/New_York:20230330T210000
DTSTAMP:20260421T123337
CREATED:20230324T165246Z
LAST-MODIFIED:20230324T165311Z
UID:10006839-1680195600-1680210000@www.archaeological.org
SUMMARY:ArtsThursdays: Light Up the Museums!
DESCRIPTION:Join us for a free night at two of the Harvard Museums of Science & Culture. Enjoy handcrafted mocktails by CraftHouse Bartending and desserts in the galleries. Take some snaps in our photo booth\, or lounge around in our light-up chairs while participating in museum-themed crafts. Food and drinks are complimentary\, but supplies are limited so come early and stay late! \nArtsThursdays is a university-wide initiative supported by Harvard University Committee on the Arts (HUCA). This program is part of HMSC’s 10-Year Anniversary celebration. \nHarvard Museum of Natural History\nVisit the new exhibits Swimming with Sharks and In Search of Thoreau’s Flowers\, as well as the world-famous Glass Flowers. Find your birthstone in the newly renovated mineral gallery\, see large tigers\, and view dinosaur fossils in the paleontology gallery. \nPeabody Museum of Archaeology & Ethnology\nExplore towering Maya sculptures in the Latin American galleries and discover the early days of American anthropology as shown at the 1893 Chicago World’s Fair. See nineteenth-century Plains Indian warrior art in an exhibit co-curated by Hunkpapa Lakota artist and tribal educator Butch Thunder Hawk. \nPhoto © Tony Rinaldo
URL:https://www.archaeological.org/event/artsthursdays-light-up-the-museums-free-event/
LOCATION:Peabody Museum of Archaeology and Ethnology\, 11 Divinity Avenue\, Cambridge\, MA\, 02138\, United States
CATEGORIES:Other Event
ATTACH;FMTTYPE=image/jpeg:https://www.archaeological.org/wp-content/uploads/2023/03/03-30-ArtThursdays-I-Heart-Science_TonyRinaldo_5154-detail.jpg
ORGANIZER;CN="Harvard Museums of Science &amp%3Bamp%3B Culture":MAILTO:hmscpr@hmsc.harvard.edu
GEO:42.377512;-71.1141269
X-APPLE-STRUCTURED-LOCATION;VALUE=URI;X-ADDRESS=Peabody Museum of Archaeology and Ethnology 11 Divinity Avenue Cambridge MA 02138 United States;X-APPLE-RADIUS=500;X-TITLE=11 Divinity Avenue:geo:-71.1141269,42.377512
END:VEVENT
BEGIN:VEVENT
DTSTART;TZID=America/New_York:20230331T170000
DTEND;TZID=America/New_York:20230331T220000
DTSTAMP:20260421T123337
CREATED:20221207T205227Z
LAST-MODIFIED:20221207T205227Z
UID:10006787-1680282000-1680300000@www.archaeological.org
SUMMARY:Up Late with the Sphinx
DESCRIPTION:Calling all kids and families! Have you ever wanted to explore the museum galleries after dark? Join us during Up Late with the Sphinx for an evening filled with games and gallery activities. Drop into a hands-on workshop and make something special to take home\, then finish your evening with a flashlight tour through the museum. Each ticket includes a special Penn Museum patch.
URL:https://www.archaeological.org/event/up-late-with-the-sphinx-2/
LOCATION:Penn Museum\, 3260 South Street\, Philadelphia\, PA\, 19104\, United States
CATEGORIES:Other Event
ATTACH;FMTTYPE=image/jpeg:https://www.archaeological.org/wp-content/uploads/2022/12/up-late.jpeg
ORGANIZER;CN="Tena Thomason":MAILTO:tenat@upenn.edu
GEO:39.949402;-75.191601
X-APPLE-STRUCTURED-LOCATION;VALUE=URI;X-ADDRESS=Penn Museum 3260 South Street Philadelphia PA 19104 United States;X-APPLE-RADIUS=500;X-TITLE=3260 South Street:geo:-75.191601,39.949402
END:VEVENT
END:VCALENDAR