BEGIN:VCALENDAR
VERSION:2.0
PRODID:-//Archaeological Institute of America - ECPv6.15.20//NONSGML v1.0//EN
CALSCALE:GREGORIAN
METHOD:PUBLISH
X-ORIGINAL-URL:https://www.archaeological.org
X-WR-CALDESC:Events for Archaeological Institute of America
REFRESH-INTERVAL;VALUE=DURATION:PT1H
X-Robots-Tag:noindex
X-PUBLISHED-TTL:PT1H
BEGIN:VTIMEZONE
TZID:America/Chicago
BEGIN:DAYLIGHT
TZOFFSETFROM:-0600
TZOFFSETTO:-0500
TZNAME:CDT
DTSTART:20210314T080000
END:DAYLIGHT
BEGIN:STANDARD
TZOFFSETFROM:-0500
TZOFFSETTO:-0600
TZNAME:CST
DTSTART:20211107T070000
END:STANDARD
BEGIN:DAYLIGHT
TZOFFSETFROM:-0600
TZOFFSETTO:-0500
TZNAME:CDT
DTSTART:20220313T080000
END:DAYLIGHT
BEGIN:STANDARD
TZOFFSETFROM:-0500
TZOFFSETTO:-0600
TZNAME:CST
DTSTART:20221106T070000
END:STANDARD
BEGIN:DAYLIGHT
TZOFFSETFROM:-0600
TZOFFSETTO:-0500
TZNAME:CDT
DTSTART:20230312T080000
END:DAYLIGHT
BEGIN:STANDARD
TZOFFSETFROM:-0500
TZOFFSETTO:-0600
TZNAME:CST
DTSTART:20231105T070000
END:STANDARD
END:VTIMEZONE
BEGIN:VEVENT
DTSTART;TZID=America/Chicago:20220228T173000
DTEND;TZID=America/Chicago:20220228T190000
DTSTAMP:20260424T085115
CREATED:20220107T145110Z
LAST-MODIFIED:20220107T145110Z
UID:10006258-1646069400-1646074800@www.archaeological.org
SUMMARY:Careers in Archaeology: Networking Event and Social Hour
DESCRIPTION:Join members and guests of the Archaeological Institute of America’s Iowa Society for a virtual conversation via Zoom about how to land a job in or related to archaeology. We will discuss different specializations as well as the types of preparation each typically requires. Hop around to different breakout rooms to meet with specialists and archaeologists. Topics include:\n— Iowa archaeology and cultural resource management (with State Archaeologist\, Dr. John Doershuk!)\n— Grad schools in archaeology: getting in and surviving\n— Alternative careers associated with archaeology\n— Publishing your first article and other early career advice\n— Finding a dig/project\nIf you already have a career in the field and would be interested in hosting a breakout room or lending your professional advice\, we strongly encourage you to attend! Those interested in hosting a room can contact the society president (debra-trusty@uiowa.edu).\nIf you aren’t interested in a career in archaeology but just love the topic\, we have a special room for you filled with trivia questions about world archaeology!\nPlease register in advance: https://uiowa.zoom.us/meeting/register/tJwoc-qspzotGNWPR2Jq0__ev7jfzLfjVqOa
URL:https://www.archaeological.org/event/careers-in-archaeology-networking-event-and-social-hour/
LOCATION:1061 Boston Post Road\, Rye\, New York\, 10580\, United States
CATEGORIES:Other Event
ORGANIZER;CN="Deb Trusty":MAILTO:debra-trusty@uiowa.edu
GEO:41.3140214;-105.5846008
X-APPLE-STRUCTURED-LOCATION;VALUE=URI;X-ADDRESS=1061 Boston Post Road Rye New York 10580 United States;X-APPLE-RADIUS=500;X-TITLE=1061 Boston Post Road:geo:-105.5846008,41.3140214
END:VEVENT
END:VCALENDAR