BEGIN:VCALENDAR
VERSION:2.0
PRODID:-//Archaeological Institute of America - ECPv6.15.20//NONSGML v1.0//EN
CALSCALE:GREGORIAN
METHOD:PUBLISH
X-WR-CALNAME:Archaeological Institute of America
X-ORIGINAL-URL:https://www.archaeological.org
X-WR-CALDESC:Events for Archaeological Institute of America
REFRESH-INTERVAL;VALUE=DURATION:PT1H
X-Robots-Tag:noindex
X-PUBLISHED-TTL:PT1H
BEGIN:VTIMEZONE
TZID:Europe/London
BEGIN:DAYLIGHT
TZOFFSETFROM:+0000
TZOFFSETTO:+0100
TZNAME:BST
DTSTART:20210328T010000
END:DAYLIGHT
BEGIN:STANDARD
TZOFFSETFROM:+0100
TZOFFSETTO:+0000
TZNAME:GMT
DTSTART:20211031T010000
END:STANDARD
BEGIN:DAYLIGHT
TZOFFSETFROM:+0000
TZOFFSETTO:+0100
TZNAME:BST
DTSTART:20220327T010000
END:DAYLIGHT
BEGIN:STANDARD
TZOFFSETFROM:+0100
TZOFFSETTO:+0000
TZNAME:GMT
DTSTART:20221030T010000
END:STANDARD
BEGIN:DAYLIGHT
TZOFFSETFROM:+0000
TZOFFSETTO:+0100
TZNAME:BST
DTSTART:20230326T010000
END:DAYLIGHT
BEGIN:STANDARD
TZOFFSETFROM:+0100
TZOFFSETTO:+0000
TZNAME:GMT
DTSTART:20231029T010000
END:STANDARD
END:VTIMEZONE
BEGIN:VEVENT
DTSTART;TZID=Europe/London:20221021T080000
DTEND;TZID=Europe/London:20221021T170000
DTSTAMP:20260421T201458
CREATED:20220114T135424Z
LAST-MODIFIED:20230830T144957Z
UID:10005886-1666339200-1666371600@www.archaeological.org
SUMMARY:ArchTalk
DESCRIPTION:To celebrate International Archaeology Day\, the Save Cultural Heritage Group has decided to launch the new format ArchTalk to bring together people from various fields and disciplines related to archaeology and cultural heritage\, and to have them share insights in their research as well as their work experience. \nTheme 1: Post-Pandemic Archaeology?\nThis theme will be\, among others\, about different disciplines of #archaeology\, archaeological fieldwork\, methodologies\, and the exploration of archaeological sites. \nTheme 2: Cultural Heritage and #Globalisation\nThis theme will revolve around tangible and intangible cultural heritage (e.g. #architecture\, #art\, #clothes\, material #culture vs. #dance\, #music\, performance)\, its #conservation and #restoration as well as cultural #tourism. \nTheme 3: Digital Media for Culture: #Communication & #Education\nThis theme will include the use of digital #media related to archaeology\, architecture\, art\, cultural heritage\, #history\, and related sciences (virtual #museum\, #socialmedia\, #games). \nTo submit your work please send an email to schgarchtalk@gmail.com with following information: \n1. Your CV\n2. Title and format of your proposed work\n3. Abstract of your work in no more than 300 words \nFormat:\nEach participant will have 10 minutes to present his work as a PowerPoint presentation/ Live Video or via different media. These talks will be followed by a discussion/Q&A\, involving the presenters and their chosen topics. \nImportant Dates:\nReceiving submissions from Wednesday\, December 01\, 2021 until 11:59pm (GMT+1) on August 31st\, 2022.\nEveryone will be notified of their submission’s status by mid-September\, 2022–if you don’t hear back by then\, send us an email or DM us on Twitter | Instagram | Facebook. \nNote: All submissions are presented as anonymous when reviewed and voted on by our review Committee. Students’ race\, ethnicity\, gender\, and/or sexual orientation will never affect the status of their submission; all are welcome to submit. The Director Academics reserves the right to reject submissions for reasons that violate our Non-Discrimination Policy. \nIf your submission does not follow our content/copyright guidelines\, we can’t accept it. We’re all in the same boat of adjusting to this new system so if you have any questions or concerns\, email us. \nWe are looking forward to your submissions! \nAcademic Team\, SCHG (Global)
URL:https://www.archaeological.org/event/archtalk/
LOCATION:Online Global Event\, Pakistan
CATEGORIES:Education,Other Event
ATTACH;FMTTYPE=image/jpeg:https://www.archaeological.org/wp-content/uploads/2022/01/Promo-Launching.jpg
ORGANIZER;CN="Ms. Theresa Zischkin":MAILTO:schgarchtalk@gmail.com
GEO:30.375321;69.345116
END:VEVENT
END:VCALENDAR