BEGIN:VCALENDAR
VERSION:2.0
PRODID:-//Archaeological Institute of America - ECPv6.15.20//NONSGML v1.0//EN
CALSCALE:GREGORIAN
METHOD:PUBLISH
X-WR-CALNAME:Archaeological Institute of America
X-ORIGINAL-URL:https://www.archaeological.org
X-WR-CALDESC:Events for Archaeological Institute of America
REFRESH-INTERVAL;VALUE=DURATION:PT1H
X-Robots-Tag:noindex
X-PUBLISHED-TTL:PT1H
BEGIN:VTIMEZONE
TZID:America/New_York
BEGIN:DAYLIGHT
TZOFFSETFROM:-0500
TZOFFSETTO:-0400
TZNAME:EDT
DTSTART:20220313T070000
END:DAYLIGHT
BEGIN:STANDARD
TZOFFSETFROM:-0400
TZOFFSETTO:-0500
TZNAME:EST
DTSTART:20221106T060000
END:STANDARD
BEGIN:DAYLIGHT
TZOFFSETFROM:-0500
TZOFFSETTO:-0400
TZNAME:EDT
DTSTART:20230312T070000
END:DAYLIGHT
BEGIN:STANDARD
TZOFFSETFROM:-0400
TZOFFSETTO:-0500
TZNAME:EST
DTSTART:20231105T060000
END:STANDARD
BEGIN:DAYLIGHT
TZOFFSETFROM:-0500
TZOFFSETTO:-0400
TZNAME:EDT
DTSTART:20240310T070000
END:DAYLIGHT
BEGIN:STANDARD
TZOFFSETFROM:-0400
TZOFFSETTO:-0500
TZNAME:EST
DTSTART:20241103T060000
END:STANDARD
END:VTIMEZONE
BEGIN:VEVENT
DTSTART;TZID=America/New_York:20230121T100000
DTEND;TZID=America/New_York:20230121T160000
DTSTAMP:20260421T171009
CREATED:20221205T175631Z
LAST-MODIFIED:20221205T175631Z
UID:10006182-1674295200-1674316800@www.archaeological.org
SUMMARY:Stolen Legacy: A Conversation with the Artist and Curator
DESCRIPTION:Adult Events \nIn partnership with internationally-renowned artist\, composer\, and educator Hannibal Lokumbe\, the Penn Museum presents Stolen Legacy\, a libretto and musical commentary on the removal of art from the African continent. This provocative piece responds to how\, in Lokumbe’s own words\, “the exchange of money for art created expressly for the spiritual maintenance of a tribe and/or nation can create a lasting physiological wound to the culture from which it was removed.” He adds that “nowhere is this more evident than in the case of African art.” This program is part of the Museum’s own reflective process about our institutional history\, which is tied to colonialist and racist narratives\, and our work to reconcile our past with restorative practices. \nBe a part of this ongoing conversation about the history of museums and about ethical stewardship of the legacy of the past. \nAs part of a multi-tiered experience that includes classroom visits and a free public performance\, join Hannibal Lokumbe\, composer/author of Stolen Legacy\, for a conversation about the the intersections of art\, the cultural legacy of colonialism\, and monetary exchange\, open to both University of Pennsylvania students and the general public at the Penn Museum on January 13 at 3 pm. Dr. Tukufu Zuberi\, Curator of our Africa Galleries and Lasry Family Professor of Race Relations in Penn’s Sociology Department\, will facilitate the discussion between the artist and the audience. \nAbout Hannibal Lokumbe \nClassic composer and jazz trumpeter Hannibal Lokumbe (né Marvin Peterson) has been celebrating and commemorating the African-American experience through music and words for over four decades. Lokumbe’s work has been commissioned and performed by symphonies and orchestras across the country\, including the Philadelphia Chamber Orchestra\, the Detroit Symphony Orchestra\, the New Jersey Symphony Orchestra \, and the Philadelphia Orchestra. His oratorio “African Portraits” has been performed over two hundred times by orchestras across America since its Carnegie Hall debut in 1990\, and was recorded with the Chicago Symphony Orchestra under the direction of Daniel Barenboim. He has received numerous fellowships and awards\, including from the NEA\, and is a Lifetime Inductee to the Harlem Jazz Hall of Fame.
URL:https://www.archaeological.org/event/stolen-legacy-a-conversation-with-the-artist-and-curator-2/
LOCATION:TN
CATEGORIES:Other Event
ATTACH;FMTTYPE=image/jpeg:https://www.archaeological.org/wp-content/uploads/2022/12/cf-lny-lg.jpg
ORGANIZER;CN="Tena Thomason":MAILTO:tenat@upenn.edu
END:VEVENT
END:VCALENDAR