BEGIN:VCALENDAR
VERSION:2.0
PRODID:-//Archaeological Institute of America - ECPv6.15.20//NONSGML v1.0//EN
CALSCALE:GREGORIAN
METHOD:PUBLISH
X-ORIGINAL-URL:https://www.archaeological.org
X-WR-CALDESC:Events for Archaeological Institute of America
REFRESH-INTERVAL;VALUE=DURATION:PT1H
X-Robots-Tag:noindex
X-PUBLISHED-TTL:PT1H
BEGIN:VTIMEZONE
TZID:America/New_York
BEGIN:DAYLIGHT
TZOFFSETFROM:-0500
TZOFFSETTO:-0400
TZNAME:EDT
DTSTART:20240310T070000
END:DAYLIGHT
BEGIN:STANDARD
TZOFFSETFROM:-0400
TZOFFSETTO:-0500
TZNAME:EST
DTSTART:20241103T060000
END:STANDARD
BEGIN:DAYLIGHT
TZOFFSETFROM:-0500
TZOFFSETTO:-0400
TZNAME:EDT
DTSTART:20250309T070000
END:DAYLIGHT
BEGIN:STANDARD
TZOFFSETFROM:-0400
TZOFFSETTO:-0500
TZNAME:EST
DTSTART:20251102T060000
END:STANDARD
BEGIN:DAYLIGHT
TZOFFSETFROM:-0500
TZOFFSETTO:-0400
TZNAME:EDT
DTSTART:20260308T070000
END:DAYLIGHT
BEGIN:STANDARD
TZOFFSETFROM:-0400
TZOFFSETTO:-0500
TZNAME:EST
DTSTART:20261101T060000
END:STANDARD
END:VTIMEZONE
BEGIN:VEVENT
DTSTART;TZID=America/New_York:20251018T100000
DTEND;TZID=America/New_York:20251018T130000
DTSTAMP:20260423T125806
CREATED:20250908T152430Z
LAST-MODIFIED:20250908T152430Z
UID:10008551-1760781600-1760792400@www.archaeological.org
SUMMARY:Zine Time Machine
DESCRIPTION:Come along to Avebury House to learn more about the history of Ōtautahi Christchurch through an archaeology-inspired zine making workshop. This event showcases stories of the past through archaeological artefacts that have been uncovered in Christchurch over the last decade. \nThese stories – and artefacts – will be reimagined and their stories retold through the twenty-first century past-time of zine making\, utilising art and creative practice to bring nineteenth century stories into the present day. \nWe will have artefacts on display\, with an archaeologist available to answer all your questions. \nAn art educator will also be on hand to help with techniques and designs\, along with coloured papers\, pens\, pencils\, crayons\, and glue to make your very own history-inspired zine\, which you are welcome to take home at the end of the day.
URL:https://www.archaeological.org/event/zine-time-machine/
LOCATION:Avebury House\, 9 Eveleyn Couzins Avenue\, Christchurch\, New Zealand
CATEGORIES:International Archaeology Day,Workshop
ATTACH;FMTTYPE=image/jpeg:https://www.archaeological.org/wp-content/uploads/2025/09/IMG_0043-rotated.jpg
ORGANIZER;CN="Christchurch Archaeology Project":MAILTO:info@christchurcharchaeology.org
GEO:-43.5199755;172.6602843
X-APPLE-STRUCTURED-LOCATION;VALUE=URI;X-ADDRESS=Avebury House 9 Eveleyn Couzins Avenue Christchurch New Zealand;X-APPLE-RADIUS=500;X-TITLE=9 Eveleyn Couzins Avenue:geo:172.6602843,-43.5199755
END:VEVENT
END:VCALENDAR