BEGIN:VCALENDAR
VERSION:2.0
PRODID:-//Archaeological Institute of America - ECPv6.15.20//NONSGML v1.0//EN
CALSCALE:GREGORIAN
METHOD:PUBLISH
X-WR-CALNAME:Archaeological Institute of America
X-ORIGINAL-URL:https://www.archaeological.org
X-WR-CALDESC:Events for Archaeological Institute of America
REFRESH-INTERVAL;VALUE=DURATION:PT1H
X-Robots-Tag:noindex
X-PUBLISHED-TTL:PT1H
BEGIN:VTIMEZONE
TZID:America/New_York
BEGIN:DAYLIGHT
TZOFFSETFROM:-0500
TZOFFSETTO:-0400
TZNAME:EDT
DTSTART:20220313T070000
END:DAYLIGHT
BEGIN:STANDARD
TZOFFSETFROM:-0400
TZOFFSETTO:-0500
TZNAME:EST
DTSTART:20221106T060000
END:STANDARD
BEGIN:DAYLIGHT
TZOFFSETFROM:-0500
TZOFFSETTO:-0400
TZNAME:EDT
DTSTART:20230312T070000
END:DAYLIGHT
BEGIN:STANDARD
TZOFFSETFROM:-0400
TZOFFSETTO:-0500
TZNAME:EST
DTSTART:20231105T060000
END:STANDARD
BEGIN:DAYLIGHT
TZOFFSETFROM:-0500
TZOFFSETTO:-0400
TZNAME:EDT
DTSTART:20240310T070000
END:DAYLIGHT
BEGIN:STANDARD
TZOFFSETFROM:-0400
TZOFFSETTO:-0500
TZNAME:EST
DTSTART:20241103T060000
END:STANDARD
END:VTIMEZONE
BEGIN:VEVENT
DTSTART;TZID=America/New_York:20230221T193000
DTEND;TZID=America/New_York:20230221T210000
DTSTAMP:20260421T174709
CREATED:20230208T152157Z
LAST-MODIFIED:20230208T152157Z
UID:10006217-1677007800-1677013200@www.archaeological.org
SUMMARY:"Operation Amythyst: How the Ancient Egyptions Got Their Bling 4000 Years Ago"
DESCRIPTION:About the lecture:\nSome of the most stunning jewelry from Ancient Egypt is made of amethyst. Its craftsmanship\, opulence\, and design epitomize quality in the ancient world. Yet the skill in making this jewelry started long before the cutting and buffing of the raw stone. Procuring amethyst in the Eastern Desert is fraught with many more perils and problems than Nile Valley craftsmen experienced. As the director of the Wadi el-Hudi Expedition to the Eastern Desert\, Liszka leads a team that has studied the remains of these ancient desert expeditions and a team who has firsthand experience of many of the perils that the ancient explorers would have fought as well. This talk examines the extremes and dangers that thousands of Ancient Egyptians went to in order to acquire these beautiful purple stones for the Pharaoh’s jewels. By investigating the archaeology\, art\, and inscriptions from Wadi el-Hudi in the Egyptian Eastern Desert\, we navigate through the whole process of amethyst acquisition: from finding\, to mining\, and surviving in the dangers of the desert. \nWe will gather to watch this recorded lecture (4:49-43:36) together\, followed by Q and A with Dr. Liszka via Zoom. The recording has captions and also includes an ASL interpreter. \nAbout the speaker:\nKate Liszka is associate professor of history at California State University\, San Bernardino\, and director of the Wadi el-Hudi Expedition in Egypt. Her research focuses on ancient Nubians interacting with Egyptians and the Egyptian government. She specifically examines these issues as part of two projects. She is currently finishing a monograph on the Medjay\, a group of pastoral Nubians who may become an important group of soldiers in Egypt’s Middle and New Kingdoms (c. 2300-1000 BCE). Kate also directs the Wadi el-Hudi Expedition to the Eastern Desert. This archaeological and epigraphic project looks at ancient Egyptian mining activities\, their organization\, and individuals who participated in them\, especially in light of ancient ethnicities.
URL:https://www.archaeological.org/event/operation-amythyst-how-the-ancient-egyptions-got-their-bling-4000-years-ago/
LOCATION:Davidson College\, 315 North Main Street\, Semans Auditorium\, Belk Visual Arts Center\, Davidson\, NC\, 28036\, United States
CATEGORIES:Lecture
ATTACH;FMTTYPE=image/jpeg:https://www.archaeological.org/wp-content/uploads/2023/02/Kate-Liszka2.jpg
ORGANIZER;CN="Peter Krentz":MAILTO:pekrentz@davidson.edu
GEO:35.5015903;-80.8477875
X-APPLE-STRUCTURED-LOCATION;VALUE=URI;X-ADDRESS=Davidson College 315 North Main Street Semans Auditorium Belk Visual Arts Center Davidson NC 28036 United States;X-APPLE-RADIUS=500;X-TITLE=315 North Main Street\, Semans Auditorium\, Belk Visual Arts Center:geo:-80.8477875,35.5015903
END:VEVENT
END:VCALENDAR