BEGIN:VCALENDAR
VERSION:2.0
PRODID:-//Archaeological Institute of America - ECPv6.15.20//NONSGML v1.0//EN
CALSCALE:GREGORIAN
METHOD:PUBLISH
X-ORIGINAL-URL:https://www.archaeological.org
X-WR-CALDESC:Events for Archaeological Institute of America
REFRESH-INTERVAL;VALUE=DURATION:PT1H
X-Robots-Tag:noindex
X-PUBLISHED-TTL:PT1H
BEGIN:VTIMEZONE
TZID:America/New_York
BEGIN:DAYLIGHT
TZOFFSETFROM:-0500
TZOFFSETTO:-0400
TZNAME:EDT
DTSTART:20220313T070000
END:DAYLIGHT
BEGIN:STANDARD
TZOFFSETFROM:-0400
TZOFFSETTO:-0500
TZNAME:EST
DTSTART:20221106T060000
END:STANDARD
BEGIN:DAYLIGHT
TZOFFSETFROM:-0500
TZOFFSETTO:-0400
TZNAME:EDT
DTSTART:20230312T070000
END:DAYLIGHT
BEGIN:STANDARD
TZOFFSETFROM:-0400
TZOFFSETTO:-0500
TZNAME:EST
DTSTART:20231105T060000
END:STANDARD
BEGIN:DAYLIGHT
TZOFFSETFROM:-0500
TZOFFSETTO:-0400
TZNAME:EDT
DTSTART:20240310T070000
END:DAYLIGHT
BEGIN:STANDARD
TZOFFSETFROM:-0400
TZOFFSETTO:-0500
TZNAME:EST
DTSTART:20241103T060000
END:STANDARD
END:VTIMEZONE
BEGIN:VEVENT
DTSTART;TZID=America/New_York:20230412T190000
DTEND;TZID=America/New_York:20230412T200000
DTSTAMP:20260421T130014
CREATED:20230322T201809Z
LAST-MODIFIED:20230322T201809Z
UID:10006830-1681326000-1681329600@www.archaeological.org
SUMMARY:Convergence of Indigenous Knowledge and Western Science in Archaeology
DESCRIPTION:Convergence of Indigenous Knowledge and Western Science in Archaeology- NHAS\nPaul Pouliot\, Sag8mo & Denise Pouliot\, Sag8moskwa – Cowasuck Band of the Pennacook-Abenaki People\nExploring the integration of Indigenous knowledge and perspectives into archaeological field practices and analysis. REGISTER: bit.ly/2023NHASevent
URL:https://www.archaeological.org/event/convergence-of-indigenous-knowledge-and-western-science-in-archaeology/
CATEGORIES:Education
ATTACH;FMTTYPE=image/jpeg:https://www.archaeological.org/wp-content/uploads/2023/03/Paul-and-Denise.jpeg
ORGANIZER;CN="NHAS WebMaster":MAILTO:webmaster@nhas.org
END:VEVENT
END:VCALENDAR