BEGIN:VCALENDAR
VERSION:2.0
PRODID:-//Archaeological Institute of America - ECPv6.15.20//NONSGML v1.0//EN
CALSCALE:GREGORIAN
METHOD:PUBLISH
X-ORIGINAL-URL:https://www.archaeological.org
X-WR-CALDESC:Events for Archaeological Institute of America
REFRESH-INTERVAL;VALUE=DURATION:PT1H
X-Robots-Tag:noindex
X-PUBLISHED-TTL:PT1H
BEGIN:VTIMEZONE
TZID:America/New_York
BEGIN:DAYLIGHT
TZOFFSETFROM:-0500
TZOFFSETTO:-0400
TZNAME:EDT
DTSTART:20220313T070000
END:DAYLIGHT
BEGIN:STANDARD
TZOFFSETFROM:-0400
TZOFFSETTO:-0500
TZNAME:EST
DTSTART:20221106T060000
END:STANDARD
BEGIN:DAYLIGHT
TZOFFSETFROM:-0500
TZOFFSETTO:-0400
TZNAME:EDT
DTSTART:20230312T070000
END:DAYLIGHT
BEGIN:STANDARD
TZOFFSETFROM:-0400
TZOFFSETTO:-0500
TZNAME:EST
DTSTART:20231105T060000
END:STANDARD
BEGIN:DAYLIGHT
TZOFFSETFROM:-0500
TZOFFSETTO:-0400
TZNAME:EDT
DTSTART:20240310T070000
END:DAYLIGHT
BEGIN:STANDARD
TZOFFSETFROM:-0400
TZOFFSETTO:-0500
TZNAME:EST
DTSTART:20241103T060000
END:STANDARD
END:VTIMEZONE
BEGIN:VEVENT
DTSTART;TZID=America/New_York:20230413T190000
DTEND;TZID=America/New_York:20230413T200000
DTSTAMP:20260421T130007
CREATED:20230322T201535Z
LAST-MODIFIED:20230322T201535Z
UID:10006829-1681412400-1681416000@www.archaeological.org
SUMMARY:Where's the Beach?: A Decade of surveying Minong's Relict Nipissing Shoreline
DESCRIPTION:Where’s the Beach?: A Decade of surveying Minong’s Relict Nipissing Shoreline – NHAS\nSeth DePasquale\, Cultural Resource Manager\, Isle Royale National Park (Minong)\nSince 2012\, the cultural resource program at Isle Royale National Park has conducted focused archaeological survey work on the island’s Nipissing beach\, a relict Lake Superior shoreline dating to approximately 5\,000 BP. The 2022 field season celebrated 10 years of this annual research project\, which has yielded many interesting results. To date\, at least 150 relict beach locations have been surveyed island wide. Among them\, 40 new Archaic period sites have been identified. One of these sites is a previously undiscovered precontact mining district comprised of mining pits and at least five occupation locales. The boundaries of this district are still being delineated\, but we do know that features are spread across a 2.3 km distance. If nothing else\, the totality of our work showcases that the Archaic period on Minong was as active as any other\, perhaps even more so with respect to precontact copper mining activities. This presentation will discuss the methodologies and related findings associated with the Relict Shoreline Survey Project. REGISTER: bit.ly/2023NHASevent
URL:https://www.archaeological.org/event/wheres-the-beach-a-decade-of-surveying-minongs-relict-nipissing-shoreline/
CATEGORIES:Education
ATTACH;FMTTYPE=image/jpeg:https://www.archaeological.org/wp-content/uploads/2023/03/Late-Paleoindian-and-Early-Archaic.jpg
ORGANIZER;CN="NHAS WebMaster":MAILTO:webmaster@nhas.org
END:VEVENT
END:VCALENDAR