BEGIN:VCALENDAR
VERSION:2.0
PRODID:-//Archaeological Institute of America - ECPv6.15.20//NONSGML v1.0//EN
CALSCALE:GREGORIAN
METHOD:PUBLISH
X-WR-CALNAME:Archaeological Institute of America
X-ORIGINAL-URL:https://www.archaeological.org
X-WR-CALDESC:Events for Archaeological Institute of America
REFRESH-INTERVAL;VALUE=DURATION:PT1H
X-Robots-Tag:noindex
X-PUBLISHED-TTL:PT1H
BEGIN:VTIMEZONE
TZID:America/New_York
BEGIN:DAYLIGHT
TZOFFSETFROM:-0500
TZOFFSETTO:-0400
TZNAME:EDT
DTSTART:20220313T070000
END:DAYLIGHT
BEGIN:STANDARD
TZOFFSETFROM:-0400
TZOFFSETTO:-0500
TZNAME:EST
DTSTART:20221106T060000
END:STANDARD
BEGIN:DAYLIGHT
TZOFFSETFROM:-0500
TZOFFSETTO:-0400
TZNAME:EDT
DTSTART:20230312T070000
END:DAYLIGHT
BEGIN:STANDARD
TZOFFSETFROM:-0400
TZOFFSETTO:-0500
TZNAME:EST
DTSTART:20231105T060000
END:STANDARD
BEGIN:DAYLIGHT
TZOFFSETFROM:-0500
TZOFFSETTO:-0400
TZNAME:EDT
DTSTART:20240310T070000
END:DAYLIGHT
BEGIN:STANDARD
TZOFFSETFROM:-0400
TZOFFSETTO:-0500
TZNAME:EST
DTSTART:20241103T060000
END:STANDARD
END:VTIMEZONE
BEGIN:VEVENT
DTSTART;TZID=America/New_York:20230418T180000
DTEND;TZID=America/New_York:20230418T190000
DTSTAMP:20260421T043400
CREATED:20230407T201939Z
LAST-MODIFIED:20230407T201939Z
UID:10006843-1681840800-1681844400@www.archaeological.org
SUMMARY:Divine Mortals: Royal Ancestor Worship in Deir el-Medina (Hybrid Lecture)
DESCRIPTION:Yasmin El Shazly\, Deputy Director for Research and Programs\, American Research Center in Egypt \nThe Egyptian craftsmen and artists who created and decorated royal tombs during the New Kingdom period (ca. 1550–1070 BCE) lived in Deir el-Medina. Today\, this well-preserved village is a key source of information about the daily lives\, artistic practices\, and religious traditions of ancient Egyptians. Yasmin El Shazly will discuss the importance of ancestor worship in Deir el-Medina—particularly of Amenhotep I and his mother Ahmose-Nefertari. Prominently featured in homes\, artwork\, and tombs\, these two royal figures held important positions in the Egyptian “hierarchy of being” and exerted great influence over the daily lives of Deir el-Medina residents. \nFree event parking at the 52 Oxford Street Garage. \nPresented by the Harvard Museum of the Ancient Near East and the Harvard Museums of Science & Culture
URL:https://www.archaeological.org/event/divine-mortals-royal-ancestor-worship-in-deir-el-medina-hybrid-lecture/
LOCATION:Geological Lecture Hall\, 24 Oxford Street\, Cambridge\, MA\, 02138\, United States
CATEGORIES:Lecture
ATTACH;FMTTYPE=image/jpeg:https://www.archaeological.org/wp-content/uploads/2023/04/Yasmin_Portrait-detail.jpg
ORGANIZER;CN="Harvard Museums of Science &amp%3Bamp%3B Culture":MAILTO:hmscpr@hmsc.harvard.edu
GEO:42.3781869;-71.1154884
X-APPLE-STRUCTURED-LOCATION;VALUE=URI;X-ADDRESS=Geological Lecture Hall 24 Oxford Street Cambridge MA 02138 United States;X-APPLE-RADIUS=500;X-TITLE=24 Oxford Street:geo:-71.1154884,42.3781869
END:VEVENT
END:VCALENDAR