BEGIN:VCALENDAR
VERSION:2.0
PRODID:-//Archaeological Institute of America - ECPv6.15.20//NONSGML v1.0//EN
CALSCALE:GREGORIAN
METHOD:PUBLISH
X-ORIGINAL-URL:https://www.archaeological.org
X-WR-CALDESC:Events for Archaeological Institute of America
REFRESH-INTERVAL;VALUE=DURATION:PT1H
X-Robots-Tag:noindex
X-PUBLISHED-TTL:PT1H
BEGIN:VTIMEZONE
TZID:Europe/Prague
BEGIN:DAYLIGHT
TZOFFSETFROM:+0100
TZOFFSETTO:+0200
TZNAME:CEST
DTSTART:20220327T010000
END:DAYLIGHT
BEGIN:STANDARD
TZOFFSETFROM:+0200
TZOFFSETTO:+0100
TZNAME:CET
DTSTART:20221030T010000
END:STANDARD
BEGIN:DAYLIGHT
TZOFFSETFROM:+0100
TZOFFSETTO:+0200
TZNAME:CEST
DTSTART:20230326T010000
END:DAYLIGHT
BEGIN:STANDARD
TZOFFSETFROM:+0200
TZOFFSETTO:+0100
TZNAME:CET
DTSTART:20231029T010000
END:STANDARD
BEGIN:DAYLIGHT
TZOFFSETFROM:+0100
TZOFFSETTO:+0200
TZNAME:CEST
DTSTART:20240331T010000
END:DAYLIGHT
BEGIN:STANDARD
TZOFFSETFROM:+0200
TZOFFSETTO:+0100
TZNAME:CET
DTSTART:20241027T010000
END:STANDARD
END:VTIMEZONE
BEGIN:VEVENT
DTSTART;VALUE=DATE:20230821
DTEND;VALUE=DATE:20230822
DTSTAMP:20260421T193730
CREATED:20230822T134846Z
LAST-MODIFIED:20230822T134846Z
UID:10006945-1692576000-1692662399@www.archaeological.org
SUMMARY:Mezinárodní den archeologie 2023 - "Bohové a démoni" (IAD 2023 - Gods and Demons)
DESCRIPTION:A regular museum festival dedicated to the archeology of Bohemia. This year’s theme is religion in prehistoric times (Celts\, Germans\, Romans\, Slavs…)
URL:https://www.archaeological.org/event/mezinarodni-den-archeologie-2023-bohove-a-demoni-iad-2023-gods-and-demons/2023-08-21/
LOCATION:Oblastní muzeum a galerie v Mostě p.o.\, Čsl. armády 1360\, Most\, 434 01\, Czechia
CATEGORIES:International Archaeology Day
ATTACH;FMTTYPE=image/jpeg:https://www.archaeological.org/wp-content/uploads/2023/08/364037857_6714996668578913_5707162765804282996_n.jpg
ORGANIZER;CN="Ji%C5%99%C3%AD %C5%A0lajsna":MAILTO:slajsna.j@omgm.cz
GEO:50.5173771;13.638918
X-APPLE-STRUCTURED-LOCATION;VALUE=URI;X-ADDRESS=Oblastní muzeum a galerie v Mostě p.o. Čsl. armády 1360 Most 434 01 Czechia;X-APPLE-RADIUS=500;X-TITLE=Čsl. armády 1360:geo:13.638918,50.5173771
END:VEVENT
END:VCALENDAR